BEGIN:VCALENDAR
VERSION:2.0
PRODID:-//Prospects - ECPv5.14.1//NONSGML v1.0//EN
CALSCALE:GREGORIAN
METHOD:PUBLISH
X-WR-CALNAME:Prospects
X-ORIGINAL-URL:https://prospectsfoundation.org.uk
X-WR-CALDESC:Events for Prospects
BEGIN:VTIMEZONE
TZID:Europe/London
BEGIN:DAYLIGHT
TZOFFSETFROM:+0000
TZOFFSETTO:+0100
TZNAME:BST
DTSTART:20240331T010000
END:DAYLIGHT
BEGIN:STANDARD
TZOFFSETFROM:+0100
TZOFFSETTO:+0000
TZNAME:GMT
DTSTART:20241027T010000
END:STANDARD
END:VTIMEZONE
BEGIN:VEVENT
DTSTART;TZID=Europe/London:20241017T100000
DTEND;TZID=Europe/London:20241017T150000
DTSTAMP:20260422T023255
CREATED:20240930T122029Z
LAST-MODIFIED:20240930T122029Z
UID:12784-1729159200-1729177200@prospectsfoundation.org.uk
SUMMARY:Rushton House - Hyndburn's Woodlands
DESCRIPTION:Join Hyndburn’s Woodlands Officer Brandon for weekly practical conservation sessions. This week\, we will be at Rushton House Farm carrying out some hedgerow maintenance. Tasks include using hand tools to free up the hedgerow to promote better growth next year. Secondary tasks include cutting back the pathway and making repairs to the dead hedge. \nTools\, gloves and PPE will be provided. Please wear sturdy boots\, long sleeves and full length trousers as we may be working around brambles and nettles. Waterproofs may be needed\, depending on the weather. Please remember to bring spare water this activity can be quite demanding. \nWe will be meeting along Broadfield\, BB5 3SA (Oswaldtwistle\, just before the Chick Inn Farm Shop). Staff will be in orange high-vis. There is on-street parking available. \nTo find out more or confirm your attendance\, please contact Brandon at brandon.cherry@prospectsfoundation.org.uk or 07733 840842
URL:https://prospectsfoundation.org.uk/event/rushton-house-hyndburns-woodlands/
LOCATION:Rushton House Farm\, Broadfield/Rough Hay Lane\, Oswaldtwistle\, BB5 3SF\, United Kingdom
CATEGORIES:Health and wellbeing,Volunteering,Woodlands
ATTACH;FMTTYPE=image/jpeg:https://prospectsfoundation.org.uk/wp-content/uploads/2024/09/IMG_20240319_121139.jpg
ORGANIZER;CN="Brandon%20Cherry":MAILTO:brandon.cherry@prospectsfoundation.org.uk
END:VEVENT
BEGIN:VEVENT
DTSTART;TZID=Europe/London:20241017T100000
DTEND;TZID=Europe/London:20241017T130000
DTSTAMP:20260422T023255
CREATED:20241008T082617Z
LAST-MODIFIED:20241008T082617Z
UID:12847-1729159200-1729170000@prospectsfoundation.org.uk
SUMMARY:Meadow Maintenance at Brookside - Planting Yellow Rattle!
DESCRIPTION:Join our Brookside Development Office Alice for an additional meadow restoration session! Much of the rare and valuable wildflower meadow habitat on site has degraded\, but we are working to restore them to their former glory. \nThis is a multi stage project\, and the first task is to cut back the overgrown grasses and remove the cuttings\, ready for seeds to be planted in Spring. We will also be planting yellow rattle this week\, which will help reduce the vigour of the grasses. \nWe meet at the Noticeboard by the Stanhill Road entrance to the site at 10am. See the Map below for a visual guide. \n \nAll are welcome but under 18s must be supervised by an adult. \nWaterproofs\, boots\, and sturdy clothes are highly recommended. \nTo find out more or confirm your attendance\, please contact Alice at alice.pooley@prospectsfoundation.org.uk\, telephone 01254 230348\, or call into the Prospects office at 54 Broadway\, Accrington\, BB5 1EW.
URL:https://prospectsfoundation.org.uk/event/meadow-maintenance-at-brookside-planting-yellow-rattle-2/
LOCATION:Brookside\, Stanhill Road\, Oswaldtwistle\, BB5 4PP
CATEGORIES:Conservation,Health and wellbeing,Volunteering,Walking,Woodlands
ATTACH;FMTTYPE=image/png:https://prospectsfoundation.org.uk/wp-content/uploads/2024/09/Poster-Template.png
ORGANIZER;CN="Alice%20Pooley":MAILTO:alice.pooley@prospectsfoundation.org.uk
END:VEVENT
END:VCALENDAR