BEGIN:VCALENDAR
VERSION:2.0
PRODID:-//Prospects - ECPv5.14.1//NONSGML v1.0//EN
CALSCALE:GREGORIAN
METHOD:PUBLISH
X-WR-CALNAME:Prospects
X-ORIGINAL-URL:https://prospectsfoundation.org.uk
X-WR-CALDESC:Events for Prospects
BEGIN:VTIMEZONE
TZID:Europe/London
BEGIN:DAYLIGHT
TZOFFSETFROM:+0000
TZOFFSETTO:+0100
TZNAME:BST
DTSTART:20250330T010000
END:DAYLIGHT
BEGIN:STANDARD
TZOFFSETFROM:+0100
TZOFFSETTO:+0000
TZNAME:GMT
DTSTART:20251026T010000
END:STANDARD
END:VTIMEZONE
BEGIN:VEVENT
DTSTART;TZID=Europe/London:20251207T110000
DTEND;TZID=Europe/London:20251207T150000
DTSTAMP:20260423T073938
CREATED:20251128T143933Z
LAST-MODIFIED:20251128T143933Z
UID:15886-1765105200-1765119600@prospectsfoundation.org.uk
SUMMARY:Forest Fun Day @Bullough Park
DESCRIPTION:𝗙𝗢𝗥𝗘𝗦𝗧 𝗙𝗨𝗡 𝗗𝗔𝗬: 𝗕𝘂𝗹𝗹𝗼𝘂𝗴𝗵 𝗣𝗮𝗿𝗸’𝘀 𝗪𝗼𝗼𝗱𝗹𝗮𝗻𝗱 𝗖𝗿𝗲𝗮𝘁𝗶𝗼𝗻 𝗖𝗲𝗹𝗲𝗯𝗿𝗮𝘁𝗶𝗼𝗻!\n\n\nJoin us at Bullough Park on Sunday 7th December\, 11am – 3pm and be part of a special day of tree planting and festivities!\n\n\nBullough Park is transforming thanks to a woodland creation scheme funded by the Forestry Commission\, with new paths\, steps\, and a large pond already in place. In the new year\, there will be a wildflower mini-meadow\, benches\, and new interpretation panels to make the park even more beautiful and accessible for everyone.\n\n\n\nThis December\, we’ll be planting over 3\,500 new trees\, and we’d love for you to help us!\n\n\n\nWhat’s happening at the FOREST FUN DAY:\n\n𝗧𝗿𝗲𝗲 𝗽𝗹𝗮𝗻𝘁𝗶𝗻𝗴 for all ages\nA variety of 𝘄𝗼𝗼𝗱𝗹𝗮𝗻𝗱 𝗰𝗿𝗮𝗳𝘁𝘀\, including making your own reindeer from locally coppiced hazel!\n Bury a ‘𝗙𝘂𝘁𝘂𝗿𝗲 𝗙𝗼𝗿𝗲𝘀𝘁’ 𝗧𝗶𝗺𝗲 𝗖𝗮𝗽𝘀𝘂𝗹𝗲 with wishes\, drawings\, and predictions for the next 25 years\n 𝗙𝗥𝗘𝗘 𝗵𝗼𝘁 𝗰𝗵𝗼𝗰𝗼𝗹𝗮𝘁𝗲\, 𝗰𝗼𝗳𝗳𝗲𝗲\, 𝘁𝗲𝗮 & 𝗵𝗼𝘁 𝘃𝗶𝗺𝘁𝗼 from the brilliant Backup Charity van to keep everyone warm\n Our friends at The Globe Bowling Club are kindly opening their doors for volunteers to use their toilets\n\n\n\nGet your wellies on\, plant a tree\, make memories\, and help grow the future of Bullough Park! \n\n\n\nEnter from Bullough Park Car Park\, Willows Lane ‘Top Shop’ or Woodview Drive and follow direction signs to the event\, look out for a big green gazebo with the Prospects Foundation logo!\n\n\n\nIf you have any questions about this event\, please email helen.earnshaw@prospectsfoundation.org.uk\n\n\n\nProject Partners: Prospects Foundation\, Hyndburn Borough Council\, and Proffitts – Investing in Communities
URL:https://prospectsfoundation.org.uk/event/forest-fun-day-bullough-park/
LOCATION:Bullough Park\, 2 Park Cres\, Accrington\, Lancashire\, BB5 0LW\, United Kingdom
CATEGORIES:Family,Health and wellbeing,Nature Crafts,Outdoor Learning,Traditional Crafts,Volunteering,Woodlands
ATTACH;FMTTYPE=image/jpeg:https://prospectsfoundation.org.uk/wp-content/uploads/2025/11/583201107_1225891436229932_3798042997271969240_n.jpg
ORGANIZER;CN="Helen%20Earnshaw%20-%20Community%20TreeACTION%20Officer":MAILTO:helen.earnshaw@prospectsfoundation.org.uk
END:VEVENT
END:VCALENDAR