BEGIN:VCALENDAR
VERSION:2.0
PRODID:-//Prospects - ECPv5.14.1//NONSGML v1.0//EN
CALSCALE:GREGORIAN
METHOD:PUBLISH
X-WR-CALNAME:Prospects
X-ORIGINAL-URL:https://prospectsfoundation.org.uk
X-WR-CALDESC:Events for Prospects
BEGIN:VTIMEZONE
TZID:Europe/London
BEGIN:DAYLIGHT
TZOFFSETFROM:+0000
TZOFFSETTO:+0100
TZNAME:BST
DTSTART:20260329T010000
END:DAYLIGHT
BEGIN:STANDARD
TZOFFSETFROM:+0100
TZOFFSETTO:+0000
TZNAME:GMT
DTSTART:20261025T010000
END:STANDARD
END:VTIMEZONE
BEGIN:VEVENT
DTSTART;TZID=Europe/London:20260113T100000
DTEND;TZID=Europe/London:20260113T150000
DTSTAMP:20260423T080033
CREATED:20251217T121602Z
LAST-MODIFIED:20251217T121602Z
UID:16056-1768298400-1768316400@prospectsfoundation.org.uk
SUMMARY:Hyndburn's Woodlands - Woodnook Vale
DESCRIPTION:Join Hyndburn’s Woodlands Officer Brandon for weekly practical conservation sessions. \nThis week we will be at Woodnook Vale for an exciting session! Last year we started the work to repair and improve the Willow arch onsite. We will be continuing with this work. \n\nTasks include: Working from height (small stepladder)\, weaving willow stems back into the arch to create a structure\, utilising hand tools like loppers and secateurs. \nWe will be meeting at the Nuttall Street entrance to the site\, BB5 2HW (Just across from Pappous Greek Grill on Google Maps) \n\nTo find out more or confirm your attendance\, please contact Brandon at brandon.cherry@prospectsfoundation.org.uk or 07733 840842
URL:https://prospectsfoundation.org.uk/event/hyndburns-woodlands-woodnook-vale-2/
LOCATION:Woodnook Vale LNR – Nuttall Street\, 115 Nuttall Street\, Accrington
CATEGORIES:Conservation,Health and wellbeing,Outdoor Learning,Volunteering,Woodlands
ATTACH;FMTTYPE=image/jpeg:https://prospectsfoundation.org.uk/wp-content/uploads/2025/12/IMG_20241003_145204.jpg
ORGANIZER;CN="Brandon%20Cherry":MAILTO:brandon.cherry@prospectsfoundation.org.uk
END:VEVENT
END:VCALENDAR