BEGIN:VCALENDAR
VERSION:2.0
PRODID:-//Prospects - ECPv5.14.1//NONSGML v1.0//EN
CALSCALE:GREGORIAN
METHOD:PUBLISH
X-WR-CALNAME:Prospects
X-ORIGINAL-URL:https://prospectsfoundation.org.uk
X-WR-CALDESC:Events for Prospects
BEGIN:VTIMEZONE
TZID:Europe/London
BEGIN:DAYLIGHT
TZOFFSETFROM:+0000
TZOFFSETTO:+0100
TZNAME:BST
DTSTART:20250330T010000
END:DAYLIGHT
BEGIN:STANDARD
TZOFFSETFROM:+0100
TZOFFSETTO:+0000
TZNAME:GMT
DTSTART:20251026T010000
END:STANDARD
END:VTIMEZONE
BEGIN:VEVENT
DTSTART;TZID=Europe/London:20250528T100000
DTEND;TZID=Europe/London:20250528T150000
DTSTAMP:20260422T125420
CREATED:20250429T134608Z
LAST-MODIFIED:20250429T134652Z
UID:14301-1748426400-1748444400@prospectsfoundation.org.uk
SUMMARY:Huncoat East - Hyndburn's Woodlands
DESCRIPTION:Join Hyndburn’s Woodlands Officer Brandon for weekly practical conservation sessions. \nThis session is part of a series that will assess the biological value of each of the 11 woodlands managed through the project. \n\nIf you are looking to get some experience in carrying out surveying work\, or you are just looking to improve you tree ID knowledge\, then look no further! \n\nTools\, gloves and PPE will be provided. Please wear sturdy boots\, long sleeves and full length trousers. \nWe will be meeting at the Layby on Altham Lane\, BB5 5US (Just after the motorway bridge). There is parking available in the layby. Staff will be in orange hi-vis. \nTo find out more or confirm your attendance\, please contact Brandon at brandon.cherry@prospectsfoundation.org.uk or 07733 840842
URL:https://prospectsfoundation.org.uk/event/huncoat-east-hyndburns-woodlands-8/
LOCATION:Huncoat East Woodland\, 27 Altham Lane\, Accrington\, Lancashire\, BB5 5UR\, United Kingdom
CATEGORIES:Conservation,Health and wellbeing,Volunteering,Woodlands
ATTACH;FMTTYPE=image/jpeg:https://prospectsfoundation.org.uk/wp-content/uploads/2025/04/IMG_20240730_131910.jpg
ORGANIZER;CN="Brandon%20Cherry":MAILTO:brandon.cherry@prospectsfoundation.org.uk
END:VEVENT
BEGIN:VEVENT
DTSTART;TZID=Europe/London:20250528T100000
DTEND;TZID=Europe/London:20250528T130000
DTSTAMP:20260422T125420
CREATED:20250430T153123Z
LAST-MODIFIED:20250522T162133Z
UID:14342-1748426400-1748437200@prospectsfoundation.org.uk
SUMMARY:Balsam Bashing - Hyndburn's Nature Reserve Volunteers session @Woodnook Vale LNR
DESCRIPTION:Join us for our new Hyndburn’s Nature Reserves project! There will be fortnightly conservation volunteers sessions at Woodnook Vale LNR\, Wednesdays. Come along to learn new skills\, meet people\, keep fit and help wildlife! \nTo express your interest or find out more\, email robert.gabryszak@prospectsfoundation.org.uk\, telephone 01254 230348 or call into the Prospects office at 54 Broadway\, Accrington \n 
URL:https://prospectsfoundation.org.uk/event/balsam-bashing-hyndburns-nature-reserve-volunteers-session-woodnook-vale-lnr/
LOCATION:Woodnook Vale LNR – Hollins Ln\, 165 Hollins Lane\, Accrington\, BB5 2QY
CATEGORIES:Conservation,Health and wellbeing,Peel Park and the Coppice LNR,Volunteering
ATTACH;FMTTYPE=image/png:https://prospectsfoundation.org.uk/wp-content/uploads/2024/11/hollins.png
ORGANIZER;CN="Robert%20Gabryszak%20-%20LNR%20Project%20Officer":MAILTO:robert.gabryszak@prospectsfoundation.org.uk
END:VEVENT
END:VCALENDAR