BEGIN:VCALENDAR
VERSION:2.0
PRODID:-//Prospects - ECPv5.14.1//NONSGML v1.0//EN
CALSCALE:GREGORIAN
METHOD:PUBLISH
X-WR-CALNAME:Prospects
X-ORIGINAL-URL:https://prospectsfoundation.org.uk
X-WR-CALDESC:Events for Prospects
BEGIN:VTIMEZONE
TZID:Europe/London
BEGIN:DAYLIGHT
TZOFFSETFROM:+0000
TZOFFSETTO:+0100
TZNAME:BST
DTSTART:20250330T010000
END:DAYLIGHT
BEGIN:STANDARD
TZOFFSETFROM:+0100
TZOFFSETTO:+0000
TZNAME:GMT
DTSTART:20251026T010000
END:STANDARD
END:VTIMEZONE
BEGIN:VEVENT
DTSTART;TZID=Europe/London:20250516T203000
DTEND;TZID=Europe/London:20250516T223000
DTSTAMP:20260421T211628
CREATED:20250509T124026Z
LAST-MODIFIED:20250516T140415Z
UID:14370-1747427400-1747434600@prospectsfoundation.org.uk
SUMMARY:POSTPONED - Whinney Hill Bat Walk
DESCRIPTION:SESSION POSTPONED – Unfortunately our ‘Whinney Hill Bat Walk’ event on Friday 16th May 2025 has been postponed. Please keep your eyes peeled on The PROSPECTS Foundation’s website event calendar for updates. Please contact Brandon for updates via the contacts below. \n\nTo find out more or confirm your attendance\, please contact Brandon at brandon.cherry@prospectsfoundation.org.uk or 07733 840842
URL:https://prospectsfoundation.org.uk/event/whinney-hill-bat-walk-2/
LOCATION:Whinney Hill Woodland – Livingstone Road/East Crescent BB5 5BX\, Livingstone Road\, Accrington\, BB5 5BX
CATEGORIES:Conservation,Health and wellbeing,Walking,Woodlands
ATTACH;FMTTYPE=image/png:https://prospectsfoundation.org.uk/wp-content/uploads/2025/05/Add-a-heading-1.png
ORGANIZER;CN="Brandon%20Cherry":MAILTO:brandon.cherry@prospectsfoundation.org.uk
END:VEVENT
END:VCALENDAR