BEGIN:VCALENDAR
VERSION:2.0
PRODID:-//Prospects - ECPv5.14.1//NONSGML v1.0//EN
CALSCALE:GREGORIAN
METHOD:PUBLISH
X-WR-CALNAME:Prospects
X-ORIGINAL-URL:https://prospectsfoundation.org.uk
X-WR-CALDESC:Events for Prospects
BEGIN:VTIMEZONE
TZID:Europe/London
BEGIN:DAYLIGHT
TZOFFSETFROM:+0000
TZOFFSETTO:+0100
TZNAME:BST
DTSTART:20260329T010000
END:DAYLIGHT
BEGIN:STANDARD
TZOFFSETFROM:+0100
TZOFFSETTO:+0000
TZNAME:GMT
DTSTART:20261025T010000
END:STANDARD
END:VTIMEZONE
BEGIN:VEVENT
DTSTART;TZID=Europe/London:20260402T100000
DTEND;TZID=Europe/London:20260402T120000
DTSTAMP:20260422T090539
CREATED:20260331T151759Z
LAST-MODIFIED:20260331T151759Z
UID:16772-1775124000-1775131200@prospectsfoundation.org.uk
SUMMARY:EASTER Wildflower Meadow Seed Sowing @Bullough Community Woodland
DESCRIPTION:Join our Community TreeACTION Officer Helen for a family-friendly practical session at the new Bullough Community Woodland! \nWe will be sowing the new wildflower scrape with seeds to create a beautiful area for pollinators to thrive. \nWe will be meeting around the Woodview Drive entrance to the site\, there is a small car park at the top of Miller Fold Avenue\, Accrington\, BB5 0NT (more on-street parking available once the car park is full). Google maps link HERE. \n\nEveryone welcome. Under 18s will need to be accompanied by an adult\nPlease wear suitable outdoor clothes\n\nTo find out more or confirm your attendance\, please contact Helen at helen.earnshaw@prospectsfoundation.org.uk\, telephone 01254 230348\, or call into the Prospects office at 54 Broadway\, Accrington\, BB5 1EW. \nThe TreeACTION Project is a direct result of Hyndburn Borough Council’s Climate Emergency Declaration in September 2019 and is seen as one of the key projects where local people can help to reduce emissions within the borough.
URL:https://prospectsfoundation.org.uk/event/wildflower-sowing-bcw/
LOCATION:Bullough Community Woodland – Woodview Drive\, Woodview Drive\, Accrington\, BB5 0FS\, United Kingdom
CATEGORIES:Conservation,Health and wellbeing,TreeACTION,Volunteering
ATTACH;FMTTYPE=image/png:https://prospectsfoundation.org.uk/wp-content/uploads/2026/03/Wildlfower-poster.png
ORGANIZER;CN="Helen%20Earnshaw%20-%20Community%20TreeACTION%20Officer":MAILTO:helen.earnshaw@prospectsfoundation.org.uk
END:VEVENT
BEGIN:VEVENT
DTSTART;TZID=Europe/London:20260402T100000
DTEND;TZID=Europe/London:20260402T130000
DTSTAMP:20260422T090539
CREATED:20260331T165406Z
LAST-MODIFIED:20260331T165406Z
UID:16789-1775124000-1775134800@prospectsfoundation.org.uk
SUMMARY:Brookside Volunteer Workparty (Thursday Gang)
DESCRIPTION:Join Alice for seasonal habitat improvement work (and of course\, biscuits!) at Brookside. \nWe meet at the Noticeboard by the Stanhill Road entrance to the site at 10am – see the map below! \n \nAll are welcome but under 18s must be supervised by an adult. \nWaterproofs\, boots\, and sturdy clothes are highly recommended. \nAccess can be uneven and boggy\, so these sessions are not suitable for those with limited mobility. We suggest that participants should be comfortable walking for 15 minutes unaided. \nTo find out more or confirm your attendance\, please contact Alice at alice.pooley@prospectsfoundation.org.uk\, telephone 01254 230348\, or call into the Prospects office at 54 Broadway\, Accrington\, BB5 1EW.
URL:https://prospectsfoundation.org.uk/event/brookside-volunteer-workparty-thursday-gang-39/
LOCATION:Brookside\, Stanhill Road\, Oswaldtwistle\, BB5 4PP
CATEGORIES:Conservation,Health and wellbeing,Volunteering,Walking,Woodlands
ATTACH;FMTTYPE=image/png:https://prospectsfoundation.org.uk/wp-content/uploads/2025/02/Logo-2.0.png
ORGANIZER;CN="Alice%20Pooley":MAILTO:alice.pooley@prospectsfoundation.org.uk
END:VEVENT
BEGIN:VEVENT
DTSTART;TZID=Europe/London:20260402T190000
DTEND;TZID=Europe/London:20260402T210000
DTSTAMP:20260422T090540
CREATED:20260330T153041Z
LAST-MODIFIED:20260330T153041Z
UID:16732-1775156400-1775163600@prospectsfoundation.org.uk
SUMMARY:Spring Wreath Making at Stanhill Social Club (12+)
DESCRIPTION:Join Alice for a spring wreath-making session in partnership with the Stanhill Social Club! \nThis event is free to attend\, but donations will be gratefully accepted on the night. \nBooking is compulsory – please email alice.pooley@prospectsfoundation.org.uk \nThis session is aimed at those aged 12+. Under 18s must be supervised by an adult. No dogs at this one please! \nAll materials will be provided\, but please bring secateurs if you have some\, as our supplies are limited!  \nTo find out more or confirm your attendance\, please contact Alice at alice.pooley@prospectsfoundation.org.uk\, telephone 01254 230348\, or call into the Prospects office at 54 Broadway\, Accrington\, BB5 1EW.
URL:https://prospectsfoundation.org.uk/event/spring-wreath-making-at-stanhill-social-club-12/
LOCATION:Stanhill Social Club\, Stanhill Road\, Oswaldtwistle\, BB5 4PP
CATEGORIES:Conservation,Health and wellbeing,Volunteering,Walking,Woodlands
ATTACH;FMTTYPE=image/png:https://prospectsfoundation.org.uk/wp-content/uploads/2025/02/Logo-2.0.png
ORGANIZER;CN="Alice%20Pooley":MAILTO:alice.pooley@prospectsfoundation.org.uk
END:VEVENT
END:VCALENDAR