BEGIN:VCALENDAR
VERSION:2.0
PRODID:-//Prospects - ECPv5.14.1//NONSGML v1.0//EN
CALSCALE:GREGORIAN
METHOD:PUBLISH
X-WR-CALNAME:Prospects
X-ORIGINAL-URL:https://prospectsfoundation.org.uk
X-WR-CALDESC:Events for Prospects
BEGIN:VTIMEZONE
TZID:Europe/London
BEGIN:DAYLIGHT
TZOFFSETFROM:+0000
TZOFFSETTO:+0100
TZNAME:BST
DTSTART:20260329T010000
END:DAYLIGHT
BEGIN:STANDARD
TZOFFSETFROM:+0100
TZOFFSETTO:+0000
TZNAME:GMT
DTSTART:20261025T010000
END:STANDARD
END:VTIMEZONE
BEGIN:VEVENT
DTSTART;TZID=Europe/London:20260401T133000
DTEND;TZID=Europe/London:20260401T153000
DTSTAMP:20260421T233659
CREATED:20260330T152941Z
LAST-MODIFIED:20260330T153317Z
UID:16729-1775050200-1775057400@prospectsfoundation.org.uk
SUMMARY:Spring Wreath Making at Stanhill Social Club (Family Session)
DESCRIPTION:Join Alice for a spring wreath-making session in partnership with the Stanhill Social Club! \nThis event is free to attend\, but donations will be gratefully accepted on the night. \nBooking is compulsory – please email alice.pooley@prospectsfoundation.org.uk \nThis is a family friendly session. Under 18s must be supervised by an adult. No dogs at this one please! \nAll materials will be provided\, but please bring secateurs if you have some\, as our supplies are limited!  \nTo find out more or confirm your attendance\, please contact Alice at alice.pooley@prospectsfoundation.org.uk\, telephone 01254 230348\, or call into the Prospects office at 54 Broadway\, Accrington\, BB5 1EW.
URL:https://prospectsfoundation.org.uk/event/spring-wreath-making-at-stanhill-social-club/
LOCATION:Stanhill Social Club\, Stanhill Road\, Oswaldtwistle\, BB5 4PP
CATEGORIES:Conservation,Health and wellbeing,Volunteering,Walking,Woodlands
ATTACH;FMTTYPE=image/png:https://prospectsfoundation.org.uk/wp-content/uploads/2025/02/Logo-2.0.png
ORGANIZER;CN="Alice%20Pooley":MAILTO:alice.pooley@prospectsfoundation.org.uk
END:VEVENT
END:VCALENDAR