BEGIN:VCALENDAR
VERSION:2.0
PRODID:-//Prospects - ECPv5.14.1//NONSGML v1.0//EN
CALSCALE:GREGORIAN
METHOD:PUBLISH
X-WR-CALNAME:Prospects
X-ORIGINAL-URL:https://prospectsfoundation.org.uk
X-WR-CALDESC:Events for Prospects
BEGIN:VTIMEZONE
TZID:Europe/London
BEGIN:DAYLIGHT
TZOFFSETFROM:+0000
TZOFFSETTO:+0100
TZNAME:BST
DTSTART:20260329T010000
END:DAYLIGHT
BEGIN:STANDARD
TZOFFSETFROM:+0100
TZOFFSETTO:+0000
TZNAME:GMT
DTSTART:20261025T010000
END:STANDARD
END:VTIMEZONE
BEGIN:VEVENT
DTSTART;TZID=Europe/London:20260304T100000
DTEND;TZID=Europe/London:20260304T130000
DTSTAMP:20260422T090033
CREATED:20260225T120837Z
LAST-MODIFIED:20260225T120837Z
UID:16407-1772618400-1772629200@prospectsfoundation.org.uk
SUMMARY:Path repairs at Bullough Community Woodland
DESCRIPTION:Join our Community TreeACTION Officer Helen for a practical session at the new Bullough Community Woodland! \nWe will be attempting to fix the very muddy path at the new woodland\, by moving woodchip from Woodview Drive down to the site with multiple wheelbarrows. This will be physically demanding work due to the weight of the barrows\, but volunteers are encouraged to work at their own pace with regular breaks. Please wear wellies or good waterproof boots. \nWe will be meeting around the Woodview Drive entrance to the site\, there is a small car park at the top of Miller Fold Avenue\,Accrington\, BB5 0NT (more on-street parking available once the car park is full). Google maps link HERE. \n\nEveryone welcome. Under 18s will need to be accompanied by an adult\nPlease wear suitable outdoor clothes and sturdy boots\n\nTo find out more or confirm your attendance\, please contact Helen at helen.earnshaw@prospectsfoundation.org.uk\, telephone 01254 230348\, or call into the Prospects office at 54 Broadway\, Accrington\, BB5 1EW. \nThe TreeACTION Project is a direct result of Hyndburn Borough Council’s Climate Emergency Declaration in September 2019 and is seen as one of the key projects where local people can help to reduce emissions within the borough. \n  \n 
URL:https://prospectsfoundation.org.uk/event/path-repairs-bcw/
LOCATION:Bullough Community Woodland – Woodview Drive\, Woodview Drive\, Accrington\, BB5 0FS\, United Kingdom
CATEGORIES:Conservation,Health and wellbeing,TreeACTION,Volunteering
ORGANIZER;CN="Helen%20Earnshaw%20-%20Community%20TreeACTION%20Officer":MAILTO:helen.earnshaw@prospectsfoundation.org.uk
END:VEVENT
BEGIN:VEVENT
DTSTART;TZID=Europe/London:20260304T100000
DTEND;TZID=Europe/London:20260304T130000
DTSTAMP:20260422T090033
CREATED:20260225T163541Z
LAST-MODIFIED:20260225T163541Z
UID:16449-1772618400-1772629200@prospectsfoundation.org.uk
SUMMARY:Dead-hedging & Coppicing - Hyndburn's Nature Reserve Volunteers session @Jackhouse nature reserve
DESCRIPTION:We will repairing a dead hedge at Jackhouse Nature Reserve. Learn how to construct wildlife-friendly fencing! We will also be doing the last coppicing of the season at Jackhouse. \nJoin us for our new Hyndburn’s Nature Reserves project! There will be fortnightly conservation volunteers sessions at Jackhouse nature reserve\, Wednesdays. Come along to learn new skills\, meet people\, keep fit and help wildlife! \nPark on Fieldings Lane\, it is then a 10 minute walk to the entrance of Jackhouse nature reserve where we will be meeting. \nTo express your interest or find out more\, email robert.gabryszak@prospectsfoundation.org.uk\, telephone 01254 230348 or call into the Prospects office at 54 Broadway\, Accrington \n 
URL:https://prospectsfoundation.org.uk/event/dead-hedging-coppicing-hyndburns-nature-reserve-volunteers-session-jackhouse-nature-reserve/
LOCATION:Jackhouse Nature Reserve\, Pot House Lane\, Oswaldtwistle\, BB5 3RS
CATEGORIES:Conservation,Health and wellbeing,Peel Park and the Coppice LNR,Volunteering
ATTACH;FMTTYPE=image/png:https://prospectsfoundation.org.uk/wp-content/uploads/2024/11/Jackhouse.png
ORGANIZER;CN="Robert%20Gabryszak%20-%20LNR%20Project%20Officer":MAILTO:robert.gabryszak@prospectsfoundation.org.uk
END:VEVENT
END:VCALENDAR