BEGIN:VCALENDAR
VERSION:2.0
PRODID:-//Prospects - ECPv5.14.1//NONSGML v1.0//EN
CALSCALE:GREGORIAN
METHOD:PUBLISH
X-WR-CALNAME:Prospects
X-ORIGINAL-URL:https://prospectsfoundation.org.uk
X-WR-CALDESC:Events for Prospects
BEGIN:VTIMEZONE
TZID:Europe/London
BEGIN:DAYLIGHT
TZOFFSETFROM:+0000
TZOFFSETTO:+0100
TZNAME:BST
DTSTART:20260329T010000
END:DAYLIGHT
BEGIN:STANDARD
TZOFFSETFROM:+0100
TZOFFSETTO:+0000
TZNAME:GMT
DTSTART:20261025T010000
END:STANDARD
END:VTIMEZONE
BEGIN:VEVENT
DTSTART;TZID=Europe/London:20260218T100000
DTEND;TZID=Europe/London:20260218T130000
DTSTAMP:20260422T062225
CREATED:20260127T131648Z
LAST-MODIFIED:20260127T131648Z
UID:16276-1771408800-1771419600@prospectsfoundation.org.uk
SUMMARY:Community Tree Nursery session (planting acorns)
DESCRIPTION:Join our Community TreeACTION Officer Helen for a practical session at our new Tree Nursery Allotment at Miller Fold! \nFor the final time this year before autumn\, we will be planting the acorns we have been storing safely since October in one of our new rodent-proof boxes! \nWe have camping chairs on site. Please bring snacks and plenty of drinking water. \nWe will be meeting at the small car park at the top of Miller Fold Avenue\, Accrington\, BB5 0NT (more on-street parking available once the car park is full). Google maps link HERE. \nSite Accessibility – there is a short walk from the cars down a very uneven road. The allotment itself has bad access; the path down to the entrance is muddy. Wear good footwear and non-snag clothing.  \n\nEveryone welcome. Under 18s will need to be accompanied by an adult\nPlease wear suitable outdoor clothes and sturdy boots\n\nTo find out more or confirm your attendance\, please contact Helen at helen.earnshaw@prospectsfoundation.org.uk\, telephone 01254 230348\, or call into the Prospects office at 54 Broadway\, Accrington\, BB5 1EW. \nThe TreeACTION Project is a direct result of Hyndburn Borough Council’s Climate Emergency Declaration in September 2019 and is seen as one of the key projects where local people can help to reduce emissions within the borough. \n  \n 
URL:https://prospectsfoundation.org.uk/event/community-tree-nursery-session-planting-acorns/
LOCATION:Miller Fold Allotment\, Miller Fold Ave\, Accrington\, BB5 0NT\, United Kingdom
CATEGORIES:Conservation,Gardening,Health and wellbeing,Volunteering
ATTACH;FMTTYPE=image/png:https://prospectsfoundation.org.uk/wp-content/uploads/2026/01/acorn-planting-18.02.26.png
ORGANIZER;CN="Helen%20Earnshaw%20-%20Community%20TreeACTION%20Officer":MAILTO:helen.earnshaw@prospectsfoundation.org.uk
END:VEVENT
BEGIN:VEVENT
DTSTART;TZID=Europe/London:20260218T100000
DTEND;TZID=Europe/London:20260218T130000
DTSTAMP:20260422T062225
CREATED:20260130T135209Z
LAST-MODIFIED:20260130T135209Z
UID:16312-1771408800-1771419600@prospectsfoundation.org.uk
SUMMARY:Dry Stone Walling - Hyndburn's Nature Reserve Volunteers session @Jackhouse nature reserve
DESCRIPTION:We will repairing a dry stone wall at Jackhouse Nature Reserve. Learn how to construct this traditional land border and its benefits to wildlife! \nJoin us for our new Hyndburn’s Nature Reserves project! There will be fortnightly conservation volunteers sessions at Jackhouse nature reserve\, Wednesdays. Come along to learn new skills\, meet people\, keep fit and help wildlife! \nPark on Fieldings Lane\, it is then a 10 minute walk to the entrance of Jackhouse nature reserve where we will be meeting. \nTo express your interest or find out more\, email robert.gabryszak@prospectsfoundation.org.uk\, telephone 01254 230348 or call into the Prospects office at 54 Broadway\, Accrington \n 
URL:https://prospectsfoundation.org.uk/event/dry-stone-walling-hyndburns-nature-reserve-volunteers-session-jackhouse-nature-reserve/
LOCATION:Jackhouse Nature Reserve\, Pot House Lane\, Oswaldtwistle\, BB5 3RS
CATEGORIES:Conservation,Health and wellbeing,Peel Park and the Coppice LNR,Volunteering
ATTACH;FMTTYPE=image/png:https://prospectsfoundation.org.uk/wp-content/uploads/2024/11/Jackhouse.png
ORGANIZER;CN="Robert%20Gabryszak%20-%20LNR%20Project%20Officer":MAILTO:robert.gabryszak@prospectsfoundation.org.uk
END:VEVENT
BEGIN:VEVENT
DTSTART;TZID=Europe/London:20260218T103000
DTEND;TZID=Europe/London:20260218T120000
DTSTAMP:20260422T062225
CREATED:20260126T111423Z
LAST-MODIFIED:20260202T152711Z
UID:16232-1771410600-1771416000@prospectsfoundation.org.uk
SUMMARY:Half Term Crafts @ Ossy Library - Make Your Own Minibeast
DESCRIPTION:Come on down to Ossy Library this February half term for a free crafting event! Create and decorate a beautiful moving minibeast to take home\, and learn more about our work to help nature across Hyndburn. \nThis first session is free and you can drop in any time between 10:30am and 12pm.  All are welcome\, but children must be supervised by a parent or guardian.
URL:https://prospectsfoundation.org.uk/event/half-term-crafts-ossy-library-make-your-own-minibeast/
LOCATION:Oswaldtwistle Library\, 289 Union Rd\, Oswaldtwistle\, Accrington\, BB5 3HS
CATEGORIES:Family,Nature Crafts
ATTACH;FMTTYPE=image/png:https://prospectsfoundation.org.uk/wp-content/uploads/2026/01/MED-RES-LOGO-PNG-No-Background.png
ORGANIZER;CN="Alice%20Pooley":MAILTO:alice.pooley@prospectsfoundation.org.uk
END:VEVENT
BEGIN:VEVENT
DTSTART;TZID=Europe/London:20260218T133000
DTEND;TZID=Europe/London:20260218T150000
DTSTAMP:20260422T062225
CREATED:20260126T111754Z
LAST-MODIFIED:20260202T151410Z
UID:16236-1771421400-1771426800@prospectsfoundation.org.uk
SUMMARY:Half Term Crafts @ Stanhill Social Club - Make Your Own Minibeast
DESCRIPTION:Come on down to the Stanhill Social Club this February half term for a free crafting event! Create and decorate a beautiful moving minibeast to take home\, and learn more about our work to help nature across Hyndburn. \nThis second session requires booking in advance! Please email Alice.pooley@prospectsfoundation.org.uk \nAll are welcome\, but children must be supervised by a parent or guardian.
URL:https://prospectsfoundation.org.uk/event/half-term-crafts-stanhill-social-club-make-your-own-minibeast/
LOCATION:Stanhill Social Club\, Stanhill Road\, Oswaldtwistle\, BB5 4PP
CATEGORIES:Family,Nature Crafts
ATTACH;FMTTYPE=image/png:https://prospectsfoundation.org.uk/wp-content/uploads/2026/01/MED-RES-LOGO-PNG-No-Background.png
ORGANIZER;CN="Alice%20Pooley":MAILTO:alice.pooley@prospectsfoundation.org.uk
END:VEVENT
END:VCALENDAR