BEGIN:VCALENDAR
VERSION:2.0
PRODID:-//Prospects - ECPv5.14.1//NONSGML v1.0//EN
CALSCALE:GREGORIAN
METHOD:PUBLISH
X-WR-CALNAME:Prospects
X-ORIGINAL-URL:https://prospectsfoundation.org.uk
X-WR-CALDESC:Events for Prospects
BEGIN:VTIMEZONE
TZID:Europe/London
BEGIN:DAYLIGHT
TZOFFSETFROM:+0000
TZOFFSETTO:+0100
TZNAME:BST
DTSTART:20260329T010000
END:DAYLIGHT
BEGIN:STANDARD
TZOFFSETFROM:+0100
TZOFFSETTO:+0000
TZNAME:GMT
DTSTART:20261025T010000
END:STANDARD
END:VTIMEZONE
BEGIN:VEVENT
DTSTART;TZID=Europe/London:20260125T093000
DTEND;TZID=Europe/London:20260125T113000
DTSTAMP:20260422T034241
CREATED:20251217T134122Z
LAST-MODIFIED:20251217T134414Z
UID:16112-1769333400-1769340600@prospectsfoundation.org.uk
SUMMARY:Friends Of Arden Hall & The Coppice Monthly Volunteer Session @Peel Park and the Coppice LNR
DESCRIPTION:The Friends of Arden Hall & The Coppice are running monthly volunteer sessions to get the community involved at Peel Park & the Coppice LNR. Meet at the Peel Park Bowling Pavilion. \nOn Sunday 25th January\, (9:30am-11:30am\,) the Friends group will be participating in the Big Garden Birdwatch. Family-friendly and a great opportunity to explore the reserve this winter. There will be brews and refreshments afterwards. \nPlease contact robert.gabryszak@prospectsfoundation.org.uk if you would like to take part. \n 
URL:https://prospectsfoundation.org.uk/event/friends-of-arden-hall-the-coppice-monthly-volunteer-session-peel-park-and-the-coppice-lnr-4/
LOCATION:Peel Park and the Coppice Local Nature Reserve\, Main car park off Peel Park Avenue (next to the bowling green)\, Accrington\, Lancashire\, BB5 6HL\, United Kingdom
CATEGORIES:Conservation,Health and wellbeing,Peel Park and the Coppice LNR,Volunteering
ATTACH;FMTTYPE=image/png:https://prospectsfoundation.org.uk/wp-content/uploads/2024/11/PEEL-PARK-the-COPPICE-LNR.png
ORGANIZER;CN="Robert%20Gabryszak%20-%20LNR%20Project%20Officer":MAILTO:robert.gabryszak@prospectsfoundation.org.uk
END:VEVENT
END:VCALENDAR