BEGIN:VCALENDAR
VERSION:2.0
PRODID:-//Prospects - ECPv5.14.1//NONSGML v1.0//EN
CALSCALE:GREGORIAN
METHOD:PUBLISH
X-WR-CALNAME:Prospects
X-ORIGINAL-URL:https://prospectsfoundation.org.uk
X-WR-CALDESC:Events for Prospects
BEGIN:VTIMEZONE
TZID:Europe/London
BEGIN:DAYLIGHT
TZOFFSETFROM:+0000
TZOFFSETTO:+0100
TZNAME:BST
DTSTART:20260329T010000
END:DAYLIGHT
BEGIN:STANDARD
TZOFFSETFROM:+0100
TZOFFSETTO:+0000
TZNAME:GMT
DTSTART:20261025T010000
END:STANDARD
END:VTIMEZONE
BEGIN:VEVENT
DTSTART;TZID=Europe/London:20260119T100000
DTEND;TZID=Europe/London:20260119T130000
DTSTAMP:20260422T074342
CREATED:20251217T122026Z
LAST-MODIFIED:20251217T122528Z
UID:16065-1768816800-1768827600@prospectsfoundation.org.uk
SUMMARY:INNS Shrub Removal - Hyndburn's Nature Reserve Volunteers session @Peel Park and the Coppice LNR
DESCRIPTION:Map showing the meeting point at Peel Park & the Coppice LNR. Click the image to be taken to the map.\nAbove Pleck Meadow\, there are a number of Invasive Non-Native Species (INNS) which need to be removed. The shrubs are cotoneaster and non-native honeysuckles\, which are garden escapees that can be detrimental to biodiversity in the wild. We will be digging up as much of the root and cutting up the vegetation up to remove it from the site. \nJoin us for our new Hyndburn’s Nature Reserves project! There will be weekly conservation volunteers sessions at Peel Park and the Coppice Local Nature Reserve\, every Monday from 10am – 1pm. Come along to learn new skills\, meet people\, keep fit and help wildlife! \nTo express your interest or find out more\, email robert.gabryszak@prospectsfoundation.org.uk\, telephone 01254 230348 or call into the Prospects office at 54 Broadway\, Accrington \n 
URL:https://prospectsfoundation.org.uk/event/inns-shrub-removal-hyndburns-nature-reserve-volunteers-session-peel-park-and-the-coppice-lnr/
LOCATION:Peel Park and the Coppice Local Nature Reserve\, Main car park off Peel Park Avenue (next to the bowling green)\, Accrington\, Lancashire\, BB5 6HL\, United Kingdom
CATEGORIES:Conservation,Health and wellbeing,Peel Park and the Coppice LNR,Volunteering
ATTACH;FMTTYPE=image/png:https://prospectsfoundation.org.uk/wp-content/uploads/2024/11/PEEL-PARK-the-COPPICE-LNR.png
ORGANIZER;CN="Robert%20Gabryszak%20-%20LNR%20Project%20Officer":MAILTO:robert.gabryszak@prospectsfoundation.org.uk
END:VEVENT
BEGIN:VEVENT
DTSTART;TZID=Europe/London:20260119T120000
DTEND;TZID=Europe/London:20260119T140000
DTSTAMP:20260422T074342
CREATED:20260109T141703Z
LAST-MODIFIED:20260109T141925Z
UID:16200-1768824000-1768831200@prospectsfoundation.org.uk
SUMMARY:Tree Maintenance at Bullough Park
DESCRIPTION:Join our Community TreeACTION Officer Helen for a practical session replacing tree tubes that have been damaged by recent storms at the new Bullough Community Woodland (Bullough Park\, Accrington). \nWe will be meeting at the Southern entrance to the new woodland\, at Woodview Drive (just off Miller Fold Avenue)\, Accrington. BB5 0FS. On-street parking is available. \n\nNo experience is necessary – just bring your enthusiasm!\nPlease wear suitable outdoor clothes and sturdy boots (wellies are advised) – the site is very windy so please wrap up well.\nWork gloves will be provided\nAll ages welcome. Children will need to be accompanied by an adult\n\nTo find out more or confirm your attendance\, please contact Helen at helen.earnshaw@prospectsfoundation.org.uk\, telephone 01254 230348\, or call into the Prospects office at 54 Broadway\, Accrington\, BB5 1EW. \nThe TreeACTION Project is a direct result of Hyndburn Borough Council’s Climate Emergency Declaration in September 2019 and is seen as one of the key projects where local people can help to reduce emissions within the borough.
URL:https://prospectsfoundation.org.uk/event/tree-maintenance-at-bullough-park-3/
LOCATION:Bullough Park – Woodview Dr\, Woodview Drive\, Accrington\, Lancashire\, BB5 0NT\, United Kingdom
CATEGORIES:Conservation,Health and wellbeing,Volunteering
ATTACH;FMTTYPE=image/png:https://prospectsfoundation.org.uk/wp-content/uploads/2026/01/Tree-Maintenance-Bullough-Website-cover.png
ORGANIZER;CN="Helen%20Earnshaw%20-%20Community%20TreeACTION%20Officer":MAILTO:helen.earnshaw@prospectsfoundation.org.uk
END:VEVENT
END:VCALENDAR