BEGIN:VCALENDAR
VERSION:2.0
PRODID:-//Prospects - ECPv5.14.1//NONSGML v1.0//EN
CALSCALE:GREGORIAN
METHOD:PUBLISH
X-WR-CALNAME:Prospects
X-ORIGINAL-URL:https://prospectsfoundation.org.uk
X-WR-CALDESC:Events for Prospects
BEGIN:VTIMEZONE
TZID:Europe/London
BEGIN:DAYLIGHT
TZOFFSETFROM:+0000
TZOFFSETTO:+0100
TZNAME:BST
DTSTART:20250330T010000
END:DAYLIGHT
BEGIN:STANDARD
TZOFFSETFROM:+0100
TZOFFSETTO:+0000
TZNAME:GMT
DTSTART:20251026T010000
END:STANDARD
END:VTIMEZONE
BEGIN:VEVENT
DTSTART;TZID=Europe/London:20251216T100000
DTEND;TZID=Europe/London:20251216T150000
DTSTAMP:20260422T154011
CREATED:20251128T100939Z
LAST-MODIFIED:20251128T100939Z
UID:15852-1765879200-1765897200@prospectsfoundation.org.uk
SUMMARY:Hyndburn's Woodlands - Whinney Hill
DESCRIPTION:Join Hyndburn’s Woodlands Officer Brandon for weekly practical conservation sessions. \n\nThis week\, we will be back at Whinney Hill woodland carrying out some site maintenance work before the Christmas holidays. Tasks include\, pathway clearance\, litter picking\, fence repair etc. \nWe will be meeting at the car park on Livingstone Road\, BB5 5BS (Just next to the Livingstone Road Allotments on Google Maps) \n\nTo find out more or confirm your attendance\, please contact Brandon at brandon.cherry@prospectsfoundation.org.uk or 07733 840842
URL:https://prospectsfoundation.org.uk/event/hyndburns-woodlands-whinney-hill-6/
LOCATION:Whinney Hill Woodland – Livingstone Road/East Crescent BB5 5BX\, Livingstone Road\, Accrington\, BB5 5BX
CATEGORIES:Conservation,Health and wellbeing,Outdoor Learning,Volunteering,Woodlands
ATTACH;FMTTYPE=image/jpeg:https://prospectsfoundation.org.uk/wp-content/uploads/2025/11/IMG_20250218_101422.jpg
ORGANIZER;CN="Brandon%20Cherry":MAILTO:brandon.cherry@prospectsfoundation.org.uk
END:VEVENT
BEGIN:VEVENT
DTSTART;TZID=Europe/London:20251216T100000
DTEND;TZID=Europe/London:20251216T130000
DTSTAMP:20260422T154011
CREATED:20251128T140531Z
LAST-MODIFIED:20251128T140531Z
UID:15884-1765879200-1765890000@prospectsfoundation.org.uk
SUMMARY:Community Tree Nursery session
DESCRIPTION:Join our Community TreeACTION Officer Helen for a practical session at our new ‘Tree Nursery’ Allotment at Miller Fold! \nWe will be planting acorns. We have camping chairs on site\, but please bring snacks and plenty of drinking water. \nWe will be meeting at the small car park at the top of Miller Fold Avenue\, Accrington\, BB5 0NT (more on-street parking available once the car park is full). Google maps link HERE. \nSite Accessibility – there is a short walk from the cars down a very uneven road. The allotment itself has bad access; the path down to the entrance is steep and overgrown! Wear good footwear and non-snag clothing.  \n\nEveryone welcome. Under 18s will need to be accompanied by an adult\nPlease wear suitable outdoor clothes and sturdy boots\n\nTo find out more or confirm your attendance\, please contact Helen at helen.earnshaw@prospectsfoundation.org.uk\, telephone 01254 230348\, or call into the Prospects office at 54 Broadway\, Accrington\, BB5 1EW. \nThe TreeACTION Project is a direct result of Hyndburn Borough Council’s Climate Emergency Declaration in September 2019 and is seen as one of the key projects where local people can help to reduce emissions within the borough. \n  \n 
URL:https://prospectsfoundation.org.uk/event/community-tree-nursery-session-3/
LOCATION:Miller Fold Allotment\, Miller Fold Ave\, Accrington\, BB5 0NT\, United Kingdom
CATEGORIES:Conservation,Gardening,Health and wellbeing,Volunteering
ORGANIZER;CN="Helen%20Earnshaw%20-%20Community%20TreeACTION%20Officer":MAILTO:helen.earnshaw@prospectsfoundation.org.uk
END:VEVENT
BEGIN:VEVENT
DTSTART;TZID=Europe/London:20251216T183000
DTEND;TZID=Europe/London:20251216T200000
DTSTAMP:20260422T154011
CREATED:20251031T130300Z
LAST-MODIFIED:20251031T130300Z
UID:15545-1765909800-1765915200@prospectsfoundation.org.uk
SUMMARY:December 2025 Crafting Evenings #3 | Natural Xmas Tree Decorations
DESCRIPTION:Looking to create some natural and plastic-free festive decorations this winter? Our family-friendly Tuesday crafting evenings have you covered! All sessions will use materials harvested from local green spaces for the purpose of conservation\, meaning the crafts will be good for you and for nature. To top it all off\, we will have warm mulled punch (0%) and mince pies to get you in the festive spirit\, all for free! \nIn this session we will be using a variety of natural materials to craft hanging decorations which can be hung around the house or on your Xmas tree! \nThe materials will be selectively harvested from patches of woodland and heathland that will benefit from thinning. Thinning allows for more light to reach the floor\, encouraging a wider variety of wildflowers\, shrubs\, and trees to grow\, improving biodiversity. \nEvent Location: @The PROSPECTS Shop\, 54 Broadway\, Accrington\, BB5 1EW\nDate: Tuesday 16th December | Time: 6:30pm – 8pm \nBooking Essential: robert.gabryszak@prospectsfoundation.org.uk or call (01254) 23048. \nIf you are interested in helping collect any of the materials for the workshop then get in touch to help out at our volunteer sessions!
URL:https://prospectsfoundation.org.uk/event/december-2025-crafting-evenings-3-natural-xmas-tree-decorations/
LOCATION:Prospects Environment Centre\, 54 Broadway\, Accrington\, BB51EW\, United Kingdom
CATEGORIES:Health and wellbeing,Nature Crafts,Peel Park and the Coppice LNR,Traditional Crafts,Volunteering,Woodlands
ATTACH;FMTTYPE=image/png:https://prospectsfoundation.org.uk/wp-content/uploads/2025/10/Winter-Crafting-Evenings.png
ORGANIZER;CN="Robert%20Gabryszak%20-%20LNR%20Project%20Officer":MAILTO:robert.gabryszak@prospectsfoundation.org.uk
END:VEVENT
END:VCALENDAR