BEGIN:VCALENDAR
VERSION:2.0
PRODID:-//Prospects - ECPv5.14.1//NONSGML v1.0//EN
CALSCALE:GREGORIAN
METHOD:PUBLISH
X-WR-CALNAME:Prospects
X-ORIGINAL-URL:https://prospectsfoundation.org.uk
X-WR-CALDESC:Events for Prospects
BEGIN:VTIMEZONE
TZID:Europe/London
BEGIN:DAYLIGHT
TZOFFSETFROM:+0000
TZOFFSETTO:+0100
TZNAME:BST
DTSTART:20250330T010000
END:DAYLIGHT
BEGIN:STANDARD
TZOFFSETFROM:+0100
TZOFFSETTO:+0000
TZNAME:GMT
DTSTART:20251026T010000
END:STANDARD
END:VTIMEZONE
BEGIN:VEVENT
DTSTART;TZID=Europe/London:20251112T100000
DTEND;TZID=Europe/London:20251112T130000
DTSTAMP:20260422T152953
CREATED:20251027T165419Z
LAST-MODIFIED:20251027T170819Z
UID:15484-1762941600-1762952400@prospectsfoundation.org.uk
SUMMARY:Tree Nursery Tidy
DESCRIPTION:Can you help us tidy up the PROSPECTS Community Tree Nursery? \nSchools\, staff\, volunteers and community groups have been busy collecting seeds\, nuts and berries to be grown in the nursery. On Wednesday the 12th\, Alice will be leading a tidy-up session to get the nursery ship shape before the Christmas break. Expect sweeping\, weeding\, cutting back\, and general odd jobs. \n \nAll are welcome but under 18s must be supervised by an adult. Access is very steep\, slippery\, and the location is isolated\, so please note that this session is not suitable for those with limited mobility. \nWaterproofs\, boots\, and warm clothes are highly recommended. \nTo find out more please contact Alice at alice.pooley@prospectsfoundation.org.uk\, telephone 01254 230348\, or call into the Prospects office at 54 Broadway\, Accrington\, BB5 1EW.
URL:https://prospectsfoundation.org.uk/event/brookside-volunteer-workparty-thursday-gang-22/
LOCATION:Brookside\, Stanhill Road\, Oswaldtwistle\, BB5 4PP
CATEGORIES:Conservation,Health and wellbeing,Volunteering,Walking,Woodlands
ATTACH;FMTTYPE=image/png:https://prospectsfoundation.org.uk/wp-content/uploads/2025/02/Logo-2.0.png
ORGANIZER;CN="Alice%20Pooley":MAILTO:alice.pooley@prospectsfoundation.org.uk
END:VEVENT
END:VCALENDAR