BEGIN:VCALENDAR
VERSION:2.0
PRODID:-//Prospects - ECPv5.14.1//NONSGML v1.0//EN
CALSCALE:GREGORIAN
METHOD:PUBLISH
X-WR-CALNAME:Prospects
X-ORIGINAL-URL:https://prospectsfoundation.org.uk
X-WR-CALDESC:Events for Prospects
BEGIN:VTIMEZONE
TZID:Europe/London
BEGIN:DAYLIGHT
TZOFFSETFROM:+0000
TZOFFSETTO:+0100
TZNAME:BST
DTSTART:20250330T010000
END:DAYLIGHT
BEGIN:STANDARD
TZOFFSETFROM:+0100
TZOFFSETTO:+0000
TZNAME:GMT
DTSTART:20251026T010000
END:STANDARD
END:VTIMEZONE
BEGIN:VEVENT
DTSTART;TZID=Europe/London:20251021T100000
DTEND;TZID=Europe/London:20251021T150000
DTSTAMP:20260422T230935
CREATED:20250922T125710Z
LAST-MODIFIED:20250922T130414Z
UID:15270-1761040800-1761058800@prospectsfoundation.org.uk
SUMMARY:Abbott Clough - Hedgerow Cutback
DESCRIPTION:Join Hyndburn’s Woodlands Officer Brandon for weekly practical conservation sessions. \n\nThis week\, we will be at Abbott Clough woodland cutting back the hedgerow that grows adjacent to the footpath. Please note we will be working on the roadside. \nTasks include using hand tools to cut back the hedgerow. Secondary tasks include widening the main entrance path to the woods. \nMeeting on Abbott Clough Avenue\, BB1 3NY (Next to Wynsors Shoe Shop on Google Maps). \n\nTo find out more or confirm your attendance\, please contact Brandon at brandon.cherry@prospectsfoundation.org.uk or 07733 840842
URL:https://prospectsfoundation.org.uk/event/abbott-clough-hedgerow-cutback/
LOCATION:Abbott Clough\, Abbott Clough Avenue\, BB1 3LP
CATEGORIES:Conservation,Health and wellbeing,Outdoor Learning,Volunteering,Woodlands
ATTACH;FMTTYPE=image/jpeg:https://prospectsfoundation.org.uk/wp-content/uploads/2025/09/IMG_20241015_105614.jpg
ORGANIZER;CN="Brandon%20Cherry":MAILTO:brandon.cherry@prospectsfoundation.org.uk
END:VEVENT
END:VCALENDAR