BEGIN:VCALENDAR
VERSION:2.0
PRODID:-//Prospects - ECPv5.14.1//NONSGML v1.0//EN
CALSCALE:GREGORIAN
METHOD:PUBLISH
X-WR-CALNAME:Prospects
X-ORIGINAL-URL:https://prospectsfoundation.org.uk
X-WR-CALDESC:Events for Prospects
BEGIN:VTIMEZONE
TZID:Europe/London
BEGIN:DAYLIGHT
TZOFFSETFROM:+0000
TZOFFSETTO:+0100
TZNAME:BST
DTSTART:20250330T010000
END:DAYLIGHT
BEGIN:STANDARD
TZOFFSETFROM:+0100
TZOFFSETTO:+0000
TZNAME:GMT
DTSTART:20251026T010000
END:STANDARD
END:VTIMEZONE
BEGIN:VEVENT
DTSTART;TZID=Europe/London:20251008T100000
DTEND;TZID=Europe/London:20251008T130000
DTSTAMP:20260422T190632
CREATED:20250227T110934Z
LAST-MODIFIED:20250930T124912Z
UID:13984-1759917600-1759928400@prospectsfoundation.org.uk
SUMMARY:Community Tree Nursery - Preparing Beds
DESCRIPTION:Join our Hyndburn’s Nature Reserves Project Officer Robert for a session at our Community Tree Nursery! We will be preparing beds for growing trees. \nWe will be meeting at the small car park at the top of Miller Fold Avenue\, Accrington\, BB5 0NT (more on-street parking available once the car park is full). Google maps link HERE. Meet at 10am. Robert will be at the Tree Nursery until 3pm\, if you would like to stay later than 1pm then bring lunch! \nPLEASE NOTE: Site Accessibility – there is a short walk from the cars down a very uneven road. The allotment itself has bad access; the path down to the entrance is steep and overgrown! Wear good footwear and non-snag clothing.  \n\nEveryone welcome. Under 18s will need to be accompanied by an adult\nPlease wear suitable outdoor clothes and sturdy boots\n\nTo find out more or confirm your attendance\, please contact Robert at robert.gabryszak@prospectsfoundation.org.uk\, telephone 01254 230348\, or call into the Prospects office at 54 Broadway\, Accrington\, BB5 1EW. \n  \n 
URL:https://prospectsfoundation.org.uk/event/community-tree-nursery-potting-on-trees-and-preparing-greenhouses/
LOCATION:Miller Fold Allotment\, Miller Fold Ave\, Accrington\, BB5 0NT\, United Kingdom
CATEGORIES:Conservation,Gardening,Health and wellbeing,Volunteering
ATTACH;FMTTYPE=image/png:https://prospectsfoundation.org.uk/wp-content/uploads/2025/01/miller-fold-tree-nursery-robert-oak.png
ORGANIZER;CN="Helen%20Earnshaw%20-%20Community%20TreeACTION%20Officer":MAILTO:helen.earnshaw@prospectsfoundation.org.uk
END:VEVENT
BEGIN:VEVENT
DTSTART;TZID=Europe/London:20251008T130000
DTEND;TZID=Europe/London:20251008T140000
DTSTAMP:20260422T190632
CREATED:20250925T155740Z
LAST-MODIFIED:20250925T160158Z
UID:15296-1759928400-1759932000@prospectsfoundation.org.uk
SUMMARY:Live Screening: Tree Seed Collecting with the British Tree Council *Accessible Session*
DESCRIPTION:On Wednesday\, the 8th of October\, we will be hosting a live screening of the British Tree Council’s ‘Tree Seed Collecting Master Class’ in the PROSPECTS Office. This virtual training course will teach us how to gather seeds from a variety of British trees\, ready to be grown in our brand-new tree nursery! \nThis event will take place indoors\, seated\,  and is free to attend. \nPlease note that there is a small step in the doorway to the PROSPECTS office\, and the office toilets are situated upstairs. If you have any questions regarding accessibility\, please get in touch. \nTo find out more or confirm your attendance\, please contact Alice at alice.pooley@prospectsfoundation.org.uk\, telephone 01254 230348\, or call into the Prospects office at 54 Broadway\, Accrington\, BB5 1EW.
URL:https://prospectsfoundation.org.uk/event/live-screening-tree-seed-collecting-with-the-british-tree-council-accessible-session/
LOCATION:Brookside\, Stanhill Road\, Oswaldtwistle\, BB5 4PP
CATEGORIES:Conservation,Family,Gardening,Health and wellbeing,Memorial Park,Peel Park and the Coppice LNR,Volunteering,Walking,Woodlands
ATTACH;FMTTYPE=image/png:https://prospectsfoundation.org.uk/wp-content/uploads/2025/09/The-Tree-Council-Logo_x2-1.png
ORGANIZER;CN="Alice%20Pooley":MAILTO:alice.pooley@prospectsfoundation.org.uk
END:VEVENT
END:VCALENDAR