BEGIN:VCALENDAR
VERSION:2.0
PRODID:-//Prospects - ECPv5.14.1//NONSGML v1.0//EN
CALSCALE:GREGORIAN
METHOD:PUBLISH
X-WR-CALNAME:Prospects
X-ORIGINAL-URL:https://prospectsfoundation.org.uk
X-WR-CALDESC:Events for Prospects
BEGIN:VTIMEZONE
TZID:Europe/London
BEGIN:DAYLIGHT
TZOFFSETFROM:+0000
TZOFFSETTO:+0100
TZNAME:BST
DTSTART:20250330T010000
END:DAYLIGHT
BEGIN:STANDARD
TZOFFSETFROM:+0100
TZOFFSETTO:+0000
TZNAME:GMT
DTSTART:20251026T010000
END:STANDARD
END:VTIMEZONE
BEGIN:VEVENT
DTSTART;TZID=Europe/London:20251007T100000
DTEND;TZID=Europe/London:20251007T150000
DTSTAMP:20260423T034202
CREATED:20250922T125414Z
LAST-MODIFIED:20250922T125441Z
UID:15266-1759831200-1759849200@prospectsfoundation.org.uk
SUMMARY:Whinney Hill - Henry's Honeysuckle
DESCRIPTION:Join Hyndburn’s Woodlands Officer Brandon for weekly practical conservation sessions. \n\nThis week\, we will be back at Whinney Hill woodland carrying out INNS (Invasive Non-Native Species) removal. This will take the form of ‘Henry’s Honeysuckle’ removal. This plant is a garden escapee that is smothering a young Oak and encroaching its way into the native wildflower meadow. \nTasks include\, using hand tools like loppers\, bow saws and secateurs to cut back the plant. Cuttings will be stored in a rubble sack to prevent further escape. This will then be treated the following week (weather dependent). \nPlease note I may have the hedge trimmers running as this is quite a big job. \n\nTo find out more or confirm your attendance\, please contact Brandon at brandon.cherry@prospectsfoundation.org.uk or 07733 840842
URL:https://prospectsfoundation.org.uk/event/jubilee-meadow-wildflower-seed-sowing-2/
LOCATION:Whinney Hill Woodland – Livingstone Road/East Crescent BB5 5BX\, Livingstone Road\, Accrington\, BB5 5BX
CATEGORIES:Conservation,Health and wellbeing,Outdoor Learning,Volunteering,Woodlands
ATTACH;FMTTYPE=image/jpeg:https://prospectsfoundation.org.uk/wp-content/uploads/2025/09/IMG_20241015_105614.jpg
ORGANIZER;CN="Brandon%20Cherry":MAILTO:brandon.cherry@prospectsfoundation.org.uk
END:VEVENT
END:VCALENDAR