BEGIN:VCALENDAR
VERSION:2.0
PRODID:-//Prospects - ECPv5.14.1//NONSGML v1.0//EN
CALSCALE:GREGORIAN
METHOD:PUBLISH
X-WR-CALNAME:Prospects
X-ORIGINAL-URL:https://prospectsfoundation.org.uk
X-WR-CALDESC:Events for Prospects
BEGIN:VTIMEZONE
TZID:Europe/London
BEGIN:DAYLIGHT
TZOFFSETFROM:+0000
TZOFFSETTO:+0100
TZNAME:BST
DTSTART:20250330T010000
END:DAYLIGHT
BEGIN:STANDARD
TZOFFSETFROM:+0100
TZOFFSETTO:+0000
TZNAME:GMT
DTSTART:20251026T010000
END:STANDARD
END:VTIMEZONE
BEGIN:VEVENT
DTSTART;TZID=Europe/London:20250916T100000
DTEND;TZID=Europe/London:20250916T150000
DTSTAMP:20260422T202800
CREATED:20250827T145050Z
LAST-MODIFIED:20250911T090844Z
UID:15152-1758016800-1758034800@prospectsfoundation.org.uk
SUMMARY:Whinney Hill - Butterfly Glade Scything and Bulb Planting
DESCRIPTION:Join Hyndburn’s Woodlands Officer Brandon for weekly practical conservation sessions. \n\n\nThis week we will be back at Whinney Hill woodland carrying out more meadow maintenance. This time we will be at the Butterfly Glade located at the top of the site. Tasks include scything the glade and removing the arisings via raking. If we have time we will also try to extend the glade. \nSecondary tasks include planting woodland wildflower bulbs into the freshly cut meadow\, these will hopefully take and add more diversity to the glade come next Spring. \n\nWe will be meeting at the Livingstone Road entrance to the site\, BB5 5BS (Just next to the Livingstone Road Allotments). \nPlease note steel-toe capped boots are mandatory for those wishing to operate the scythe. Those who do not have any during the session can still assist via raking arisings. \n\n\nTo find out more or confirm your attendance\, please contact Brandon at brandon.cherry@prospectsfoundation.org.uk or 07733 840842
URL:https://prospectsfoundation.org.uk/event/whinney-hill-butterfly-glade-scything-and-bulb-planting/
LOCATION:Whinney Hill Woodland – Livingstone Road/East Crescent BB5 5BX\, Livingstone Road\, Accrington\, BB5 5BX
CATEGORIES:Conservation,Health and wellbeing,Outdoor Learning,Volunteering,Woodlands
ATTACH;FMTTYPE=image/jpeg:https://prospectsfoundation.org.uk/wp-content/uploads/2025/08/IMG_20230912_120225.jpg
ORGANIZER;CN="Brandon%20Cherry":MAILTO:brandon.cherry@prospectsfoundation.org.uk
END:VEVENT
END:VCALENDAR