BEGIN:VCALENDAR
VERSION:2.0
PRODID:-//Prospects - ECPv5.14.1//NONSGML v1.0//EN
CALSCALE:GREGORIAN
METHOD:PUBLISH
X-WR-CALNAME:Prospects
X-ORIGINAL-URL:https://prospectsfoundation.org.uk
X-WR-CALDESC:Events for Prospects
BEGIN:VTIMEZONE
TZID:Europe/London
BEGIN:DAYLIGHT
TZOFFSETFROM:+0000
TZOFFSETTO:+0100
TZNAME:BST
DTSTART:20250330T010000
END:DAYLIGHT
BEGIN:STANDARD
TZOFFSETFROM:+0100
TZOFFSETTO:+0000
TZNAME:GMT
DTSTART:20251026T010000
END:STANDARD
END:VTIMEZONE
BEGIN:VEVENT
DTSTART;TZID=Europe/London:20250903T100000
DTEND;TZID=Europe/London:20250903T130000
DTSTAMP:20260423T032322
CREATED:20250828T094534Z
LAST-MODIFIED:20250828T094702Z
UID:15167-1756893600-1756904400@prospectsfoundation.org.uk
SUMMARY:Balsam Bashing - Hyndburn's Nature Reserve Volunteers session @Jackhouse nature reserve
DESCRIPTION:The last balsam bashing session at Jackhouse\, we will be revisiting areas that we have worked on throughout the summer to remove any stragglers and ensure they are clear. \nJoin us for our new Hyndburn’s Nature Reserves project! There will be fortnightly conservation volunteers sessions at Jackhouse nature reserve\, Wednesdays. Come along to learn new skills\, meet people\, keep fit and help wildlife! \nPark on Fieldings Lane\, it is then a 10 minute walk to the entrance of Jackhouse nature reserve where we will be meeting. \nTo express your interest or find out more\, email robert.gabryszak@prospectsfoundation.org.uk\, telephone 01254 230348 or call into the Prospects office at 54 Broadway\, Accrington \n 
URL:https://prospectsfoundation.org.uk/event/balsam-bashing-hyndburns-nature-reserve-volunteers-session-jackhouse-nature-reserve-6/
LOCATION:Jackhouse Nature Reserve\, Pot House Lane\, Oswaldtwistle\, BB5 3RS
CATEGORIES:Conservation,Health and wellbeing,Peel Park and the Coppice LNR,Volunteering
ATTACH;FMTTYPE=image/png:https://prospectsfoundation.org.uk/wp-content/uploads/2024/11/Jackhouse.png
ORGANIZER;CN="Robert%20Gabryszak%20-%20LNR%20Project%20Officer":MAILTO:robert.gabryszak@prospectsfoundation.org.uk
END:VEVENT
END:VCALENDAR