BEGIN:VCALENDAR
VERSION:2.0
PRODID:-//Prospects - ECPv5.14.1//NONSGML v1.0//EN
CALSCALE:GREGORIAN
METHOD:PUBLISH
X-WR-CALNAME:Prospects
X-ORIGINAL-URL:https://prospectsfoundation.org.uk
X-WR-CALDESC:Events for Prospects
BEGIN:VTIMEZONE
TZID:Europe/London
BEGIN:DAYLIGHT
TZOFFSETFROM:+0000
TZOFFSETTO:+0100
TZNAME:BST
DTSTART:20250330T010000
END:DAYLIGHT
BEGIN:STANDARD
TZOFFSETFROM:+0100
TZOFFSETTO:+0000
TZNAME:GMT
DTSTART:20251026T010000
END:STANDARD
END:VTIMEZONE
BEGIN:VEVENT
DTSTART;TZID=Europe/London:20250821T103000
DTEND;TZID=Europe/London:20250821T123000
DTSTAMP:20260423T085556
CREATED:20250722T142638Z
LAST-MODIFIED:20250730T164011Z
UID:15005-1755772200-1755779400@prospectsfoundation.org.uk
SUMMARY:Brookside Family Fun Day and Coffee Morning
DESCRIPTION:Join Alice and the Brookside team for an outdoor celebration event on the hard standing (aka the old Bury Meadow Farm site). Come on down for hot drinks\, sweet treats\, family-friendly activities\, crafts\, and more. \nAll are welcome but under 18s must be supervised by an adult. \nAccess is on foot from Brookside Lane or Nook Lane. There is a very limited amount of car parking for those that need – contact Alice to discuss this. \nTo find out more or confirm your attendance\, please contact Alice at alice.pooley@prospectsfoundation.org.uk\, telephone 01254 230348\, or call into the Prospects office at 54 Broadway\, Accrington\, BB5 1EW.
URL:https://prospectsfoundation.org.uk/event/brookside-volunteer-workparty-thursday-gang-8/
LOCATION:Brookside\, Stanhill Road\, Oswaldtwistle\, BB5 4PP
CATEGORIES:Conservation,Health and wellbeing,Volunteering,Walking,Woodlands
ATTACH;FMTTYPE=image/png:https://prospectsfoundation.org.uk/wp-content/uploads/2025/02/Logo-2.0.png
ORGANIZER;CN="Alice%20Pooley":MAILTO:alice.pooley@prospectsfoundation.org.uk
END:VEVENT
END:VCALENDAR