BEGIN:VCALENDAR
VERSION:2.0
PRODID:-//Prospects - ECPv5.14.1//NONSGML v1.0//EN
CALSCALE:GREGORIAN
METHOD:PUBLISH
X-WR-CALNAME:Prospects
X-ORIGINAL-URL:https://prospectsfoundation.org.uk
X-WR-CALDESC:Events for Prospects
BEGIN:VTIMEZONE
TZID:Europe/London
BEGIN:DAYLIGHT
TZOFFSETFROM:+0000
TZOFFSETTO:+0100
TZNAME:BST
DTSTART:20250330T010000
END:DAYLIGHT
BEGIN:STANDARD
TZOFFSETFROM:+0100
TZOFFSETTO:+0000
TZNAME:GMT
DTSTART:20251026T010000
END:STANDARD
END:VTIMEZONE
BEGIN:VEVENT
DTSTART;TZID=Europe/London:20250818T094500
DTEND;TZID=Europe/London:20250818T120000
DTSTAMP:20260422T225642
CREATED:20250722T142655Z
LAST-MODIFIED:20250730T162355Z
UID:15007-1755510300-1755518400@prospectsfoundation.org.uk
SUMMARY:Nature Printing at Brookside (Family Session)
DESCRIPTION:Join Alice and have a go at Hapa Zome printing – using leaves and flowers to create beautiful natural designs. \nThis session will take place in the Stanhill Methodist Church in Nab Lane\, Ossy. \nAll materials will be provided\, including fabric\,  but you may bring a pale-coloured cotton/linen item if you would like to print on that! \nPlease note: parking in Nab Lane is strictly prohibited. Please consider walking or taking the 6a/7a bus! \nAll are welcome\, under 18s must be supervised by an adult. \nTo find out more or confirm your attendance\, please contact Alice at alice.pooley@prospectsfoundation.org.uk\, telephone 01254 230348\, or call into the Prospects office at 54 Broadway\, Accrington\, BB5 1EW.
URL:https://prospectsfoundation.org.uk/event/brookside-volunteer-workparty-thursday-gang-9/
LOCATION:Brookside\, Stanhill Road\, Oswaldtwistle\, BB5 4PP
CATEGORIES:Conservation,Health and wellbeing,Nature Crafts,Traditional Crafts,Volunteering
ATTACH;FMTTYPE=image/png:https://prospectsfoundation.org.uk/wp-content/uploads/2025/02/Logo-2.0.png
ORGANIZER;CN="Alice%20Pooley":MAILTO:alice.pooley@prospectsfoundation.org.uk
END:VEVENT
BEGIN:VEVENT
DTSTART;TZID=Europe/London:20250818T100000
DTEND;TZID=Europe/London:20250818T130000
DTSTAMP:20260422T225642
CREATED:20250731T083409Z
LAST-MODIFIED:20250731T120042Z
UID:15043-1755511200-1755522000@prospectsfoundation.org.uk
SUMMARY:Heathland INNS Removal - Hyndburn's Nature Reserve Volunteers session @Peel Park and the Coppice LNR
DESCRIPTION:Map showing the meeting point at Peel Park & the Coppice LNR. Click the image to be taken to the map.\nWe will be going for a walk along the heathland to checkup on the areas where removed INNS last year to check that they haven’t returned or remove them if they have. We will also be checking up on the wildflowers that were planted in spring. \nJoin us for our new Hyndburn’s Nature Reserves project! There will be weekly conservation volunteers sessions at Peel Park and the Coppice Local Nature Reserve\, every Monday from 10am – 1pm. Come along to learn new skills\, meet people\, keep fit and help wildlife! \nTo express your interest or find out more\, email robert.gabryszak@prospectsfoundation.org.uk\, telephone 01254 230348 or call into the Prospects office at 54 Broadway\, Accrington \n 
URL:https://prospectsfoundation.org.uk/event/heathland-inns/
LOCATION:Peel Park and the Coppice Local Nature Reserve\, Main car park off Peel Park Avenue (next to the bowling green)\, Accrington\, Lancashire\, BB5 6HL\, United Kingdom
CATEGORIES:Conservation,Health and wellbeing,Peel Park and the Coppice LNR,Volunteering
ATTACH;FMTTYPE=image/png:https://prospectsfoundation.org.uk/wp-content/uploads/2024/11/PEEL-PARK-the-COPPICE-LNR.png
ORGANIZER;CN="Robert%20Gabryszak%20-%20LNR%20Project%20Officer":MAILTO:robert.gabryszak@prospectsfoundation.org.uk
END:VEVENT
END:VCALENDAR