BEGIN:VCALENDAR
VERSION:2.0
PRODID:-//Prospects - ECPv5.14.1//NONSGML v1.0//EN
CALSCALE:GREGORIAN
METHOD:PUBLISH
X-WR-CALNAME:Prospects
X-ORIGINAL-URL:https://prospectsfoundation.org.uk
X-WR-CALDESC:Events for Prospects
BEGIN:VTIMEZONE
TZID:Europe/London
BEGIN:DAYLIGHT
TZOFFSETFROM:+0000
TZOFFSETTO:+0100
TZNAME:BST
DTSTART:20250330T010000
END:DAYLIGHT
BEGIN:STANDARD
TZOFFSETFROM:+0100
TZOFFSETTO:+0000
TZNAME:GMT
DTSTART:20251026T010000
END:STANDARD
END:VTIMEZONE
BEGIN:VEVENT
DTSTART;TZID=Europe/London:20250814T100000
DTEND;TZID=Europe/London:20250814T130000
DTSTAMP:20260423T001122
CREATED:20250722T142612Z
LAST-MODIFIED:20250722T142612Z
UID:15003-1755165600-1755176400@prospectsfoundation.org.uk
SUMMARY:Brookside Volunteer Workparty (Thursday Gang)
DESCRIPTION:Join Alice for seasonal habitat improvement work (and of course\, biscuits!) at Brookside. \nWe meet at the Noticeboard by the Stanhill Road entrance to the site at 10am (see the map below) \n \nAll are welcome but under 18s must be supervised by an adult. \nWaterproofs\, boots\, and sturdy clothes are highly recommended. \nAccess can be uneven and boggy\, so these sessions are not suitable for those with limited mobility. \nTo find out more or confirm your attendance\, please contact Alice at alice.pooley@prospectsfoundation.org.uk\, telephone 01254 230348\, or call into the Prospects office at 54 Broadway\, Accrington\, BB5 1EW.
URL:https://prospectsfoundation.org.uk/event/brookside-volunteer-workparty-thursday-gang-7/
LOCATION:Brookside\, Stanhill Road\, Oswaldtwistle\, BB5 4PP
CATEGORIES:Conservation,Health and wellbeing,Volunteering,Walking,Woodlands
ATTACH;FMTTYPE=image/png:https://prospectsfoundation.org.uk/wp-content/uploads/2025/02/Logo-2.0.png
ORGANIZER;CN="Alice%20Pooley":MAILTO:alice.pooley@prospectsfoundation.org.uk
END:VEVENT
BEGIN:VEVENT
DTSTART;TZID=Europe/London:20250814T100000
DTEND;TZID=Europe/London:20250814T150000
DTSTAMP:20260423T001122
CREATED:20250731T155657Z
LAST-MODIFIED:20250731T155657Z
UID:15071-1755165600-1755183600@prospectsfoundation.org.uk
SUMMARY:Huncoat West - Hyndburn's Woodlands
DESCRIPTION:Join Hyndburn’s Woodlands Officer Brandon for weekly practical conservation sessions. \n\n\nThis week we will be at Huncoat West woodland carrying out a woodland condition assessment. Tasks include carrying out a timber volume assessment and a Biodiversity Net Gain assessment in order to assess how well the woodland is growing and its biodiversity value \n\nMeeting at the layby at Huncoat East woodland\, then it a short walk to Huncoat West\, BB5 5US (Just after the motorway bridge). \n\nTo find out more or confirm your attendance\, please contact Brandon at brandon.cherry@prospectsfoundation.org.uk or 07733 840842
URL:https://prospectsfoundation.org.uk/event/huncoat-west-hyndburns-woodlands-7/
LOCATION:Huncoat East Woodland\, 27 Altham Lane\, Accrington\, Lancashire\, BB5 5UR\, United Kingdom
CATEGORIES:Conservation,Health and wellbeing,Volunteering,Woodlands
ATTACH;FMTTYPE=image/jpeg:https://prospectsfoundation.org.uk/wp-content/uploads/2025/07/IMG_20240730_131909.jpg
ORGANIZER;CN="Brandon%20Cherry":MAILTO:brandon.cherry@prospectsfoundation.org.uk
END:VEVENT
END:VCALENDAR