BEGIN:VCALENDAR
VERSION:2.0
PRODID:-//Prospects - ECPv5.14.1//NONSGML v1.0//EN
CALSCALE:GREGORIAN
METHOD:PUBLISH
X-WR-CALNAME:Prospects
X-ORIGINAL-URL:https://prospectsfoundation.org.uk
X-WR-CALDESC:Events for Prospects
BEGIN:VTIMEZONE
TZID:Europe/London
BEGIN:DAYLIGHT
TZOFFSETFROM:+0000
TZOFFSETTO:+0100
TZNAME:BST
DTSTART:20250330T010000
END:DAYLIGHT
BEGIN:STANDARD
TZOFFSETFROM:+0100
TZOFFSETTO:+0000
TZNAME:GMT
DTSTART:20251026T010000
END:STANDARD
END:VTIMEZONE
BEGIN:VEVENT
DTSTART;TZID=Europe/London:20250801T110000
DTEND;TZID=Europe/London:20250801T130000
DTSTAMP:20260423T025651
CREATED:20250626T153334Z
LAST-MODIFIED:20250626T155616Z
UID:14759-1754046000-1754053200@prospectsfoundation.org.uk
SUMMARY:Big Butterfly Count @Peel Park & the Coppice LNR
DESCRIPTION:Join PROSPECTS as we take part in the UK’s biggest insect monitoring scheme. This session will take place at Peel Park & the Coppice LNR\, starting at the car park\, we will then move to Pleck Meadow. Depending on how much time we have we will move up to the heathland for one final count. \n\nDate: Friday 1st August 2025\nTime: 11am-1pm\nMeeting Location: The Coppice Car Park\, next to the bowling green.\n\nEach big butterfly count will entail a 15 minute observation in a park\, allotment or wildlife reserve\, to count every butterfly that is using the area. \nNot only does it provide us useful data on what pollinators are using our green spaces\, it contributes to a huge pool of data collected by participants nationwide. Butterfly Conservation’s expert data analysts are then able to use this huge pool of data to inform our understanding of butterfly populations in the UK. \nFamily-friendly\, under 18s must be accompanied by an adult. \nContact robert.gabryszak@prospectsfoundation.org.uk for more info. \n 
URL:https://prospectsfoundation.org.uk/event/big-butterfly-count-peel-park-the-coppice-lnr/
LOCATION:Peel Park and the Coppice Local Nature Reserve\, Main car park off Peel Park Avenue (next to the bowling green)\, Accrington\, Lancashire\, BB5 6HL\, United Kingdom
CATEGORIES:Conservation,Family,Peel Park and the Coppice LNR,Volunteering,Walking
ATTACH;FMTTYPE=image/png:https://prospectsfoundation.org.uk/wp-content/uploads/2025/06/March-2025-Posters-Instagram-Post.png
ORGANIZER;CN="Robert%20Gabryszak%20-%20LNR%20Project%20Officer":MAILTO:robert.gabryszak@prospectsfoundation.org.uk
END:VEVENT
END:VCALENDAR