BEGIN:VCALENDAR
VERSION:2.0
PRODID:-//Prospects - ECPv5.14.1//NONSGML v1.0//EN
CALSCALE:GREGORIAN
METHOD:PUBLISH
X-WR-CALNAME:Prospects
X-ORIGINAL-URL:https://prospectsfoundation.org.uk
X-WR-CALDESC:Events for Prospects
BEGIN:VTIMEZONE
TZID:Europe/London
BEGIN:DAYLIGHT
TZOFFSETFROM:+0000
TZOFFSETTO:+0100
TZNAME:BST
DTSTART:20250330T010000
END:DAYLIGHT
BEGIN:STANDARD
TZOFFSETFROM:+0100
TZOFFSETTO:+0000
TZNAME:GMT
DTSTART:20251026T010000
END:STANDARD
END:VTIMEZONE
BEGIN:VEVENT
DTSTART;TZID=Europe/London:20250731T100000
DTEND;TZID=Europe/London:20250731T130000
DTSTAMP:20260423T025716
CREATED:20250711T150941Z
LAST-MODIFIED:20250711T150941Z
UID:14984-1753956000-1753966800@prospectsfoundation.org.uk
SUMMARY:Brookside Volunteer Workparty (Thursday Gang)
DESCRIPTION:Join Alice for seasonal habitat improvement work (and of course\, biscuits!) at Brookside. \nWe meet at the Noticeboard by the Stanhill Road entrance to the site at 10am (see the map below) \n \nAll are welcome but under 18s must be supervised by an adult. \nWaterproofs\, boots\, and sturdy clothes are highly recommended. \nAccess can be uneven and boggy\, so these sessions are not suitable for those with limited mobility. \nTo find out more or confirm your attendance\, please contact Alice at alice.pooley@prospectsfoundation.org.uk\, telephone 01254 230348\, or call into the Prospects office at 54 Broadway\, Accrington\, BB5 1EW.
URL:https://prospectsfoundation.org.uk/event/brookside-volunteer-workparty-thursday-gang-5/
LOCATION:Brookside\, Stanhill Road\, Oswaldtwistle\, BB5 4PP
CATEGORIES:Conservation,Health and wellbeing,Volunteering,Walking,Woodlands
ATTACH;FMTTYPE=image/png:https://prospectsfoundation.org.uk/wp-content/uploads/2025/02/Logo-2.0.png
ORGANIZER;CN="Alice%20Pooley":MAILTO:alice.pooley@prospectsfoundation.org.uk
END:VEVENT
BEGIN:VEVENT
DTSTART;TZID=Europe/London:20250731T110000
DTEND;TZID=Europe/London:20250731T130000
DTSTAMP:20260423T025716
CREATED:20250626T155444Z
LAST-MODIFIED:20250626T155521Z
UID:14765-1753959600-1753966800@prospectsfoundation.org.uk
SUMMARY:Big Butterfly Count @Woodnook Vale LNR
DESCRIPTION:Join PROSPECTS as we take part in the UK’s biggest insect monitoring scheme. This session will take place at Woodnook Vale LNR\, meeting at Royds St entrance\, moving on to King George’s meadow (next to the playing field\,) and finally Jubilee Woods meadow. \n\nDate: Thursday 31st July 2025\nTime: 11am-1pm\nMeeting Location: Royds St entrance\, BB5 2LW.\n\nEach big butterfly count will entail a 15 minute observation in a park\, allotment or wildlife reserve\, to count every butterfly that is using the area. \nNot only does it provide us useful data on what pollinators are using our green spaces\, it contributes to a huge pool of data collected by participants nationwide. Butterfly Conservation’s expert data analysts are then able to use this huge pool of data to inform our understanding of butterfly populations in the UK. \nFamily-friendly\, under 18s must be accompanied by an adult. \nContact robert.gabryszak@prospectsfoundation.org.uk for more info. \n 
URL:https://prospectsfoundation.org.uk/event/big-butterfly-count-woodnook-vale-lnr/
LOCATION:Peel Park and the Coppice Local Nature Reserve\, Main car park off Peel Park Avenue (next to the bowling green)\, Accrington\, Lancashire\, BB5 6HL\, United Kingdom
CATEGORIES:Conservation,Family,Peel Park and the Coppice LNR,Volunteering,Walking
ATTACH;FMTTYPE=image/png:https://prospectsfoundation.org.uk/wp-content/uploads/2025/06/March-2025-Posters-Instagram-Post.png
ORGANIZER;CN="Robert%20Gabryszak%20-%20LNR%20Project%20Officer":MAILTO:robert.gabryszak@prospectsfoundation.org.uk
END:VEVENT
BEGIN:VEVENT
DTSTART;TZID=Europe/London:20250731T180000
DTEND;TZID=Europe/London:20250731T200000
DTSTAMP:20260423T025716
CREATED:20250627T132226Z
LAST-MODIFIED:20250627T140305Z
UID:14780-1753984800-1753992000@prospectsfoundation.org.uk
SUMMARY:EcoFest Volunteer Evening Celebration 
DESCRIPTION:We’d love to thank all our hardworking volunteers with a celebration evening! \nIt will be EcoFest-themed\, so whether you stamped goodie bags\, handed out flyers\, helped with setup\, or simply lifted our spirits with your good humour … we want to say THANK YOU! Join us for a jolly old get-together! \nLOCATION TBD! \n🍽️ Free food\n🍻 A bar token on us\n🎉 A lively quiz with prizes up for grabs! \nTo find out more or confirm your attendance\, please contact Helen at helen.earnshaw@prospectsfoundation.org.uk\, telephone 01254 230348\, or call into the Prospects office at 54 Broadway\, Accrington\, BB5 1EW. \n 
URL:https://prospectsfoundation.org.uk/event/ecofest-volunteer-evening-celebration/
CATEGORIES:Volunteering
ATTACH;FMTTYPE=image/png:https://prospectsfoundation.org.uk/wp-content/uploads/2025/06/EcoFest-Celebration-1.png
ORGANIZER;CN="Helen%20Earnshaw%20-%20Community%20TreeACTION%20Officer":MAILTO:helen.earnshaw@prospectsfoundation.org.uk
END:VEVENT
END:VCALENDAR