BEGIN:VCALENDAR
VERSION:2.0
PRODID:-//Prospects - ECPv5.14.1//NONSGML v1.0//EN
CALSCALE:GREGORIAN
METHOD:PUBLISH
X-WR-CALNAME:Prospects
X-ORIGINAL-URL:https://prospectsfoundation.org.uk
X-WR-CALDESC:Events for Prospects
BEGIN:VTIMEZONE
TZID:Europe/London
BEGIN:DAYLIGHT
TZOFFSETFROM:+0000
TZOFFSETTO:+0100
TZNAME:BST
DTSTART:20250330T010000
END:DAYLIGHT
BEGIN:STANDARD
TZOFFSETFROM:+0100
TZOFFSETTO:+0000
TZNAME:GMT
DTSTART:20251026T010000
END:STANDARD
END:VTIMEZONE
BEGIN:VEVENT
DTSTART;TZID=Europe/London:20250729T100000
DTEND;TZID=Europe/London:20250729T150000
DTSTAMP:20260423T001021
CREATED:20250627T143000Z
LAST-MODIFIED:20250627T143000Z
UID:14792-1753783200-1753801200@prospectsfoundation.org.uk
SUMMARY:Warcocks Green - Hyndburn's Woodlands
DESCRIPTION:Join Hyndburn’s Woodlands Officer Brandon for weekly practical conservation sessions. \nThis session is part of a series that will assess the biological value of each of the 11 woodlands managed through the project. \n\nIf you are looking to get some experience in carrying out surveying work\, or you are just looking to improve you tree ID knowledge\, then look no further! \n\nTools\, gloves and PPE will be provided. Please wear sturdy boots\, long sleeves and full length trousers. \nWe will be meeting along Haslingden Old Road\, Oswaldtwistle\, Accrington\, BB5 3RG. There is on-street parking available. Staff will be in orange hi-vis. \nTo find out more or confirm your attendance\, please contact Brandon at brandon.cherry@prospectsfoundation.org.uk or 07733 840842
URL:https://prospectsfoundation.org.uk/event/warcocks-green-hyndburns-woodlands-7/
LOCATION:Warcocks Green\, Haslingden Old Road/Sough Lane\, Oswaldtwistle\, Lancashire\, BB5 3RG\, United Kingdom
CATEGORIES:Conservation,Health and wellbeing,Volunteering,Woodlands
ATTACH;FMTTYPE=image/jpeg:https://prospectsfoundation.org.uk/wp-content/uploads/2025/04/IMG_20240730_131910.jpg
ORGANIZER;CN="Brandon%20Cherry":MAILTO:brandon.cherry@prospectsfoundation.org.uk
END:VEVENT
BEGIN:VEVENT
DTSTART;TZID=Europe/London:20250729T110000
DTEND;TZID=Europe/London:20250729T130000
DTSTAMP:20260423T001021
CREATED:20250711T151251Z
LAST-MODIFIED:20250711T151251Z
UID:14987-1753786800-1753794000@prospectsfoundation.org.uk
SUMMARY:Big Butterfly Count @ Brookside
DESCRIPTION:Join PROSPECTS as we take part in the UK’s biggest insect monitoring scheme. This session will take place at Brookside\, as part of our series of events across our reserves. \n\nDate: Tuesday 29th of July\nTime: 11am-1pm\nMeeting Location: The Noticeboard off Stanhill Road\, on the path to Kemp Delph\n\nEach big butterfly count will entail a 15 minute observation in a park\, allotment or wildlife reserve\, to count every butterfly that is using the area. \nNot only does it provide us useful data on what pollinators are using our green spaces\, it contributes to a huge pool of data collected by participants nationwide. Butterfly Conservation’s expert data analysts are then able to use this huge pool of data to inform our understanding of butterfly populations in the UK. \nFamily-friendly\, under 18s must be accompanied by an adult. \nContact robert.gabryszak@prospectsfoundation.org.uk for more info. \n 
URL:https://prospectsfoundation.org.uk/event/big-butterfly-count-brookside/
LOCATION:Peel Park and the Coppice Local Nature Reserve\, Main car park off Peel Park Avenue (next to the bowling green)\, Accrington\, Lancashire\, BB5 6HL\, United Kingdom
CATEGORIES:Conservation,Family,Outdoor Learning,Volunteering,Walking
ATTACH;FMTTYPE=image/png:https://prospectsfoundation.org.uk/wp-content/uploads/2025/06/March-2025-Posters-Instagram-Post.png
ORGANIZER;CN="Alice%20Pooley":MAILTO:alice.pooley@prospectsfoundation.org.uk
END:VEVENT
END:VCALENDAR