BEGIN:VCALENDAR
VERSION:2.0
PRODID:-//Prospects - ECPv5.14.1//NONSGML v1.0//EN
CALSCALE:GREGORIAN
METHOD:PUBLISH
X-WR-CALNAME:Prospects
X-ORIGINAL-URL:https://prospectsfoundation.org.uk
X-WR-CALDESC:Events for Prospects
BEGIN:VTIMEZONE
TZID:Europe/London
BEGIN:DAYLIGHT
TZOFFSETFROM:+0000
TZOFFSETTO:+0100
TZNAME:BST
DTSTART:20250330T010000
END:DAYLIGHT
BEGIN:STANDARD
TZOFFSETFROM:+0100
TZOFFSETTO:+0000
TZNAME:GMT
DTSTART:20251026T010000
END:STANDARD
END:VTIMEZONE
BEGIN:VEVENT
DTSTART;TZID=Europe/London:20250724T100000
DTEND;TZID=Europe/London:20250724T130000
DTSTAMP:20260423T025736
CREATED:20250612T084054Z
LAST-MODIFIED:20250626T152905Z
UID:14612-1753351200-1753362000@prospectsfoundation.org.uk
SUMMARY:Miller Fold Community Allotment family event - Scarecrow making and herb sowing
DESCRIPTION:Join us at Miller Fold Community Garden for some family-friendly fun! Bring old clothes to make your own scarecrow\, sow herbs to take home\, and enjoy the fruit and vegetables grown by our volunteers. \nLearn gardening skills\, socialise\, and relax in nature while supporting our productive community allotment! \nFamily friendly and free. Snacks and hot/cold drinks will be provided. Under 18s must be accompanied by an adult. \nLocation: Miller Fold Community Allotment\, off Woodview Drive\, BB5 ONT \nMeeting place: The junction between Woodview Drive and Miller Fold Avenue (what3words: stooping.conquests.topping) \nAccess is along a narrow\, uneven path from Woodview Drive. The allotment itself is partly accessible\, and there are places to sit and relax.  There is no toilet or running water on site.\nPlease wear robust footwear and dress for the weather. \nThe closest bus stop is ‘St Oswalds RC’\, which is a 3-minute walk away and is served by the A1 bus service from Accrington. \nContact Sonja sonja.bottomer@prospectsfoundation.org.uk or phone 01254 230348 to find out more and let her know if you’re thinking of coming along! \n  \n 
URL:https://prospectsfoundation.org.uk/event/scarecrow-making-harvesting-and-herb-sowing/
LOCATION:Miller Fold Allotment\, Miller Fold Ave\, Accrington\, BB5 0NT\, United Kingdom
CATEGORIES:Family,Food Growing,Gardening,Health and wellbeing,Nature Crafts,Outdoor Learning
ATTACH;FMTTYPE=image/jpeg:https://prospectsfoundation.org.uk/wp-content/uploads/2025/06/IMG-20250528-WA0002.jpg
END:VEVENT
BEGIN:VEVENT
DTSTART;TZID=Europe/London:20250724T100000
DTEND;TZID=Europe/London:20250724T130000
DTSTAMP:20260423T025736
CREATED:20250711T150810Z
LAST-MODIFIED:20250711T150810Z
UID:14982-1753351200-1753362000@prospectsfoundation.org.uk
SUMMARY:Brookside Volunteer Workparty (Thursday Gang)
DESCRIPTION:Join Alice for seasonal habitat improvement work (and of course\, biscuits!) at Brookside. \nWe meet at the Noticeboard by the Stanhill Road entrance to the site at 10am (see the map below) \n \nAll are welcome but under 18s must be supervised by an adult. \nWaterproofs\, boots\, and sturdy clothes are highly recommended. \nAccess can be uneven and boggy\, so these sessions are not suitable for those with limited mobility. \nTo find out more or confirm your attendance\, please contact Alice at alice.pooley@prospectsfoundation.org.uk\, telephone 01254 230348\, or call into the Prospects office at 54 Broadway\, Accrington\, BB5 1EW.
URL:https://prospectsfoundation.org.uk/event/brookside-volunteer-workparty-thursday-gang-4/
LOCATION:Brookside\, Stanhill Road\, Oswaldtwistle\, BB5 4PP
CATEGORIES:Conservation,Health and wellbeing,Volunteering,Walking,Woodlands
ATTACH;FMTTYPE=image/png:https://prospectsfoundation.org.uk/wp-content/uploads/2025/02/Logo-2.0.png
ORGANIZER;CN="Alice%20Pooley":MAILTO:alice.pooley@prospectsfoundation.org.uk
END:VEVENT
END:VCALENDAR