BEGIN:VCALENDAR
VERSION:2.0
PRODID:-//Prospects - ECPv5.14.1//NONSGML v1.0//EN
CALSCALE:GREGORIAN
METHOD:PUBLISH
X-WR-CALNAME:Prospects
X-ORIGINAL-URL:https://prospectsfoundation.org.uk
X-WR-CALDESC:Events for Prospects
BEGIN:VTIMEZONE
TZID:Europe/London
BEGIN:DAYLIGHT
TZOFFSETFROM:+0000
TZOFFSETTO:+0100
TZNAME:BST
DTSTART:20250330T010000
END:DAYLIGHT
BEGIN:STANDARD
TZOFFSETFROM:+0100
TZOFFSETTO:+0000
TZNAME:GMT
DTSTART:20251026T010000
END:STANDARD
END:VTIMEZONE
BEGIN:VEVENT
DTSTART;TZID=Europe/London:20250709T100000
DTEND;TZID=Europe/London:20250709T130000
DTSTAMP:20260423T100626
CREATED:20250626T145037Z
LAST-MODIFIED:20250626T150024Z
UID:14747-1752055200-1752066000@prospectsfoundation.org.uk
SUMMARY:Royds St Entrance Tidy | Hyndburn's Nature Reserve Volunteers session @Woodnook Vale LNR
DESCRIPTION:We will be removing negative indicator species and sprucing up the bench at Royds St’s entrance to Woodnook Vale. \nJoin us for our new Hyndburn’s Nature Reserves project! There will be fortnightly conservation volunteers sessions at Woodnook Vale LNR\, Wednesdays. Come along to learn new skills\, meet people\, keep fit and help wildlife! \nTo express your interest or find out more\, email robert.gabryszak@prospectsfoundation.org.uk\, telephone 01254 230348 or call into the Prospects office at 54 Broadway\, Accrington \n 
URL:https://prospectsfoundation.org.uk/event/royds-st-entrance-tidy-hyndburns-nature-reserve-volunteers-session-woodnook-vale-lnr/
LOCATION:Woodnook Vale LNR – Royds Street\, 140 Royds Steet\, Accrington\, Lancashire\, BB5 2LW\, United Kingdom
CATEGORIES:Conservation,Health and wellbeing,Peel Park and the Coppice LNR,Volunteering
ATTACH;FMTTYPE=image/png:https://prospectsfoundation.org.uk/wp-content/uploads/2024/11/royds-street.png
ORGANIZER;CN="Robert%20Gabryszak%20-%20LNR%20Project%20Officer":MAILTO:robert.gabryszak@prospectsfoundation.org.uk
END:VEVENT
BEGIN:VEVENT
DTSTART;TZID=Europe/London:20250709T100000
DTEND;TZID=Europe/London:20250709T120000
DTSTAMP:20260423T100626
CREATED:20250626T151444Z
LAST-MODIFIED:20250626T151444Z
UID:14752-1752055200-1752062400@prospectsfoundation.org.uk
SUMMARY:Miller Fold Community Allotment session
DESCRIPTION:Join Sonja to learn new gardening skills\, socialise\, and relax in nature while supporting our productive community allotment! \nWe’ll be continuing with path and bed maintenance\, plus moving compost onto our last unused bed and planting out celariac in it.  \nNo experience is needed. Snacks\, hot drinks\, and a warm welcome at each session! Everyone welcome. \nLocation: Miller Fold Community Allotment\, off Woodview Drive\, BB5 ONT \nMeeting place: The junction between Woodview Drive and Miller Fold Avenue (what3words: stooping.conquests.topping) \nAccess is along a narrow\, uneven path from Woodview Drive. The allotment itself is partly accessible\, and there are places to sit and relax.  There is no toilet or running water on site.\nPlease wear robust footwear and dress for the weather. \nThe closest bus stop is ‘St Oswalds RC’\, which is a 3-minute walk away and is served by the A1 bus service from Accrington. \nContact Sonja sonja.bottomer@prospectsfoundation.org.uk or phone 01254 230348 to find out more and let her know if you’re thinking of coming along!
URL:https://prospectsfoundation.org.uk/event/miller-fold-community-allotment-session-29/
LOCATION:Miller Fold Allotment\, Miller Fold Ave\, Accrington\, BB5 0NT\, United Kingdom
CATEGORIES:Conservation,Food Growing,Gardening,Health and wellbeing,Nature Crafts,Volunteering
ATTACH;FMTTYPE=image/jpeg:https://prospectsfoundation.org.uk/wp-content/uploads/2025/05/IMG-20240930-WA0019.jpg
ORGANIZER;CN="Sonja%20Bottomer":MAILTO:sonja.bottomer@prospectsfoundation.org.uk
END:VEVENT
END:VCALENDAR