BEGIN:VCALENDAR
VERSION:2.0
PRODID:-//Prospects - ECPv5.14.1//NONSGML v1.0//EN
CALSCALE:GREGORIAN
METHOD:PUBLISH
X-WR-CALNAME:Prospects
X-ORIGINAL-URL:https://prospectsfoundation.org.uk
X-WR-CALDESC:Events for Prospects
BEGIN:VTIMEZONE
TZID:Europe/London
BEGIN:DAYLIGHT
TZOFFSETFROM:+0000
TZOFFSETTO:+0100
TZNAME:BST
DTSTART:20250330T010000
END:DAYLIGHT
BEGIN:STANDARD
TZOFFSETFROM:+0100
TZOFFSETTO:+0000
TZNAME:GMT
DTSTART:20251026T010000
END:STANDARD
END:VTIMEZONE
BEGIN:VEVENT
DTSTART;TZID=Europe/London:20250624T100000
DTEND;TZID=Europe/London:20250624T150000
DTSTAMP:20260423T112100
CREATED:20250530T094237Z
LAST-MODIFIED:20250530T094237Z
UID:14497-1750759200-1750777200@prospectsfoundation.org.uk
SUMMARY:Whinney Hill - Hyndburn's Woodlands
DESCRIPTION:Join Hyndburn’s Woodlands Officer Brandon for weekly practical conservation sessions. \nThis week we will be back at Whinney Hill woodland continuing with the Himalayan Balsam removal. \n\n\nTools\, gloves and PPE will be provided. Please wear sturdy boots\, long sleeves and full length trousers. \nWe will be meeting at the Livingstone Road Car park\, BB5 5BS. There is parking available in the car park. Staff will be in orange hi-vis. \nTo find out more or confirm your attendance\, please contact Brandon at brandon.cherry@prospectsfoundation.org.uk or 07733 840842
URL:https://prospectsfoundation.org.uk/event/whinney-hill-hyndburns-woodlands-62/
LOCATION:Whinney Hill Woodland – Livingstone Road/East Crescent BB5 5BX\, Livingstone Road\, Accrington\, BB5 5BX
CATEGORIES:Conservation,Health and wellbeing,Volunteering,Woodlands
ATTACH;FMTTYPE=image/jpeg:https://prospectsfoundation.org.uk/wp-content/uploads/2025/05/IMG_20240723_102329.jpg
ORGANIZER;CN="Brandon%20Cherry":MAILTO:brandon.cherry@prospectsfoundation.org.uk
END:VEVENT
BEGIN:VEVENT
DTSTART;TZID=Europe/London:20250624T100000
DTEND;TZID=Europe/London:20250624T120000
DTSTAMP:20260423T112100
CREATED:20250530T142615Z
LAST-MODIFIED:20250530T142858Z
UID:14526-1750759200-1750766400@prospectsfoundation.org.uk
SUMMARY:Wildflower ID at Pleck Meadow (with Ribble Rivers Trust)
DESCRIPTION:Map showing the meeting point at Peel Park & the Coppice LNR. Click the image to be taken to the map.\nJoin PROSPECTS and Ribble Rivers Trust for Wildflower ID and mini grassland surveys at Pleck Meadow! \nMeet at the Peel Park & the Coppice car park next to the bowling green at 10am. \nFamily-friendly and free! \nTo express your interest or find out more\, email robert.gabryszak@prospectsfoundation.org.uk\, telephone 01254 230348 or call into the PROSPECTS office at 54 Broadway\, Accrington. \n 
URL:https://prospectsfoundation.org.uk/event/wildflower-id-at-pleck-meadow-with-ribble-rivers-trust/
LOCATION:Peel Park and the Coppice Local Nature Reserve\, Main car park off Peel Park Avenue (next to the bowling green)\, Accrington\, Lancashire\, BB5 6HL\, United Kingdom
CATEGORIES:Conservation,Health and wellbeing,Peel Park and the Coppice LNR,Volunteering
ATTACH;FMTTYPE=image/jpeg:https://prospectsfoundation.org.uk/wp-content/uploads/2025/05/HNR-Landscape-Posters.jpg
ORGANIZER;CN="Robert%20Gabryszak%20-%20LNR%20Project%20Officer":MAILTO:robert.gabryszak@prospectsfoundation.org.uk
END:VEVENT
BEGIN:VEVENT
DTSTART;TZID=Europe/London:20250624T130000
DTEND;TZID=Europe/London:20250624T150000
DTSTAMP:20260423T112100
CREATED:20250530T142833Z
LAST-MODIFIED:20250530T142833Z
UID:14529-1750770000-1750777200@prospectsfoundation.org.uk
SUMMARY:Butterfly Walk at Peel Park & the Coppice LNR (with Ribble Rivers Trust)
DESCRIPTION:Map showing the meeting point at Peel Park & the Coppice LNR. Click the image to be taken to the map.\nJoin PROSPECTS and Ribble Rivers Trust for butterfly walk through Peel Park & the Coppice LNR. \nMeet at the Peel Park & the Coppice car park next to the bowling green at 1pm. \nThe walk will include steep sections but the entire route is accessible to prams\, wheelchairs\, and mobility scooters. \nFamily-friendly and free! \nTo express your interest or find out more\, email robert.gabryszak@prospectsfoundation.org.uk\, telephone 01254 230348 or call into the PROSPECTS office at 54 Broadway\, Accrington. \n 
URL:https://prospectsfoundation.org.uk/event/butterfly-walk-at-peel-park-the-coppice-lnr-with-ribble-rivers-trust/
LOCATION:Peel Park and the Coppice Local Nature Reserve\, Main car park off Peel Park Avenue (next to the bowling green)\, Accrington\, Lancashire\, BB5 6HL\, United Kingdom
CATEGORIES:Conservation,Health and wellbeing,Peel Park and the Coppice LNR,Volunteering
ATTACH;FMTTYPE=image/jpeg:https://prospectsfoundation.org.uk/wp-content/uploads/2025/05/HNR-Landscape-Posters.jpg
ORGANIZER;CN="Robert%20Gabryszak%20-%20LNR%20Project%20Officer":MAILTO:robert.gabryszak@prospectsfoundation.org.uk
END:VEVENT
END:VCALENDAR