BEGIN:VCALENDAR
VERSION:2.0
PRODID:-//Prospects - ECPv5.14.1//NONSGML v1.0//EN
CALSCALE:GREGORIAN
METHOD:PUBLISH
X-WR-CALNAME:Prospects
X-ORIGINAL-URL:https://prospectsfoundation.org.uk
X-WR-CALDESC:Events for Prospects
BEGIN:VTIMEZONE
TZID:Europe/London
BEGIN:DAYLIGHT
TZOFFSETFROM:+0000
TZOFFSETTO:+0100
TZNAME:BST
DTSTART:20250330T010000
END:DAYLIGHT
BEGIN:STANDARD
TZOFFSETFROM:+0100
TZOFFSETTO:+0000
TZNAME:GMT
DTSTART:20251026T010000
END:STANDARD
END:VTIMEZONE
BEGIN:VEVENT
DTSTART;TZID=Europe/London:20250623T100000
DTEND;TZID=Europe/London:20250623T120000
DTSTAMP:20260423T030128
CREATED:20250529T141743Z
LAST-MODIFIED:20250530T091010Z
UID:14465-1750672800-1750680000@prospectsfoundation.org.uk
SUMMARY:Brookside: Stanhill Heritage Walk
DESCRIPTION:Recently\, we have had a lot of new people ask about the Brookside Restoration Project and tell us that they want to explore the site. Join project officer Alice on Monday the 23rd of June for a guided walk around the Stanhill Heritage Trail\, which takes place at Brookside and the surrounding area. \nAll are welcome but under-18s must be supervised by an adult. The route will take around 90 minutes at a gentle pace. \nWe will meet at the James Hargreaves Memorial Garden on Stanhill Road\, by the Aspen Lane bus stop. Look out for people in high viz! \nWaterproofs\, boots\, and sturdy clothes are highly recommended. \nPaths at Brookside can be uneven and boggy\, so this route is unfortunately not suitable for those with limited mobility. \nTo find out more or confirm your attendance\, please contact Alice at alice.pooley@prospectsfoundation.org.uk\, telephone 01254 230348\, or call into the Prospects office at 54 Broadway\, Accrington\, BB5 1EW.
URL:https://prospectsfoundation.org.uk/event/brookside-stanhill-heritage-walk/
LOCATION:Brookside\, Stanhill Road\, Oswaldtwistle\, BB5 4PP
CATEGORIES:Conservation,Health and wellbeing,Volunteering,Walking,Woodlands
ATTACH;FMTTYPE=image/png:https://prospectsfoundation.org.uk/wp-content/uploads/2025/02/Logo-2.0.png
ORGANIZER;CN="Alice%20Pooley":MAILTO:alice.pooley@prospectsfoundation.org.uk
END:VEVENT
BEGIN:VEVENT
DTSTART;TZID=Europe/London:20250623T100000
DTEND;TZID=Europe/London:20250623T130000
DTSTAMP:20260423T030128
CREATED:20250530T093931Z
LAST-MODIFIED:20250530T093944Z
UID:14488-1750672800-1750683600@prospectsfoundation.org.uk
SUMMARY:Pond Management | Hyndburn's Nature Reserve Volunteers session @Peel Park and the Coppice LNR
DESCRIPTION:Map showing the meeting point at Peel Park & the Coppice LNR. Click the image to be taken to the map.\nWe will be doing some general pond management which will include removal of Himalayan Balsam. \nJoin us for our new Hyndburn’s Nature Reserves project! There will be weekly conservation volunteers sessions at Peel Park and the Coppice Local Nature Reserve\, every Monday from 10am – 1pm. Come along to learn new skills\, meet people\, keep fit and help wildlife! \nTo express your interest or find out more\, email robert.gabryszak@prospectsfoundation.org.uk\, telephone 01254 230348 or call into the Prospects office at 54 Broadway\, Accrington \n 
URL:https://prospectsfoundation.org.uk/event/pond-management-hyndburns-nature-reserve-volunteers-session-peel-park-and-the-coppice-lnr/
LOCATION:Peel Park and the Coppice Local Nature Reserve\, Main car park off Peel Park Avenue (next to the bowling green)\, Accrington\, Lancashire\, BB5 6HL\, United Kingdom
CATEGORIES:Conservation,Health and wellbeing,Peel Park and the Coppice LNR,Volunteering
ATTACH;FMTTYPE=image/png:https://prospectsfoundation.org.uk/wp-content/uploads/2024/11/PEEL-PARK-the-COPPICE-LNR.png
ORGANIZER;CN="Robert%20Gabryszak%20-%20LNR%20Project%20Officer":MAILTO:robert.gabryszak@prospectsfoundation.org.uk
END:VEVENT
END:VCALENDAR