BEGIN:VCALENDAR
VERSION:2.0
PRODID:-//Prospects - ECPv5.14.1//NONSGML v1.0//EN
CALSCALE:GREGORIAN
METHOD:PUBLISH
X-WR-CALNAME:Prospects
X-ORIGINAL-URL:https://prospectsfoundation.org.uk
X-WR-CALDESC:Events for Prospects
BEGIN:VTIMEZONE
TZID:Europe/London
BEGIN:DAYLIGHT
TZOFFSETFROM:+0000
TZOFFSETTO:+0100
TZNAME:BST
DTSTART:20250330T010000
END:DAYLIGHT
BEGIN:STANDARD
TZOFFSETFROM:+0100
TZOFFSETTO:+0000
TZNAME:GMT
DTSTART:20251026T010000
END:STANDARD
END:VTIMEZONE
BEGIN:VEVENT
DTSTART;TZID=Europe/London:20250618T100000
DTEND;TZID=Europe/London:20250618T120000
DTSTAMP:20260423T083935
CREATED:20250528T143541Z
LAST-MODIFIED:20250528T143541Z
UID:14439-1750240800-1750248000@prospectsfoundation.org.uk
SUMMARY:Miller Fold Community Allotment session
DESCRIPTION:Join Sonja to learn new gardening skills\, socialise\, and relax in nature while supporting our productive community allotment! \nWe’ll be balsam pulling around the garden\, harvesting currants\, and path weeding.  \nNo experience is needed. Snacks\, hot drinks\, and a warm welcome at each session! Everyone welcome. \nLocation: Miller Fold Community Allotment\, off Woodview Drive\, BB5 ONT \nMeeting place: The junction between Woodview Drive and Miller Fold Avenue (what3words: stooping.conquests.topping) \nAccess is along a narrow\, uneven path from Woodview Drive. The allotment itself is partly accessible\, and there are places to sit and relax.  There is no toilet or running water on site.\nPlease wear robust footwear and dress for the weather. \nThe closest bus stop is ‘St Oswalds RC’\, which is a 3-minute walk away and is served by the A1 bus service from Accrington. \nContact Sonja sonja.bottomer@prospectsfoundation.org.uk or phone 01254 230348 to find out more and let her know if you’re thinking of coming along!
URL:https://prospectsfoundation.org.uk/event/miller-fold-community-allotment-session-26/
LOCATION:Miller Fold Allotment\, Miller Fold Ave\, Accrington\, BB5 0NT\, United Kingdom
CATEGORIES:Conservation,Food Growing,Gardening,Nature Crafts,Volunteering
ATTACH;FMTTYPE=image/jpeg:https://prospectsfoundation.org.uk/wp-content/uploads/2025/05/IMG-20250506-WA0018.jpg
ORGANIZER;CN="Sonja%20Bottomer":MAILTO:sonja.bottomer@prospectsfoundation.org.uk
END:VEVENT
BEGIN:VEVENT
DTSTART;TZID=Europe/London:20250618T100000
DTEND;TZID=Europe/London:20250618T150000
DTSTAMP:20260423T083935
CREATED:20250530T094558Z
LAST-MODIFIED:20250617T160809Z
UID:14499-1750240800-1750258800@prospectsfoundation.org.uk
SUMMARY:Whinney Hill - Hyndburn's Woodlands Postponed
DESCRIPTION:Unfortunately\, this session has to be rearranged. This is due to a short-notice event meeting that I need to attend. \nbrandon.cherry@prospectsfoundation.org.uk or 07733 840842
URL:https://prospectsfoundation.org.uk/event/whinney-hill-hyndburns-woodlands-63/
LOCATION:Whinney Hill Woodland – Livingstone Road/East Crescent BB5 5BX\, Livingstone Road\, Accrington\, BB5 5BX
CATEGORIES:Conservation,Health and wellbeing,Volunteering,Woodlands
ATTACH;FMTTYPE=image/jpeg:https://prospectsfoundation.org.uk/wp-content/uploads/2025/04/IMG_20240730_131910.jpg
ORGANIZER;CN="Brandon%20Cherry":MAILTO:brandon.cherry@prospectsfoundation.org.uk
END:VEVENT
BEGIN:VEVENT
DTSTART;TZID=Europe/London:20250618T100000
DTEND;TZID=Europe/London:20250618T130000
DTSTAMP:20260423T083935
CREATED:20250530T101953Z
LAST-MODIFIED:20250530T102859Z
UID:14511-1750240800-1750251600@prospectsfoundation.org.uk
SUMMARY:Balsam Bashing - Hyndburn's Nature Reserve Volunteers session @Jackhouse nature reserve
DESCRIPTION:Join us for our new Hyndburn’s Nature Reserves project! There will be fortnightly conservation volunteers sessions at Jackhouse nature reserve\, Wednesdays. Come along to learn new skills\, meet people\, keep fit and help wildlife! \nPark on Fieldings Lane\, it is then a 10 minute walk to the entrance of Jackhouse nature reserve where we will be meeting. \nTo express your interest or find out more\, email robert.gabryszak@prospectsfoundation.org.uk\, telephone 01254 230348 or call into the Prospects office at 54 Broadway\, Accrington \n 
URL:https://prospectsfoundation.org.uk/event/balsam-bashing-hyndburns-nature-reserve-volunteers-session-jackhouse-nature-reserve-2/
LOCATION:Jackhouse Nature Reserve\, Pot House Lane\, Oswaldtwistle\, BB5 3RS
CATEGORIES:Conservation,Health and wellbeing,Peel Park and the Coppice LNR,Volunteering
ATTACH;FMTTYPE=image/png:https://prospectsfoundation.org.uk/wp-content/uploads/2024/11/Jackhouse.png
ORGANIZER;CN="Robert%20Gabryszak%20-%20LNR%20Project%20Officer":MAILTO:robert.gabryszak@prospectsfoundation.org.uk
END:VEVENT
BEGIN:VEVENT
DTSTART;TZID=Europe/London:20250618T133000
DTEND;TZID=Europe/London:20250618T153000
DTSTAMP:20260423T083935
CREATED:20250529T123634Z
LAST-MODIFIED:20250529T123634Z
UID:14451-1750253400-1750260600@prospectsfoundation.org.uk
SUMMARY:Brew Day: The Brookside Restoration Project
DESCRIPTION:On Wednesday\, the 18th of June\, project officer Alice will be presenting at the Stanhill Village Brew Day. Join us at the Stanhill Methodist Church in Nab Lane to hear all about the project\, meet some friendly poeple\, and enjoy a nice cup of tea and a biscuit! \nFor more information\, click here! \nAll are welcome\, but under-18s must be supervised by an adult. \nPLEASE NOTE: No parking is permitted on Nab Lane. Please consider using public transport – the 6a and 7a bus both stop on Stanhill Road. \nTo find out more or confirm your attendance\, please contact Alice at alice.pooley@prospectsfoundation.org.uk\, telephone 01254 230348\, or call into the Prospects office at 54 Broadway\, Accrington\, BB5 1EW.
URL:https://prospectsfoundation.org.uk/event/brew-day-the-brookside-restoration-project/
LOCATION:Brookside\, Stanhill Road\, Oswaldtwistle\, BB5 4PP
CATEGORIES:Conservation,Health and wellbeing,Volunteering,Walking,Woodlands
ATTACH;FMTTYPE=image/png:https://prospectsfoundation.org.uk/wp-content/uploads/2025/02/Logo-2.0.png
ORGANIZER;CN="Alice%20Pooley":MAILTO:alice.pooley@prospectsfoundation.org.uk
END:VEVENT
END:VCALENDAR