BEGIN:VCALENDAR
VERSION:2.0
PRODID:-//Prospects - ECPv5.14.1//NONSGML v1.0//EN
CALSCALE:GREGORIAN
METHOD:PUBLISH
X-WR-CALNAME:Prospects
X-ORIGINAL-URL:https://prospectsfoundation.org.uk
X-WR-CALDESC:Events for Prospects
BEGIN:VTIMEZONE
TZID:Europe/London
BEGIN:DAYLIGHT
TZOFFSETFROM:+0000
TZOFFSETTO:+0100
TZNAME:BST
DTSTART:20250330T010000
END:DAYLIGHT
BEGIN:STANDARD
TZOFFSETFROM:+0100
TZOFFSETTO:+0000
TZNAME:GMT
DTSTART:20251026T010000
END:STANDARD
END:VTIMEZONE
BEGIN:VEVENT
DTSTART;VALUE=DATE:20250610
DTEND;VALUE=DATE:20250611
DTSTAMP:20260423T041001
CREATED:20250530T094121Z
LAST-MODIFIED:20250530T094121Z
UID:14492-1749513600-1749599999@prospectsfoundation.org.uk
SUMMARY:No Session - Hyndburn's Woodlands
DESCRIPTION:There will be no Hyndburn’s Woodlands session this week\, this is due to EcoFest preparations. Regular sessions will resume the following week.
URL:https://prospectsfoundation.org.uk/event/no-session-hyndburns-woodlands-3/
CATEGORIES:Conservation,Health and wellbeing,Volunteering,Woodlands
ORGANIZER;CN="Brandon%20Cherry":MAILTO:brandon.cherry@prospectsfoundation.org.uk
END:VEVENT
END:VCALENDAR