BEGIN:VCALENDAR
VERSION:2.0
PRODID:-//Prospects - ECPv5.14.1//NONSGML v1.0//EN
CALSCALE:GREGORIAN
METHOD:PUBLISH
X-WR-CALNAME:Prospects
X-ORIGINAL-URL:https://prospectsfoundation.org.uk
X-WR-CALDESC:Events for Prospects
BEGIN:VTIMEZONE
TZID:Europe/London
BEGIN:DAYLIGHT
TZOFFSETFROM:+0000
TZOFFSETTO:+0100
TZNAME:BST
DTSTART:20250330T010000
END:DAYLIGHT
BEGIN:STANDARD
TZOFFSETFROM:+0100
TZOFFSETTO:+0000
TZNAME:GMT
DTSTART:20251026T010000
END:STANDARD
END:VTIMEZONE
BEGIN:VEVENT
DTSTART;TZID=Europe/London:20250604T100000
DTEND;TZID=Europe/London:20250604T120000
DTSTAMP:20260423T054309
CREATED:20250528T142059Z
LAST-MODIFIED:20250528T142059Z
UID:14433-1749031200-1749038400@prospectsfoundation.org.uk
SUMMARY:Miller Fold Community Allotment session
DESCRIPTION:Join Sonja to learn new gardening skills\, socialise\, and relax in nature while supporting our productive community allotment! \nWe’ll be digging over our last empty bed to plant celeriac and sowing carrots.  \nNo experience is needed. Snacks\, hot drinks\, and a warm welcome at each session! Everyone welcome. \nLocation: Miller Fold Community Allotment\, off Woodview Drive\, BB5 ONT \nMeeting place: The junction between Woodview Drive and Miller Fold Avenue (what3words: stooping.conquests.topping) \nAccess is along a narrow\, uneven path from Woodview Drive. The allotment itself is partly accessible\, and there are places to sit and relax.  There is no toilet or running water on site.\nPlease wear robust footwear and dress for the weather. \nThe closest bus stop is ‘St Oswalds RC’\, which is a 3-minute walk away and is served by the A1 bus service from Accrington. \nContact Sonja sonja.bottomer@prospectsfoundation.org.uk or phone 01254 230348 to find out more and let her know if you’re thinking of coming along!
URL:https://prospectsfoundation.org.uk/event/miller-fold-community-allotment-session-24/
LOCATION:Miller Fold Allotment\, Miller Fold Ave\, Accrington\, BB5 0NT\, United Kingdom
CATEGORIES:Conservation,Food Growing,Gardening,Nature Crafts,Volunteering
ATTACH;FMTTYPE=image/jpeg:https://prospectsfoundation.org.uk/wp-content/uploads/2025/05/IMG-20250428-WA0013.jpg
ORGANIZER;CN="Sonja%20Bottomer":MAILTO:sonja.bottomer@prospectsfoundation.org.uk
END:VEVENT
BEGIN:VEVENT
DTSTART;TZID=Europe/London:20250604T100000
DTEND;TZID=Europe/London:20250604T150000
DTSTAMP:20260423T054309
CREATED:20250530T093924Z
LAST-MODIFIED:20250530T093924Z
UID:14486-1749031200-1749049200@prospectsfoundation.org.uk
SUMMARY:Whinney Hill - Hyndburn's Woodlands
DESCRIPTION:Join Hyndburn’s Woodlands Officer Brandon for weekly practical conservation sessions. \nThis session is part of a series that will assess the biological value of each of the 11 woodlands managed through the project. \n\nIf you are looking to get some experience in carrying out surveying work\, or you are just looking to improve you tree ID knowledge\, then look no further! \n\nTools\, gloves and PPE will be provided. Please wear sturdy boots\, long sleeves and full length trousers. \nWe will be meeting along Thorneyholme Road\, BB5 5FW. There is on-street parking available. Staff will be in orange hi-vis. \nTo find out more or confirm your attendance\, please contact Brandon at brandon.cherry@prospectsfoundation.org.uk or 07733 840842
URL:https://prospectsfoundation.org.uk/event/whinney-hill-hyndburns-woodlands-60/
LOCATION:Whinney Hill Woodland – Thorneyholme Road\, Thorneyholme Road\, Accrington\, BB5 5BB\, United Kingdom
CATEGORIES:Conservation,Health and wellbeing,Volunteering,Woodlands
ATTACH;FMTTYPE=image/jpeg:https://prospectsfoundation.org.uk/wp-content/uploads/2025/04/IMG_20240730_131910.jpg
ORGANIZER;CN="Brandon%20Cherry":MAILTO:brandon.cherry@prospectsfoundation.org.uk
END:VEVENT
END:VCALENDAR