BEGIN:VCALENDAR
VERSION:2.0
PRODID:-//Prospects - ECPv5.14.1//NONSGML v1.0//EN
CALSCALE:GREGORIAN
METHOD:PUBLISH
X-WR-CALNAME:Prospects
X-ORIGINAL-URL:https://prospectsfoundation.org.uk
X-WR-CALDESC:Events for Prospects
BEGIN:VTIMEZONE
TZID:Europe/London
BEGIN:DAYLIGHT
TZOFFSETFROM:+0000
TZOFFSETTO:+0100
TZNAME:BST
DTSTART:20250330T010000
END:DAYLIGHT
BEGIN:STANDARD
TZOFFSETFROM:+0100
TZOFFSETTO:+0000
TZNAME:GMT
DTSTART:20251026T010000
END:STANDARD
END:VTIMEZONE
BEGIN:VEVENT
DTSTART;TZID=Europe/London:20250507T100000
DTEND;TZID=Europe/London:20250507T130000
DTSTAMP:20260423T054226
CREATED:20250328T143919Z
LAST-MODIFIED:20250430T152809Z
UID:14154-1746612000-1746622800@prospectsfoundation.org.uk
SUMMARY:Wildflower Planting - Hyndburn's Nature Reserve Volunteers session @Jackhouse nature reserve
DESCRIPTION:Join us for our new Hyndburn’s Nature Reserves project! There will be fortnightly conservation volunteers sessions at Jackhouse nature reserve\, Wednesdays. Come along to learn new skills\, meet people\, keep fit and help wildlife! \nPark on Fieldings Lane\, it is then a 10 minute walk to the entrance of Jackhouse nature reserve where we will be meeting. \nTo express your interest or find out more\, email robert.gabryszak@prospectsfoundation.org.uk\, telephone 01254 230348 or call into the Prospects office at 54 Broadway\, Accrington \n 
URL:https://prospectsfoundation.org.uk/event/hyndburns-nature-reserve-volunteers-session-jackhouse-nature-reserve-8/
LOCATION:Jackhouse Nature Reserve\, Pot House Lane\, Oswaldtwistle\, BB5 3RS
CATEGORIES:Conservation,Health and wellbeing,Peel Park and the Coppice LNR,Volunteering
ATTACH;FMTTYPE=image/png:https://prospectsfoundation.org.uk/wp-content/uploads/2024/11/Jackhouse.png
ORGANIZER;CN="Robert%20Gabryszak%20-%20LNR%20Project%20Officer":MAILTO:robert.gabryszak@prospectsfoundation.org.uk
END:VEVENT
BEGIN:VEVENT
DTSTART;TZID=Europe/London:20250507T100000
DTEND;TZID=Europe/London:20250507T120000
DTSTAMP:20260423T054226
CREATED:20250428T154022Z
LAST-MODIFIED:20250428T154022Z
UID:14281-1746612000-1746619200@prospectsfoundation.org.uk
SUMMARY:Miller Fold Community Allotment session
DESCRIPTION:Join Sonja to learn new gardening skills\, socialise\, and relax in nature while supporting our productive community allotment! \nWe’ll be picking rhubarb and planting runner beans. Plus the usual weeding\, watering \,and seed sowing! \nNo experience is needed. Snacks\, hot drinks\, and a warm welcome at each session! Everyone welcome. \nLocation: Miller Fold Community Allotment\, off Woodview Drive\, BB5 ONT \nMeeting place: The junction between Woodview Drive and Miller Fold Avenue (what3words: stooping.conquests.topping) \nAccess is along a narrow\, uneven path from Woodview Drive. The allotment itself is partly accessible\, and there are places to sit and relax.  There is no toilet or running water on site.\nPlease wear robust footwear and dress for the weather. \nThe closest bus stop is ‘St Oswalds RC’\, which is a 3 minute walk away and is served by the A1 bus service from Accrington. \nContact Sonja sonja.bottomer@prospectsfoundation.org.uk or phone 01254 230348 to find out more and let her know if you’re thinking of coming along!
URL:https://prospectsfoundation.org.uk/event/miller-fold-community-allotment-session-21/
LOCATION:Miller Fold Allotment\, Miller Fold Ave\, Accrington\, BB5 0NT\, United Kingdom
CATEGORIES:Conservation,Food Growing,Gardening,Nature Crafts,Volunteering
ATTACH;FMTTYPE=image/jpeg:https://prospectsfoundation.org.uk/wp-content/uploads/2025/04/IMG-20250428-WA0011.jpg
ORGANIZER;CN="Sonja%20Bottomer":MAILTO:sonja.bottomer@prospectsfoundation.org.uk
END:VEVENT
BEGIN:VEVENT
DTSTART;TZID=Europe/London:20250507T100000
DTEND;TZID=Europe/London:20250507T130000
DTSTAMP:20260423T054226
CREATED:20250430T153527Z
LAST-MODIFIED:20250430T154043Z
UID:14343-1746612000-1746622800@prospectsfoundation.org.uk
SUMMARY:Hedgerow Maintenance at Hollins Woodland for NATIONAL HEDGEROW WEEK
DESCRIPTION:Join our Community TreeACTION Officer Helen for NATIONAL HEDGEROW WEEK. Tree maintenance tasks will help our newly planted trees at the Hollins Woodland in Baxenden. We will be checking on all the trees\, removing any vegetation such as balsam\, rushes and brambles that might outcompete the trees\, and fixing/replacing any wonky or broken wooden stakes. \nWe will be meeting on the green next to Hollins School: Hollins Ln\, Accrington BB5 2QY. Staff will be in orange hi-vis. \nNo experience is necessary – just bring your enthusiasm! \n\nAll ages welcome. Children will need to be accompanied by an adult\nPlease wear suitable outdoor clothes and sturdy boots (wellies are advised)\n\nTo find out more or confirm your attendance\, please contact Helen at helen.earnshaw@prospectsfoundation.org.uk\, telephone 01254 230348\, or call into the Prospects office at 54 Broadway\, Accrington\, BB5 1EW. \nThe TreeACTION Project is a direct result of Hyndburn Borough Council’s Climate Emergency Declaration in September 2019 and is seen as one of the key projects where local people can help to reduce emissions within the borough.
URL:https://prospectsfoundation.org.uk/event/hedgerow-maintenance-at-hollins/
LOCATION:Hollins Wood\, Hollins Lane\, Accrington\, BB5 2QY
CATEGORIES:Conservation,Health and wellbeing,Volunteering
ATTACH;FMTTYPE=image/jpeg:https://prospectsfoundation.org.uk/wp-content/uploads/2023/03/IMG_20230320_141337-scaled.jpg
ORGANIZER;CN="Helen%20Earnshaw%20-%20Community%20TreeACTION%20Officer":MAILTO:helen.earnshaw@prospectsfoundation.org.uk
END:VEVENT
END:VCALENDAR