BEGIN:VCALENDAR
VERSION:2.0
PRODID:-//Prospects - ECPv5.14.1//NONSGML v1.0//EN
CALSCALE:GREGORIAN
METHOD:PUBLISH
X-WR-CALNAME:Prospects
X-ORIGINAL-URL:https://prospectsfoundation.org.uk
X-WR-CALDESC:Events for Prospects
BEGIN:VTIMEZONE
TZID:Europe/London
BEGIN:DAYLIGHT
TZOFFSETFROM:+0000
TZOFFSETTO:+0100
TZNAME:BST
DTSTART:20250330T010000
END:DAYLIGHT
BEGIN:STANDARD
TZOFFSETFROM:+0100
TZOFFSETTO:+0000
TZNAME:GMT
DTSTART:20251026T010000
END:STANDARD
END:VTIMEZONE
BEGIN:VEVENT
DTSTART;TZID=Europe/London:20250419T070000
DTEND;TZID=Europe/London:20250419T090000
DTSTAMP:20260423T082449
CREATED:20250227T155320Z
LAST-MODIFIED:20250327T133531Z
UID:13993-1745046000-1745053200@prospectsfoundation.org.uk
SUMMARY:Martholme Greenway - Dawn Chorus Walk
DESCRIPTION:Join The PROSPECTS Foundation and Dave Bickerton\, of the Lancashire and Cheshire Fauna Society\, for a morning of twitching along Martholme Greenway! Dave will be sharing his bountiful knowledge with us\, identifying birds by sight and by call! Come along for an incredible learning experience for all things birds! \nThe session will start at 7am and will wrap up around 9am. We will be Mill Lane\, Great Harwood\, BB6 7UQ. On-street parking is available. Staff will be in orange hi-vis. \nThis is a family friendly event. Please do not bring dogs to the event. \n\n\nTo find out more or confirm your attendance\, please contact Brandon at brandon.cherry@prospectsfoundation.org.uk or 07733 840842
URL:https://prospectsfoundation.org.uk/event/woodnook-vale-lnr-dawn-chorus-walk/
LOCATION:Mill Lane\, Martholme Greenway\, Mill Lane\, Great Harwood\, Lancashire\, BB6 7UQ\, United Kingdom
CATEGORIES:Family,Health and wellbeing,Outdoor Learning,Walking,Woodlands
ATTACH;FMTTYPE=image/png:https://prospectsfoundation.org.uk/wp-content/uploads/2025/02/Add-a-subheading-1.png
ORGANIZER;CN="Brandon%20Cherry":MAILTO:brandon.cherry@prospectsfoundation.org.uk
END:VEVENT
END:VCALENDAR