BEGIN:VCALENDAR
VERSION:2.0
PRODID:-//Prospects - ECPv5.14.1//NONSGML v1.0//EN
CALSCALE:GREGORIAN
METHOD:PUBLISH
X-WR-CALNAME:Prospects
X-ORIGINAL-URL:https://prospectsfoundation.org.uk
X-WR-CALDESC:Events for Prospects
BEGIN:VTIMEZONE
TZID:Europe/London
BEGIN:DAYLIGHT
TZOFFSETFROM:+0000
TZOFFSETTO:+0100
TZNAME:BST
DTSTART:20250330T010000
END:DAYLIGHT
BEGIN:STANDARD
TZOFFSETFROM:+0100
TZOFFSETTO:+0000
TZNAME:GMT
DTSTART:20251026T010000
END:STANDARD
END:VTIMEZONE
BEGIN:VEVENT
DTSTART;TZID=Europe/London:20250403T100000
DTEND;TZID=Europe/London:20250403T130000
DTSTAMP:20260423T083006
CREATED:20250228T161608Z
LAST-MODIFIED:20250327T144914Z
UID:14011-1743674400-1743685200@prospectsfoundation.org.uk
SUMMARY:Miller Fold Community Allotment session
DESCRIPTION:Join Sonja to learn new gardening skills\, socialise\, and relax in nature while supporting our productive community allotment! \nWe’ll be installing a new water butt (!) ready for summer watering\, and continuing to sow seeds and dig dock. \nLocation: Miller Fold Community Allotment\, off Miller Fold Avenue\, Accrington\, BB5 ONT\nMeeting place: The junction between Woodview Drive and Miller Fold Avenue (what3words: stooping.conquests.topping) \nNo experience is needed. Snacks\, hot drinks\, and a warm welcome at each session! Everyone welcome. \n  \nThe closest bus stop is ‘St Oswalds RC’ which is a 3 minute walk away and is served by the A1 bus service form Accrington. \nAccess is moderate with some unseen slip/trip hazards underfoot\, however\, there are places to sit on the allotment. There is no toilet on site. \nPlease wear robust footwear and bring plenty of layers. \nContact Sonja sonja.bottomer@prospectsfoundation.org.uk or phone 01254 230348 to find out more and get involved. \n 
URL:https://prospectsfoundation.org.uk/event/miller-fold-community-allotment-session-18/
LOCATION:Miller Fold Allotment\, Miller Fold Ave\, Accrington\, BB5 0NT\, United Kingdom
CATEGORIES:Conservation,Food Growing,Gardening,Nature Crafts,Volunteering
ATTACH;FMTTYPE=image/jpeg:https://prospectsfoundation.org.uk/wp-content/uploads/2025/02/IMG_20250306_132626-scaled.jpg
ORGANIZER;CN="Sonja%20Bottomer":MAILTO:sonja.bottomer@prospectsfoundation.org.uk
END:VEVENT
BEGIN:VEVENT
DTSTART;TZID=Europe/London:20250403T100000
DTEND;TZID=Europe/London:20250403T130000
DTSTAMP:20260423T083006
CREATED:20250314T153910Z
LAST-MODIFIED:20250314T153910Z
UID:14067-1743674400-1743685200@prospectsfoundation.org.uk
SUMMARY:Brookside Thursday Volunteer Workparty (Thursday Gang)
DESCRIPTION:Join Alice for seasonal habitat improvement work (and of course\, biscuits!) \nWe meet at the Noticeboard by the Stanhill Road entrance to the site at 10am (see the map below) \n \nAll are welcome but under 18s must be supervised by an adult. \nWaterproofs\, boots\, and sturdy clothes are highly recommended. \nAccess can be uneven and boggy\, so these sessions are not suitable for those with limited mobility. \nTo find out more or confirm your attendance\, please contact Alice at alice.pooley@prospectsfoundation.org.uk\, telephone 01254 230348\, or call into the Prospects office at 54 Broadway\, Accrington\, BB5 1EW.
URL:https://prospectsfoundation.org.uk/event/brookside-thursday-volunteer-workparty-thursday-gang-2/
LOCATION:Brookside\, Stanhill Road\, Oswaldtwistle\, BB5 4PP
CATEGORIES:Conservation,Health and wellbeing,Volunteering,Walking,Woodlands
ATTACH;FMTTYPE=image/png:https://prospectsfoundation.org.uk/wp-content/uploads/2025/02/Logo-2.0.png
ORGANIZER;CN="Alice%20Pooley":MAILTO:alice.pooley@prospectsfoundation.org.uk
END:VEVENT
BEGIN:VEVENT
DTSTART;TZID=Europe/London:20250403T100000
DTEND;TZID=Europe/London:20250403T150000
DTSTAMP:20260423T083006
CREATED:20250327T115628Z
LAST-MODIFIED:20250327T120806Z
UID:14090-1743674400-1743692400@prospectsfoundation.org.uk
SUMMARY:Whinney Hill - Hyndburn's Woodlands
DESCRIPTION:Join Hyndburn’s Woodlands Officer Brandon for weekly practical conservation sessions. This week\, we will be at Whinney Hill taking part in the ‘Great British Spring Clean’ event! \n\nTasks include cleaning up a large amount of litter and fly-tipping that has accumulated at that Ribbleton Drive entrance. Secondary tasks include clearing a few small trees which have fallen over. \n\nTools\, gloves and PPE will be provided. Please wear sturdy boots\, long sleeves and full length trousers. \nWe will be meeting at the Livingstone Road entrance\, BB5 5BS. There is on-street parking available. Staff will be in orange hi-vis. \nTo find out more or confirm your attendance\, please contact Brandon at brandon.cherry@prospectsfoundation.org.uk or 07733 840842
URL:https://prospectsfoundation.org.uk/event/whinney-hill-hyndburns-woodlands-52/
LOCATION:Whinney Hill Woodland – Livingstone Road/East Crescent BB5 5BX\, Livingstone Road\, Accrington\, BB5 5BX
CATEGORIES:Conservation,Health and wellbeing,Volunteering,Woodlands
ATTACH;FMTTYPE=image/jpeg:https://prospectsfoundation.org.uk/wp-content/uploads/2025/03/IMG_20241127_154003.jpg
ORGANIZER;CN="Brandon%20Cherry":MAILTO:brandon.cherry@prospectsfoundation.org.uk
END:VEVENT
END:VCALENDAR