BEGIN:VCALENDAR
VERSION:2.0
PRODID:-//Prospects - ECPv5.14.1//NONSGML v1.0//EN
CALSCALE:GREGORIAN
METHOD:PUBLISH
X-WR-CALNAME:Prospects
X-ORIGINAL-URL:https://prospectsfoundation.org.uk
X-WR-CALDESC:Events for Prospects
BEGIN:VTIMEZONE
TZID:Europe/London
BEGIN:DAYLIGHT
TZOFFSETFROM:+0000
TZOFFSETTO:+0100
TZNAME:BST
DTSTART:20250330T010000
END:DAYLIGHT
BEGIN:STANDARD
TZOFFSETFROM:+0100
TZOFFSETTO:+0000
TZNAME:GMT
DTSTART:20251026T010000
END:STANDARD
END:VTIMEZONE
BEGIN:VEVENT
DTSTART;TZID=Europe/London:20250315T100000
DTEND;TZID=Europe/London:20250315T130000
DTSTAMP:20260423T110554
CREATED:20250227T102239Z
LAST-MODIFIED:20250227T105122Z
UID:13965-1742032800-1742043600@prospectsfoundation.org.uk
SUMMARY:Hyndburn's Nature Reserve Volunteers session @Arden Hall
DESCRIPTION:Arden Hall Meeting Point at the gates  – there is on street parking.\nJoin us for our new Hyndburn’s Nature Reserves project! There will be weekly conservation volunteers sessions at Peel Park and the Coppice Local Nature Reserve\, every Monday from 10am – 1pm. Come along to learn new skills\, meet people\, keep fit and help wildlife! \nOn Saturday 15th PROSPECTS will be doing a special Saturday session at Arden Hall & Pleck Meadow. Join us for litter-picking and general woodland management. We will also be looking for signs of spring across the site. \nTo express your interest or find out more\, email robert.gabryszak@prospectsfoundation.org.uk\, telephone 01254 230348 or call into the Prospects office at 54 Broadway\, Accrington \n 
URL:https://prospectsfoundation.org.uk/event/hyndburns-nature-reserve-volunteers-session-arden-hall/
LOCATION:Arden Hall\, Arden Hall\, Accrington\, BB5 6RU
CATEGORIES:Conservation,Health and wellbeing,Peel Park and the Coppice LNR,Volunteering
ATTACH;FMTTYPE=image/png:https://prospectsfoundation.org.uk/wp-content/uploads/2025/02/Arden-Hall.png
ORGANIZER;CN="Robert%20Gabryszak%20-%20LNR%20Project%20Officer":MAILTO:robert.gabryszak@prospectsfoundation.org.uk
END:VEVENT
END:VCALENDAR