BEGIN:VCALENDAR
VERSION:2.0
PRODID:-//Prospects - ECPv5.14.1//NONSGML v1.0//EN
CALSCALE:GREGORIAN
METHOD:PUBLISH
X-WR-CALNAME:Prospects
X-ORIGINAL-URL:https://prospectsfoundation.org.uk
X-WR-CALDESC:Events for Prospects
BEGIN:VTIMEZONE
TZID:Europe/London
BEGIN:DAYLIGHT
TZOFFSETFROM:+0000
TZOFFSETTO:+0100
TZNAME:BST
DTSTART:20250330T010000
END:DAYLIGHT
BEGIN:STANDARD
TZOFFSETFROM:+0100
TZOFFSETTO:+0000
TZNAME:GMT
DTSTART:20251026T010000
END:STANDARD
END:VTIMEZONE
BEGIN:VEVENT
DTSTART;TZID=Europe/London:20250227T100000
DTEND;TZID=Europe/London:20250227T130000
DTSTAMP:20260423T110403
CREATED:20250210T161230Z
LAST-MODIFIED:20250210T161230Z
UID:13871-1740650400-1740661200@prospectsfoundation.org.uk
SUMMARY:Brookside Thursday Session
DESCRIPTION:Join our Brookside Development Office Alice for the regular Brookside volunteer session. There will be a variety of seasonal conservation tasks available. \nWe meet at the Noticeboard by the Stanhill Road entrance to the site at 10am (see the map below) \n \nAll are welcome but under 18s must be supervised by an adult. \nWaterproofs\, boots\, and sturdy clothes are highly recommended. Please bring lunch and later. \nTo find out more or confirm your attendance\, please contact Alice at alice.pooley@prospectsfoundation.org.uk\, telephone 01254 230348\, or call into the Prospects office at 54 Broadway\, Accrington\, BB5 1EW.
URL:https://prospectsfoundation.org.uk/event/brookside-thursday-session-2/
LOCATION:Brookside\, Stanhill Road\, Oswaldtwistle\, BB5 4PP
CATEGORIES:Conservation,Health and wellbeing,Volunteering,Walking,Woodlands
ORGANIZER;CN="Alice%20Pooley":MAILTO:alice.pooley@prospectsfoundation.org.uk
END:VEVENT
END:VCALENDAR