BEGIN:VCALENDAR
VERSION:2.0
PRODID:-//Prospects - ECPv5.14.1//NONSGML v1.0//EN
CALSCALE:GREGORIAN
METHOD:PUBLISH
X-WR-CALNAME:Prospects
X-ORIGINAL-URL:https://prospectsfoundation.org.uk
X-WR-CALDESC:Events for Prospects
BEGIN:VTIMEZONE
TZID:Europe/London
BEGIN:DAYLIGHT
TZOFFSETFROM:+0000
TZOFFSETTO:+0100
TZNAME:BST
DTSTART:20250330T010000
END:DAYLIGHT
BEGIN:STANDARD
TZOFFSETFROM:+0100
TZOFFSETTO:+0000
TZNAME:GMT
DTSTART:20251026T010000
END:STANDARD
END:VTIMEZONE
BEGIN:VEVENT
DTSTART;TZID=Europe/London:20250225T093000
DTEND;TZID=Europe/London:20250225T120000
DTSTAMP:20260423T134832
CREATED:20250131T122307Z
LAST-MODIFIED:20250131T122307Z
UID:13827-1740475800-1740484800@prospectsfoundation.org.uk
SUMMARY:Guided Walk and Coffee Morning in Ossy
DESCRIPTION:Join our Brookside Development Office Alice for a guided walk followed by a hot drink in the Stanhill Methodist Church. \nWe meet at the Noticeboard by the Stanhill Road entrance to the site at 10am (see the map below) \n \nAll are welcome but under 18s must be supervised by an adult. \nWaterproofs\, boots\, and sturdy clothes are highly recommended. \nTo find out more or confirm your attendance\, please contact Alice at alice.pooley@prospectsfoundation.org.uk\, telephone 01254 230348\, or call into the Prospects office at 54 Broadway\, Accrington\, BB5 1EW.
URL:https://prospectsfoundation.org.uk/event/guided-walk-and-coffee-morning-in-ossy/
LOCATION:Brookside\, Stanhill Road\, Oswaldtwistle\, BB5 4PP
CATEGORIES:Conservation,Health and wellbeing,Volunteering,Walking,Woodlands
ORGANIZER;CN="Alice%20Pooley":MAILTO:alice.pooley@prospectsfoundation.org.uk
END:VEVENT
BEGIN:VEVENT
DTSTART;TZID=Europe/London:20250225T100000
DTEND;TZID=Europe/London:20250225T150000
DTSTAMP:20260423T134832
CREATED:20250129T110608Z
LAST-MODIFIED:20250217T143223Z
UID:13749-1740477600-1740495600@prospectsfoundation.org.uk
SUMMARY:Oak Hill Park - Hyndburn's Woodlands
DESCRIPTION:Join Hyndburn’s Woodlands Officer Brandon for weekly practical conservation sessions. This week\, we will be at Oak Hill Park bat boxes to be installed at Whinney Hill Woodland. \n\nTasks include using hand tools to saw timber to specifications and fixing timber together to create a sturdy bat box. \n\nTools\, gloves and PPE will be provided. Please wear sturdy boots\, long sleeves and full length trousers. \nWe will be meeting at Oak Hill Park\, Accrington\, BB5 2NY. There is a small amount of parking available inside Oak Hill Park (Directly outside the Incredible Edible garden)\, alternatively\, there is on-street parking available on Manchester Road. For further details please contact the below email address. \nTo find out more or confirm your attendance\, please contact Brandon at brandon.cherry@prospectsfoundation.org.uk or 07733 840842
URL:https://prospectsfoundation.org.uk/event/oak-hill-park-hyndburns-woodlands-2/
LOCATION:Huncoat East Woodland\, 27 Altham Lane\, Accrington\, Lancashire\, BB5 5UR\, United Kingdom
CATEGORIES:Health and wellbeing,Nature Crafts,Outdoor Learning,Traditional Crafts,Volunteering,Woodlands
ATTACH;FMTTYPE=image/jpeg:https://prospectsfoundation.org.uk/wp-content/uploads/2025/01/IMG_20240530_125155.jpg
ORGANIZER;CN="Brandon%20Cherry":MAILTO:brandon.cherry@prospectsfoundation.org.uk
END:VEVENT
BEGIN:VEVENT
DTSTART;TZID=Europe/London:20250225T100000
DTEND;TZID=Europe/London:20250225T130000
DTSTAMP:20260423T134832
CREATED:20250130T102529Z
LAST-MODIFIED:20250130T102601Z
UID:13768-1740477600-1740488400@prospectsfoundation.org.uk
SUMMARY:Miller Fold Community Allotment session
DESCRIPTION:Join Sonja to learn new gardening skills\, socialise and relax in nature while supporting our productive community allotment! \nWe’ll be turning the compost heap and continuing prepping the garden for spring. \nLocation: Miller Fold Community Allotment\, off Miller Fold Avenue\, Accrington\, BB5 ONT\nMeeting place: The junction between Woodview Drive and Miller Fold Avenue (what3words: stooping.conquests.topping) \nNo experience needed. Snacks\, hot drinks\, and a warm welcome at each session! Everyone welcome. \n  \nThe closest bus stop is ‘St Oswalds RC’ which is a 3 minute walk away and is served by the A1 bus service form Accrington. \nAccess is moderate with some unseen slip/trip hazards underfoot\, however there are places to sit on the allotment. There is no toilet on site. \nPlease wear robust footwear and bring plenty of layers. \nContact Sonja sonja.bottomer@prospectsfoundation.org.uk or phone 01254 230348 to find out more and get involved. \n 
URL:https://prospectsfoundation.org.uk/event/miller-fold-community-allotment-session-15/
LOCATION:Miller Fold Allotment\, Miller Fold Ave\, Accrington\, BB5 0NT\, United Kingdom
CATEGORIES:Conservation,Food Growing,Gardening,Nature Crafts,Volunteering
ATTACH;FMTTYPE=image/jpeg:https://prospectsfoundation.org.uk/wp-content/uploads/2025/01/IMG-20241101-WA0040.jpg
ORGANIZER;CN="Sonja%20Bottomer":MAILTO:sonja.bottomer@prospectsfoundation.org.uk
END:VEVENT
END:VCALENDAR