BEGIN:VCALENDAR
VERSION:2.0
PRODID:-//Prospects - ECPv5.14.1//NONSGML v1.0//EN
CALSCALE:GREGORIAN
METHOD:PUBLISH
X-WR-CALNAME:Prospects
X-ORIGINAL-URL:https://prospectsfoundation.org.uk
X-WR-CALDESC:Events for Prospects
BEGIN:VTIMEZONE
TZID:Europe/London
BEGIN:DAYLIGHT
TZOFFSETFROM:+0000
TZOFFSETTO:+0100
TZNAME:BST
DTSTART:20250330T010000
END:DAYLIGHT
BEGIN:STANDARD
TZOFFSETFROM:+0100
TZOFFSETTO:+0000
TZNAME:GMT
DTSTART:20251026T010000
END:STANDARD
END:VTIMEZONE
BEGIN:VEVENT
DTSTART;TZID=Europe/London:20250218T100000
DTEND;TZID=Europe/London:20250218T130000
DTSTAMP:20260423T134812
CREATED:20241220T141509Z
LAST-MODIFIED:20250130T122031Z
UID:13597-1739872800-1739883600@prospectsfoundation.org.uk
SUMMARY:Bird feeder making at Miller Fold Allotment - Family event
DESCRIPTION:Join Sonja in our productive Community Garden to make wooden bird feeders and rejuvenate our ageing bug hotel!\nOpen to ages 5+. Under 18s must be accompanied by an adult please. \nNo expereice needed – everyone is welcome. Snacks and warm drinks will be provided. \nOpen to all ages (5+). Under 18s must be accompanied by an adult. \nLocation: Miller Fold Community Allotment\, off Miller Fold Avenue\, Accrington\, BB5 ONT\nMeeting place: The junction between Woodview Drive and Miller Fold Avenue (what3words: stooping.conquests.topping)\nDate: Tuesday 18th February\nTime: 10am – 1pm \nAccess is moderate with some unseen slip/trip hazards underfoot\, however there are places to sit on the allotment. There is no toilet on site.\nPlease wear robust footwear and bring plenty of layers. Warm drinks and biscuits will be provided but please bring anything else you might need. \nThe closest bus stop is ‘St Oswalds RC’ which is a 3 minute walk away and is served by the A1 bus service form Accrington. \nContact Sonja sonja.bottomer@prospectsfoundation.org.uk or phone 01254 230348 to find out more and let us know of your attendance.
URL:https://prospectsfoundation.org.uk/event/big-garden-birdwatch-at-miller-fold-allotment/
LOCATION:Miller Fold Allotment\, Miller Fold Ave\, Accrington\, BB5 0NT\, United Kingdom
CATEGORIES:Conservation,Food Growing,Gardening,Nature Crafts,Volunteering
ATTACH;FMTTYPE=image/png:https://prospectsfoundation.org.uk/wp-content/uploads/2024/12/2.png
ORGANIZER;CN="Sonja%20Bottomer":MAILTO:sonja.bottomer@prospectsfoundation.org.uk
END:VEVENT
BEGIN:VEVENT
DTSTART;TZID=Europe/London:20250218T100000
DTEND;TZID=Europe/London:20250218T150000
DTSTAMP:20260423T134812
CREATED:20250129T111545Z
LAST-MODIFIED:20250217T143120Z
UID:13752-1739872800-1739890800@prospectsfoundation.org.uk
SUMMARY:Whinney HIll - Hyndburn's Woodlands
DESCRIPTION:Join Hyndburn’s Woodlands Officer Brandon for weekly practical conservation sessions. This week\, we will be back at Whinney Hill woodland carrying out a fly-tipping removal session. A large amount of fly-tipping has accumulated near to the Thorneyholme Road entrance to the site. We will be utilising wheel barrows to remove much of this waste. \n\n\nTools\, gloves and PPE will be provided. Please wear sturdy boots\, long sleeves and full length trousers for brambles and nettles. \nWe will be meeting at the Thorneyholme Road entrance to the site\, BB5 5FW. There is on-street parking available. Staff will be in orange hi-vis. \nTo find out more or confirm your attendance\, please contact Brandon at brandon.cherry@prospectsfoundation.org.uk or 07733 840842
URL:https://prospectsfoundation.org.uk/event/whinney-hill-hyndburns-woodlands-49/
LOCATION:Huncoat East Woodland\, 27 Altham Lane\, Accrington\, Lancashire\, BB5 5UR\, United Kingdom
CATEGORIES:Health and wellbeing,Volunteering,Woodlands
ATTACH;FMTTYPE=image/jpeg:https://prospectsfoundation.org.uk/wp-content/uploads/2025/01/IMG_20241217_113144.jpg
ORGANIZER;CN="Brandon%20Cherry":MAILTO:brandon.cherry@prospectsfoundation.org.uk
END:VEVENT
END:VCALENDAR