BEGIN:VCALENDAR
VERSION:2.0
PRODID:-//Prospects - ECPv5.14.1//NONSGML v1.0//EN
CALSCALE:GREGORIAN
METHOD:PUBLISH
X-WR-CALNAME:Prospects
X-ORIGINAL-URL:https://prospectsfoundation.org.uk
X-WR-CALDESC:Events for Prospects
BEGIN:VTIMEZONE
TZID:Europe/London
BEGIN:DAYLIGHT
TZOFFSETFROM:+0000
TZOFFSETTO:+0100
TZNAME:BST
DTSTART:20250330T010000
END:DAYLIGHT
BEGIN:STANDARD
TZOFFSETFROM:+0100
TZOFFSETTO:+0000
TZNAME:GMT
DTSTART:20251026T010000
END:STANDARD
END:VTIMEZONE
BEGIN:VEVENT
DTSTART;TZID=Europe/London:20250128T100000
DTEND;TZID=Europe/London:20250128T150000
DTSTAMP:20260423T153825
CREATED:20241218T121447Z
LAST-MODIFIED:20250121T154744Z
UID:13547-1738058400-1738076400@prospectsfoundation.org.uk
SUMMARY:Woodnook Vale LNR - Hyndburn's Woodlands
DESCRIPTION:Join Hyndburn’s Woodlands Officer Brandon for weekly practical conservation sessions. This week\, we have an exciting change of pace for a session\, we will be joined by Imogen from CreativeWithNature who will be teaching us how to create a Willow Arch! \nImogen will be instructing us on how to repair a dilapidated willow arch along Woodnook Vale. Tool use will include bow saws and loppers. \nTools\, gloves and PPE will be provided. Please wear sturdy boots\, long sleeves and full length trousers as we may be working around brambles and nettles. Waterproofs may be needed\, depending on the weather. \nWe will be meeting along Hollins Lane\, BB5 2QY (Next to The Hollins School). There is on-street parking available. Staff will be in orange hi-vis. \nTo find out more or confirm your attendance\, please contact Brandon at brandon.cherry@prospectsfoundation.org.uk or 07733 840842
URL:https://prospectsfoundation.org.uk/event/oak-hill-park-hyndburns-woodlands/
LOCATION:Oakhill Park\, Accrington BB5 2NY\, 113 Manchester Rd\, Accrington\, Lancashire\, BB5 2NY\, United Kingdom
CATEGORIES:Health and wellbeing,Volunteering,Woodlands
ORGANIZER;CN="Brandon%20Cherry":MAILTO:brandon.cherry@prospectsfoundation.org.uk
END:VEVENT
BEGIN:VEVENT
DTSTART;TZID=Europe/London:20250128T100000
DTEND;TZID=Europe/London:20250128T130000
DTSTAMP:20260423T153825
CREATED:20241220T143709Z
LAST-MODIFIED:20241220T143709Z
UID:13608-1738058400-1738069200@prospectsfoundation.org.uk
SUMMARY:Miller Fold Community Allotment session
DESCRIPTION:Join Sonja to learn new gardening skills\, socialise and relax in nature while supporting our productive community allotment! \nWe’ll be pruning the apple tree! \nLocation: Miller Fold Community Allotment\, off Miller Fold Avenue\, Accrington\, BB5 ONT\nMeeting place: The junction between Woodview Drive and Miller Fold Avenue (what3words: stooping.conquests.topping) \nNo experience needed. Snacks\, and a warm welcome at each session! Everyone welcome. \n  \nThe closest bus stop is ‘St Oswalds RC’ which is a 3 minute walk away and is served by the A1 bus service form Accrington. \nAccess is moderate with some unseen slip/trip hazards underfoot\, however there are places to sit on the allotment. There is no toilet on site. \nPlease wear robust footwear and bring plenty of layers. \nContact Sonja sonja.bottomer@prospectsfoundation.org.uk or phone 01254 230348 to find out more and get involved. \n 
URL:https://prospectsfoundation.org.uk/event/miller-fold-community-allotment-session-12/
LOCATION:Miller Fold Allotment\, Miller Fold Ave\, Accrington\, BB5 0NT\, United Kingdom
CATEGORIES:Conservation,Food Growing,Gardening,Nature Crafts,Volunteering
ATTACH;FMTTYPE=image/jpeg:https://prospectsfoundation.org.uk/wp-content/uploads/2024/12/IMG-20241120-WA0018.jpg
ORGANIZER;CN="Sonja%20Bottomer":MAILTO:sonja.bottomer@prospectsfoundation.org.uk
END:VEVENT
END:VCALENDAR