BEGIN:VCALENDAR
VERSION:2.0
PRODID:-//Prospects - ECPv5.14.1//NONSGML v1.0//EN
CALSCALE:GREGORIAN
METHOD:PUBLISH
X-WR-CALNAME:Prospects
X-ORIGINAL-URL:https://prospectsfoundation.org.uk
X-WR-CALDESC:Events for Prospects
BEGIN:VTIMEZONE
TZID:Europe/London
BEGIN:DAYLIGHT
TZOFFSETFROM:+0000
TZOFFSETTO:+0100
TZNAME:BST
DTSTART:20250330T010000
END:DAYLIGHT
BEGIN:STANDARD
TZOFFSETFROM:+0100
TZOFFSETTO:+0000
TZNAME:GMT
DTSTART:20251026T010000
END:STANDARD
END:VTIMEZONE
BEGIN:VEVENT
DTSTART;TZID=Europe/London:20250121T100000
DTEND;TZID=Europe/London:20250121T130000
DTSTAMP:20260423T182038
CREATED:20241218T120845Z
LAST-MODIFIED:20250120T134804Z
UID:13544-1737453600-1737464400@prospectsfoundation.org.uk
SUMMARY:Whinney Hill - Hyndburn's Woodlands
DESCRIPTION:Join Hyndburn’s Woodlands Officer Brandon for weekly practical conservation sessions. This week\, we will be carrying out some woodland thinning works. This will involve using hand tools to fell small trees that are underdeveloped due to overcrowding. \n\nThis session has been changed from fencing repair due to pricing issues. \n\nTools\, gloves and PPE will be provided. Please wear sturdy boots\, long sleeves and full length trousers as we may be working around brambles and nettles. Waterproofs may be needed\, depending on the weather. \nWe will be meeting at the end of Livingstone Road\, BB5 5BS (Next to the Livingstone Road Allotments). Staff will be in orange hi-vis. There is parking available in the car park. \nTo find out more or confirm your attendance\, please contact Brandon at brandon.cherry@prospectsfoundation.org.uk or 07733 840842
URL:https://prospectsfoundation.org.uk/event/whinney-hill-hyndburns-woodlands-47/
LOCATION:Whinney Hill Woodland – Livingstone Road/East Crescent BB5 5BX\, Livingstone Road\, Accrington\, BB5 5BX
CATEGORIES:Health and wellbeing,Volunteering,Woodlands
ATTACH;FMTTYPE=image/jpeg:https://prospectsfoundation.org.uk/wp-content/uploads/2024/11/20241112_120047-scaled.jpg
ORGANIZER;CN="Brandon%20Cherry":MAILTO:brandon.cherry@prospectsfoundation.org.uk
END:VEVENT
BEGIN:VEVENT
DTSTART;TZID=Europe/London:20250121T100000
DTEND;TZID=Europe/London:20250121T130000
DTSTAMP:20260423T182038
CREATED:20241219T170330Z
LAST-MODIFIED:20241219T170330Z
UID:13570-1737453600-1737464400@prospectsfoundation.org.uk
SUMMARY:Community Tree Nursery session
DESCRIPTION:Join our Community TreeACTION Officer Helen for a practical session at our new ‘Tree Nursery’ Allotment at Miller Fold! \nThis week\, we will be potting-on some Oak saplings that were saved from the coppice the Monday prior. We will also be stratifying seeds (rowan\, guelder rose & spindle) ready for potting-on in spring. We’ll be putting these pots into a rodent-proof tree box to keep the trees safe! \nWe will be meeting at the small car park at the top of Miller Fold Avenue\, Accrington\, BB5 0NT (more on-street parking available once the car park is full). Google maps link HERE. \nPLEASE NOTE: Site Accessibility – there is a short walk from the cars down a very uneven road. The allotment itself has bad access; the path down to the entrance is steep and overgrown! Wear good footwear and non-snag clothing.  \n\nEveryone welcome. Under 18s will need to be accompanied by an adult\nPlease wear suitable outdoor clothes and sturdy boots\n\nTo find out more or confirm your attendance\, please contact Helen at helen.earnshaw@prospectsfoundation.org.uk\, telephone 01254 230348\, or call into the Prospects office at 54 Broadway\, Accrington\, BB5 1EW. \nThe TreeACTION Project is a direct result of Hyndburn Borough Council’s Climate Emergency Declaration in September 2019 and is seen as one of the key projects where local people can help to reduce emissions within the borough. \n  \n 
URL:https://prospectsfoundation.org.uk/event/community-tree-nursery-session-5/
LOCATION:Miller Fold Allotment\, Miller Fold Ave\, Accrington\, BB5 0NT\, United Kingdom
CATEGORIES:Conservation,Gardening,Health and wellbeing,Volunteering
ATTACH;FMTTYPE=image/jpeg:https://prospectsfoundation.org.uk/wp-content/uploads/2024/10/20231026_101113_012245-scaled-e1730393474649.jpg
ORGANIZER;CN="Helen%20Earnshaw%20-%20Community%20TreeACTION%20Officer":MAILTO:helen.earnshaw@prospectsfoundation.org.uk
END:VEVENT
BEGIN:VEVENT
DTSTART;TZID=Europe/London:20250121T100000
DTEND;TZID=Europe/London:20250121T130000
DTSTAMP:20260423T182038
CREATED:20241220T143323Z
LAST-MODIFIED:20241220T143323Z
UID:13604-1737453600-1737464400@prospectsfoundation.org.uk
SUMMARY:Miller Fold Community Allotment session
DESCRIPTION:Join Sonja to learn new gardening skills\, socialise and relax in nature while supporting our productive community allotment! \nWe’ll be planting broad beans and peas. \nLocation: Miller Fold Community Allotment\, off Miller Fold Avenue\, Accrington\, BB5 ONT\nMeeting place: The junction between Woodview Drive and Miller Fold Avenue (what3words: stooping.conquests.topping) \nNo experience needed. Snacks\, and a warm welcome at each session! Everyone welcome. \n  \nThe closest bus stop is ‘St Oswalds RC’ which is a 3 minute walk away and is served by the A1 bus service form Accrington. \nAccess is moderate with some unseen slip/trip hazards underfoot\, however there are places to sit on the allotment. There is no toilet on site. \nPlease wear robust footwear and bring plenty of layers. \nContact Sonja sonja.bottomer@prospectsfoundation.org.uk or phone 01254 230348 to find out more and get involved. \n 
URL:https://prospectsfoundation.org.uk/event/miller-fold-community-allotment-session-11/
LOCATION:Miller Fold Allotment\, Miller Fold Ave\, Accrington\, BB5 0NT\, United Kingdom
CATEGORIES:Conservation,Food Growing,Gardening,Nature Crafts,Volunteering
ATTACH;FMTTYPE=image/jpeg:https://prospectsfoundation.org.uk/wp-content/uploads/2024/12/IMG-20241120-WA0018.jpg
ORGANIZER;CN="Sonja%20Bottomer":MAILTO:sonja.bottomer@prospectsfoundation.org.uk
END:VEVENT
END:VCALENDAR