BEGIN:VCALENDAR
VERSION:2.0
PRODID:-//Prospects - ECPv5.14.1//NONSGML v1.0//EN
CALSCALE:GREGORIAN
METHOD:PUBLISH
X-WR-CALNAME:Prospects
X-ORIGINAL-URL:https://prospectsfoundation.org.uk
X-WR-CALDESC:Events for Prospects
BEGIN:VTIMEZONE
TZID:Europe/London
BEGIN:DAYLIGHT
TZOFFSETFROM:+0000
TZOFFSETTO:+0100
TZNAME:BST
DTSTART:20250330T010000
END:DAYLIGHT
BEGIN:STANDARD
TZOFFSETFROM:+0100
TZOFFSETTO:+0000
TZNAME:GMT
DTSTART:20251026T010000
END:STANDARD
END:VTIMEZONE
BEGIN:VEVENT
DTSTART;TZID=Europe/London:20250115T100000
DTEND;TZID=Europe/London:20250115T130000
DTSTAMP:20260423T223242
CREATED:20241129T145841Z
LAST-MODIFIED:20241218T124703Z
UID:13478-1736935200-1736946000@prospectsfoundation.org.uk
SUMMARY:Hyndburn's Nature Reserve Volunteers session @Woodnook Vale LNR
DESCRIPTION:Join us for our new Hyndburn’s Nature Reserves project! There will be fortnightly conservation volunteers sessions at Woodnook Vale LNR\, Wednesdays. Come along to learn new skills\, meet people\, keep fit and help wildlife! \nTo express your interest or find out more\, email robert.gabryszak@prospectsfoundation.org.uk\, telephone 01254 230348 or call into the Prospects office at 54 Broadway\, Accrington \n 
URL:https://prospectsfoundation.org.uk/event/hyndburns-nature-reserve-volunteers-session-woodnook-vale-lnr-2/
LOCATION:Woodnook Vale LNR – Royds Street\, 140 Royds Steet\, Accrington\, Lancashire\, BB5 2LW\, United Kingdom
CATEGORIES:Conservation,Health and wellbeing,Peel Park and the Coppice LNR,Volunteering
ATTACH;FMTTYPE=image/png:https://prospectsfoundation.org.uk/wp-content/uploads/2024/11/royds-street.png
ORGANIZER;CN="Robert%20Gabryszak%20-%20LNR%20Project%20Officer":MAILTO:robert.gabryszak@prospectsfoundation.org.uk
END:VEVENT
BEGIN:VEVENT
DTSTART;TZID=Europe/London:20250115T100000
DTEND;TZID=Europe/London:20250115T130000
DTSTAMP:20260423T223242
CREATED:20241219T165314Z
LAST-MODIFIED:20241219T165314Z
UID:13568-1736935200-1736946000@prospectsfoundation.org.uk
SUMMARY:Tree Maintenance at Bullough Park
DESCRIPTION:Join our Community TreeACTION Officer Helen for a practical session changing tree protection tubes at Bullough Park in Accrington. This will prevent the young trees from being eaten by small rodents and larger mammals such as deer. \nWe will be meeting at the main car park off Dunny Shop Avenue\, Accrington\,  BB5 0LW. Staff will be in orange hi-vis. \n\nNo experience is necessary – just bring your enthusiasm!\nAll ages welcome. Children will need to be accompanied by an adult\nPlease wear suitable outdoor clothes and sturdy boots (wellies are advised)\n\nTo find out more or confirm your attendance\, please contact Helen at helen.earnshaw@prospectsfoundation.org.uk\, telephone 01254 230348\, or call into the Prospects office at 54 Broadway\, Accrington\, BB5 1EW. \nThe TreeACTION Project is a direct result of Hyndburn Borough Council’s Climate Emergency Declaration in September 2019 and is seen as one of the key projects where local people can help to reduce emissions within the borough.
URL:https://prospectsfoundation.org.uk/event/tree-maintenance-at-bullough-park/
LOCATION:Bullough Park\, 2 Park Cres\, Accrington\, Lancashire\, BB5 0LW\, United Kingdom
CATEGORIES:Conservation,Health and wellbeing,Volunteering
ATTACH;FMTTYPE=image/jpeg:https://prospectsfoundation.org.uk/wp-content/uploads/2023/03/IMG_20230320_141337-scaled.jpg
ORGANIZER;CN="Helen%20Earnshaw%20-%20Community%20TreeACTION%20Officer":MAILTO:helen.earnshaw@prospectsfoundation.org.uk
END:VEVENT
BEGIN:VEVENT
DTSTART;TZID=Europe/London:20250115T100000
DTEND;TZID=Europe/London:20250115T120000
DTSTAMP:20260423T223242
CREATED:20250113T155509Z
LAST-MODIFIED:20250113T155509Z
UID:13641-1736935200-1736942400@prospectsfoundation.org.uk
SUMMARY:Tree Mythology Guided Walk at Brookside
DESCRIPTION:Join Alice for a mid-week walk and talk about all things tree Mythology. Do you know which British species is known as the Queen of Trees? Have you been warned about which species can make the devil appear when burned? \nWe will meet at the Stanhill Road entrance at 10am\, by the noticeboard (see below) \nWalking boots or wellies ESSENTIAL! \nFor more information\, contact Alice – alice.pooley@prospectsfoundation.org.uk
URL:https://prospectsfoundation.org.uk/event/tree-mythology-guided-walk-at-brookside/
LOCATION:Brookside\, Stanhill Road\, Oswaldtwistle\, BB5 4PP
CATEGORIES:Conservation,Health and wellbeing,Outdoor Learning,Walking,Woodlands
ATTACH;FMTTYPE=image/png:https://prospectsfoundation.org.uk/wp-content/uploads/2024/12/Climate-Action-1.png
ORGANIZER;CN="Alice%20Pooley":MAILTO:alice.pooley@prospectsfoundation.org.uk
END:VEVENT
END:VCALENDAR