BEGIN:VCALENDAR
VERSION:2.0
PRODID:-//Prospects - ECPv5.14.1//NONSGML v1.0//EN
CALSCALE:GREGORIAN
METHOD:PUBLISH
X-WR-CALNAME:Prospects
X-ORIGINAL-URL:https://prospectsfoundation.org.uk
X-WR-CALDESC:Events for Prospects
BEGIN:VTIMEZONE
TZID:Europe/London
BEGIN:DAYLIGHT
TZOFFSETFROM:+0000
TZOFFSETTO:+0100
TZNAME:BST
DTSTART:20240331T010000
END:DAYLIGHT
BEGIN:STANDARD
TZOFFSETFROM:+0100
TZOFFSETTO:+0000
TZNAME:GMT
DTSTART:20241027T010000
END:STANDARD
END:VTIMEZONE
BEGIN:VEVENT
DTSTART;TZID=Europe/London:20241216T100000
DTEND;TZID=Europe/London:20241216T130000
DTSTAMP:20260423T235705
CREATED:20241128T093639Z
LAST-MODIFIED:20241128T093639Z
UID:13414-1734343200-1734354000@prospectsfoundation.org.uk
SUMMARY:Hyndburn's Nature Reserve Volunteers session @Peel Park and the Coppice LNR
DESCRIPTION:Map showing the meeting point at Peel Park & the Coppice LNR. Click the image to be taken to the map.\nJoin us for our new Hyndburn’s Nature Reserves project! There will be weekly conservation volunteers sessions at Peel Park and the Coppice Local Nature Reserve\, every Monday from 10am – 1pm. Come along to learn new skills\, meet people\, keep fit and help wildlife! \nTo express your interest or find out more\, email robert.gabryszak@prospectsfoundation.org.uk\, telephone 01254 230348 or call into the Prospects office at 54 Broadway\, Accrington \n 
URL:https://prospectsfoundation.org.uk/event/hyndburns-nature-reserve-volunteers-session-peel-park-and-the-coppice-lnr-5/
LOCATION:Peel Park and the Coppice Local Nature Reserve\, Main car park off Peel Park Avenue (next to the bowling green)\, Accrington\, Lancashire\, BB5 6HL\, United Kingdom
CATEGORIES:Conservation,Health and wellbeing,Peel Park and the Coppice LNR,Volunteering
ATTACH;FMTTYPE=image/png:https://prospectsfoundation.org.uk/wp-content/uploads/2024/11/PEEL-PARK-the-COPPICE-LNR.png
ORGANIZER;CN="Robert%20Gabryszak%20-%20LNR%20Project%20Officer":MAILTO:robert.gabryszak@prospectsfoundation.org.uk
END:VEVENT
BEGIN:VEVENT
DTSTART;TZID=Europe/London:20241216T100000
DTEND;TZID=Europe/London:20241216T130000
DTSTAMP:20260423T235705
CREATED:20241128T164027Z
LAST-MODIFIED:20241128T164027Z
UID:13451-1734343200-1734354000@prospectsfoundation.org.uk
SUMMARY:Tree Planting at Growing Wild Baxenden
DESCRIPTION:Join our Community TreeACTION Officer Helen for a practical session planting willow trees at the GrOwING WILD Community Allotment. \nWe will be meeting at the Growing Wild Allotment at the bottom of Hill Street in Baxenden. \n\nNo experience is necessary – just bring your enthusiasm!\nAll ages welcome. Children will need to be accompanied by an adult\nPlease wear suitable outdoor clothes and sturdy boots (wellies are advised)\n\nTo find out more or confirm your attendance\, please contact Helen at helen.earnshaw@prospectsfoundation.org.uk\, telephone 01254 230348\, or call into the Prospects office at 54 Broadway\, Accrington\, BB5 1EW. \nThe TreeACTION Project is a direct result of Hyndburn Borough Council’s Climate Emergency Declaration in September 2019 and is seen as one of the key projects where local people can help to reduce emissions within the borough.
URL:https://prospectsfoundation.org.uk/event/tree-planting-at-growing-wild/
LOCATION:GrOwING WILD Community Allotment\, Hill Street\, Baxenden\, BB5 2RB\, United Kingdom
CATEGORIES:Conservation,Health and wellbeing,Volunteering
ATTACH;FMTTYPE=image/png:https://prospectsfoundation.org.uk/wp-content/uploads/2024/01/Website-header-TfC-logo.png
ORGANIZER;CN="Helen%20Earnshaw%20-%20Community%20TreeACTION%20Officer":MAILTO:helen.earnshaw@prospectsfoundation.org.uk
END:VEVENT
BEGIN:VEVENT
DTSTART;TZID=Europe/London:20241216T180000
DTEND;TZID=Europe/London:20241216T200000
DTSTAMP:20260423T235705
CREATED:20241213T123601Z
LAST-MODIFIED:20241213T123620Z
UID:13528-1734372000-1734379200@prospectsfoundation.org.uk
SUMMARY:Wreath Making - Hyndburn's Nature Reserves
DESCRIPTION:Using locally foraged materials\, learn how to make this traditional winter decoration whilst learning a bit about your local green space\, Peel Park & the Coppice LNR. \nJoin us on Monday 16th December @6pm – 8pm at Cambridge St Methodist Church\, 32 Lodge St\, Accrington BB5 6EH. \nAnd best of all… there will be festive drinks\, snacks and sweet treats provided! (If you have any allergies then please let us know beforehand). \nEvent is completely free. Donations are accepted. \nTo book a place contact Robert: robert.gabryszak@prospectsfoundation.org.uk or call (01254) 230348. \n  \n 
URL:https://prospectsfoundation.org.uk/event/wreath-making-hyndburns-nature-reserves/
LOCATION:Cambridge St Methodist Church\, 32 Lodge St\, Accrington\, BB5 6EH\, United Kingdom
CATEGORIES:Family,Nature Crafts,Recycling,Traditional Crafts
ATTACH;FMTTYPE=image/png:https://prospectsfoundation.org.uk/wp-content/uploads/2024/12/January-2025-Posters-Instagram-Post.png
ORGANIZER;CN="Robert%20Gabryszak%20-%20LNR%20Project%20Officer":MAILTO:robert.gabryszak@prospectsfoundation.org.uk
END:VEVENT
END:VCALENDAR