BEGIN:VCALENDAR
VERSION:2.0
PRODID:-//Prospects - ECPv5.14.1//NONSGML v1.0//EN
CALSCALE:GREGORIAN
METHOD:PUBLISH
X-WR-CALNAME:Prospects
X-ORIGINAL-URL:https://prospectsfoundation.org.uk
X-WR-CALDESC:Events for Prospects
BEGIN:VTIMEZONE
TZID:Europe/London
BEGIN:DAYLIGHT
TZOFFSETFROM:+0000
TZOFFSETTO:+0100
TZNAME:BST
DTSTART:20240331T010000
END:DAYLIGHT
BEGIN:STANDARD
TZOFFSETFROM:+0100
TZOFFSETTO:+0000
TZNAME:GMT
DTSTART:20241027T010000
END:STANDARD
END:VTIMEZONE
BEGIN:VEVENT
DTSTART;TZID=Europe/London:20241205T100000
DTEND;TZID=Europe/London:20241205T130000
DTSTAMP:20260423T210448
CREATED:20241128T162028Z
LAST-MODIFIED:20241128T162028Z
UID:13446-1733392800-1733403600@prospectsfoundation.org.uk
SUMMARY:Tree Planting at Knuzden Recreation Ground
DESCRIPTION:Join our Community TreeACTION Officer Helen for a practical session planting trees at Knuzden Recreation Ground in Oswaldtwistle. \nWe will be meeting at the Knuzden Rec car park on Stanhill Road\, Oswaldtwistle\, BB1 2DJ. Staff will be in orange high-vis. \n\nNo experience is necessary – just bring your enthusiasm!\nAll ages welcome. Children will need to be accompanied by an adult\nPlease wear suitable outdoor clothes and sturdy boots (wellies are advised)\n\nTo find out more or confirm your attendance\, please contact Helen at helen.earnshaw@prospectsfoundation.org.uk\, telephone 01254 230348\, or call into the Prospects office at 54 Broadway\, Accrington\, BB5 1EW. \nThe TreeACTION Project is a direct result of Hyndburn Borough Council’s Climate Emergency Declaration in September 2019 and is seen as one of the key projects where local people can help to reduce emissions within the borough.
URL:https://prospectsfoundation.org.uk/event/tree-planting-at-knuzden-recreation-ground/
LOCATION:Knuzden Rec\, Stanhill Road\, Blackburn\, Lancashire\, BB1 2DJ\, United Kingdom
CATEGORIES:Conservation,Health and wellbeing,Volunteering
ATTACH;FMTTYPE=image/png:https://prospectsfoundation.org.uk/wp-content/uploads/2024/01/Website-header-TfC-logo.png
ORGANIZER;CN="Helen%20Earnshaw%20-%20Community%20TreeACTION%20Officer":MAILTO:helen.earnshaw@prospectsfoundation.org.uk
END:VEVENT
BEGIN:VEVENT
DTSTART;TZID=Europe/London:20241205T100000
DTEND;TZID=Europe/London:20241205T130000
DTSTAMP:20260423T210448
CREATED:20241204T144411Z
LAST-MODIFIED:20241204T144637Z
UID:13523-1733392800-1733403600@prospectsfoundation.org.uk
SUMMARY:Thursday Meadow Maintenance at Brookside
DESCRIPTION:Join our Brookside Development Office Alice for our regular Thursday session at Brookside! Much of the rare and valuable wildflower meadow habitat on site has degraded\, but we are working to restore them to their former glory. \nThis is a multi stage project\, and the first task is to cut back the overgrown grasses and remove the cuttings\, ready for seeds to be planted in Spring. \nWe meet at the Noticeboard by the Stanhill Road entrance to the site at 10am. See the Map below for a visual guide. \n \nAll are welcome but under 18s must be supervised by an adult. \nWaterproofs\, boots\, and sturdy clothes are highly recommended. \nTo find out more or confirm your attendance\, please contact Alice at alice.pooley@prospectsfoundation.org.uk\, telephone 01254 230348\, or call into the Prospects office at 54 Broadway\, Accrington\, BB5 1EW.
URL:https://prospectsfoundation.org.uk/event/thursday-meadow-maintenance-at-brookside/
LOCATION:Brookside\, Stanhill Road\, Oswaldtwistle\, BB5 4PP
CATEGORIES:Conservation,Health and wellbeing,Volunteering,Walking,Woodlands
ATTACH;FMTTYPE=image/png:https://prospectsfoundation.org.uk/wp-content/uploads/2024/10/2024-04-11-Lasioglossum-sp.png
ORGANIZER;CN="Alice%20Pooley":MAILTO:alice.pooley@prospectsfoundation.org.uk
END:VEVENT
END:VCALENDAR