BEGIN:VCALENDAR
VERSION:2.0
PRODID:-//Prospects - ECPv5.14.1//NONSGML v1.0//EN
CALSCALE:GREGORIAN
METHOD:PUBLISH
X-WR-CALNAME:Prospects
X-ORIGINAL-URL:https://prospectsfoundation.org.uk
X-WR-CALDESC:Events for Prospects
BEGIN:VTIMEZONE
TZID:Europe/London
BEGIN:DAYLIGHT
TZOFFSETFROM:+0000
TZOFFSETTO:+0100
TZNAME:BST
DTSTART:20240331T010000
END:DAYLIGHT
BEGIN:STANDARD
TZOFFSETFROM:+0100
TZOFFSETTO:+0000
TZNAME:GMT
DTSTART:20241027T010000
END:STANDARD
END:VTIMEZONE
BEGIN:VEVENT
DTSTART;TZID=Europe/London:20241204T100000
DTEND;TZID=Europe/London:20241204T130000
DTSTAMP:20260423T222441
CREATED:20241128T163643Z
LAST-MODIFIED:20241128T163643Z
UID:13448-1733306400-1733317200@prospectsfoundation.org.uk
SUMMARY:Tree Planting along the White Path
DESCRIPTION:Join our Community TreeACTION Officer Helen for a practical session planting trees along the White Path in Great Harwood \nWe will be meeting on Railway Terrace where it meets St John’s Street\, Great Harwood\, BB6 7EH. Staff will be in orange high-vis. \n\nNo experience is necessary – just bring your enthusiasm!\nAll ages welcome. Children will need to be accompanied by an adult\nPlease wear suitable outdoor clothes and sturdy boots (wellies are advised)\n\nTo find out more or confirm your attendance\, please contact Helen at helen.earnshaw@prospectsfoundation.org.uk\, telephone 01254 230348\, or call into the Prospects office at 54 Broadway\, Accrington\, BB5 1EW. \nThe TreeACTION Project is a direct result of Hyndburn Borough Council’s Climate Emergency Declaration in September 2019 and is seen as one of the key projects where local people can help to reduce emissions within the borough.
URL:https://prospectsfoundation.org.uk/event/tree-planting-along-white-path/
LOCATION:The White Path\, Great Harwood\, Railway Terrace\, Great Harwood\, BB6 7EH
CATEGORIES:Conservation,Health and wellbeing,Volunteering
ATTACH;FMTTYPE=image/png:https://prospectsfoundation.org.uk/wp-content/uploads/2024/01/Website-header-TfC-logo.png
ORGANIZER;CN="Helen%20Earnshaw%20-%20Community%20TreeACTION%20Officer":MAILTO:helen.earnshaw@prospectsfoundation.org.uk
END:VEVENT
BEGIN:VEVENT
DTSTART;TZID=Europe/London:20241204T100000
DTEND;TZID=Europe/London:20241204T130000
DTSTAMP:20260423T222441
CREATED:20241129T145338Z
LAST-MODIFIED:20241129T145338Z
UID:13419-1733306400-1733317200@prospectsfoundation.org.uk
SUMMARY:Hyndburn's Nature Reserve Volunteers session @Woodnook Vale LNR
DESCRIPTION:Join us for our new Hyndburn’s Nature Reserves project! There will be fortnightly conservation volunteers sessions at Woodnook Vale LNR\, Wednesdays. Come along to learn new skills\, meet people\, keep fit and help wildlife! \nTo express your interest or find out more\, email robert.gabryszak@prospectsfoundation.org.uk\, telephone 01254 230348 or call into the Prospects office at 54 Broadway\, Accrington \n 
URL:https://prospectsfoundation.org.uk/event/hyndburns-nature-reserve-volunteers-session-woodnook-vale-lnr/
LOCATION:Woodnook Vale LNR – Hollins Ln\, 165 Hollins Lane\, Accrington\, BB5 2QY
CATEGORIES:Conservation,Health and wellbeing,Peel Park and the Coppice LNR,Volunteering
ATTACH;FMTTYPE=image/png:https://prospectsfoundation.org.uk/wp-content/uploads/2024/11/hollins.png
ORGANIZER;CN="Robert%20Gabryszak%20-%20LNR%20Project%20Officer":MAILTO:robert.gabryszak@prospectsfoundation.org.uk
END:VEVENT
END:VCALENDAR