BEGIN:VCALENDAR
VERSION:2.0
PRODID:-//Prospects - ECPv5.14.1//NONSGML v1.0//EN
CALSCALE:GREGORIAN
METHOD:PUBLISH
X-WR-CALNAME:Prospects
X-ORIGINAL-URL:https://prospectsfoundation.org.uk
X-WR-CALDESC:Events for Prospects
BEGIN:VTIMEZONE
TZID:Europe/London
BEGIN:DAYLIGHT
TZOFFSETFROM:+0000
TZOFFSETTO:+0100
TZNAME:BST
DTSTART:20240331T010000
END:DAYLIGHT
BEGIN:STANDARD
TZOFFSETFROM:+0100
TZOFFSETTO:+0000
TZNAME:GMT
DTSTART:20241027T010000
END:STANDARD
END:VTIMEZONE
BEGIN:VEVENT
DTSTART;TZID=Europe/London:20241203T100000
DTEND;TZID=Europe/London:20241203T150000
DTSTAMP:20260424T012246
CREATED:20241128T152904Z
LAST-MODIFIED:20241128T152904Z
UID:13436-1733220000-1733238000@prospectsfoundation.org.uk
SUMMARY:Whinney Hill - Hyndburn's Woodlands
DESCRIPTION:Join Hyndburn’s Woodlands Officer Brandon for weekly practical conservation sessions. This week\, we will be back at Whinney Hill woodland continuing with the step maintenance started last month. This will involve using hand tools to clear the steps from vegetation. \nTools\, gloves and PPE will be provided. Please wear sturdy boots\, long sleeves and full length trousers as we may be working around brambles and nettles. Waterproofs may be needed\, depending on the weather. \nWe will be meeting at the end of Livingstone Road\, BB5 5BS (Next to the Livingstone Road Allotments). Staff will be in orange hi-vis. There is parking available in the car park. \nTo find out more or confirm your attendance\, please contact Brandon at brandon.cherry@prospectsfoundation.org.uk or 07733 840842
URL:https://prospectsfoundation.org.uk/event/whinney-hill-hyndburns-woodlands-43/
LOCATION:Whinney Hill Woodland – Livingstone Road/East Crescent BB5 5BX\, Livingstone Road\, Accrington\, BB5 5BX
CATEGORIES:Health and wellbeing,Volunteering,Woodlands
ATTACH;FMTTYPE=image/jpeg:https://prospectsfoundation.org.uk/wp-content/uploads/2024/11/IMG_20241003_114811.jpg
ORGANIZER;CN="Brandon%20Cherry":MAILTO:brandon.cherry@prospectsfoundation.org.uk
END:VEVENT
BEGIN:VEVENT
DTSTART;TZID=Europe/London:20241203T100000
DTEND;TZID=Europe/London:20241203T130000
DTSTAMP:20260424T012246
CREATED:20241129T123406Z
LAST-MODIFIED:20241129T123406Z
UID:13454-1733220000-1733230800@prospectsfoundation.org.uk
SUMMARY:Miller Fold Community Allotment session
DESCRIPTION:Join Sonja to learn new gardening skills\, socialise and relax in nature while supporting our productive community allotment! \nWe’ll be pruning currant bushes and harvesting chard. Please wear weather appropriate clothing and robust footwear. \nNo experience needed. Snacks\, and a warm welcome at each session! Everyone welcome. \nContact Sonja sonja.bottomer@prospectsfoundation.org.uk or phone 01254 230348 to find out more and get involved. \n 
URL:https://prospectsfoundation.org.uk/event/miller-fold-community-allotment-session-7/
LOCATION:Miller Fold Allotment\, Miller Fold Ave\, Accrington\, BB5 0NT\, United Kingdom
CATEGORIES:Conservation,Food Growing,Gardening,Nature Crafts,Volunteering
ATTACH;FMTTYPE=image/jpeg:https://prospectsfoundation.org.uk/wp-content/uploads/2024/11/IMG-20241120-WA0010.jpg
ORGANIZER;CN="Sonja%20Bottomer":MAILTO:sonja.bottomer@prospectsfoundation.org.uk
END:VEVENT
END:VCALENDAR