BEGIN:VCALENDAR
VERSION:2.0
PRODID:-//Prospects - ECPv5.14.1//NONSGML v1.0//EN
CALSCALE:GREGORIAN
METHOD:PUBLISH
X-WR-CALNAME:Prospects
X-ORIGINAL-URL:https://prospectsfoundation.org.uk
X-WR-CALDESC:Events for Prospects
BEGIN:VTIMEZONE
TZID:Europe/London
BEGIN:DAYLIGHT
TZOFFSETFROM:+0000
TZOFFSETTO:+0100
TZNAME:BST
DTSTART:20240331T010000
END:DAYLIGHT
BEGIN:STANDARD
TZOFFSETFROM:+0100
TZOFFSETTO:+0000
TZNAME:GMT
DTSTART:20241027T010000
END:STANDARD
END:VTIMEZONE
BEGIN:VEVENT
DTSTART;TZID=Europe/London:20241126T100000
DTEND;TZID=Europe/London:20241126T150000
DTSTAMP:20260424T005413
CREATED:20241028T154306Z
LAST-MODIFIED:20241028T154306Z
UID:13018-1732615200-1732633200@prospectsfoundation.org.uk
SUMMARY:Woodnook Vale - Hyndburn's Woodlands
DESCRIPTION:Join Hyndburn’s Woodlands Officer Brandon for weekly practical conservation sessions. This week\, we will be at Woodnook Vale LNR carrying out some pathway maintenance. Tasks include using spades and other hand tools to clear back encroaching vegetation. \nTools\, gloves and PPE will be provided. Please wear sturdy boots\, long sleeves and full length trousers as we may be working around brambles and nettles. Waterproofs may be needed\, depending on the weather. \nWe will be meeting on Mill Street\, BB5 2RT (Next to Baxenden Car Breakers on google maps) . Staff will be in orange hi-vis. There is on-street parking available. \nTo find out more or confirm your attendance\, please contact Brandon at brandon.cherry@prospectsfoundation.org.uk or 07733 840842
URL:https://prospectsfoundation.org.uk/event/woodnook-vale-hyndburns-woodlands-11/
LOCATION:Mill Street\, Mill Street\, Accrington\, Lancashire\, BB5 2RT
CATEGORIES:Health and wellbeing,Volunteering,Woodlands
ATTACH;FMTTYPE=image/jpeg:https://prospectsfoundation.org.uk/wp-content/uploads/2024/10/IMG_20240102_100842.jpg
ORGANIZER;CN="Brandon%20Cherry":MAILTO:brandon.cherry@prospectsfoundation.org.uk
END:VEVENT
BEGIN:VEVENT
DTSTART;TZID=Europe/London:20241126T100000
DTEND;TZID=Europe/London:20241126T130000
DTSTAMP:20260424T005413
CREATED:20241101T100506Z
LAST-MODIFIED:20241101T100506Z
UID:13285-1732615200-1732626000@prospectsfoundation.org.uk
SUMMARY:Miller Fold Community Allotment session
DESCRIPTION:Join Sonja to learn new gardening skills\, socialise and relax in nature while supporting our productive community allotment! \nActivities will include weeding\, planting and bed maintenance. Please wear weather appropriate clothing and robust footwear. \nNo experience needed. Snacks and brews will be provided. Everyone welcome. \nContact Sonja sonja.bottomer@prospectsfoundation.org.uk or phone 01254 230348 to find out more and get involved. \n 
URL:https://prospectsfoundation.org.uk/event/miller-fold-community-allotment-session-6/
LOCATION:Miller Fold Allotment\, Miller Fold Ave\, Accrington\, BB5 0NT\, United Kingdom
CATEGORIES:Conservation,Food Growing,Gardening,Nature Crafts,Volunteering
ATTACH;FMTTYPE=image/jpeg:https://prospectsfoundation.org.uk/wp-content/uploads/2024/10/IMG-20240917-WA0005.jpg
ORGANIZER;CN="Sonja%20Bottomer":MAILTO:sonja.bottomer@prospectsfoundation.org.uk
END:VEVENT
END:VCALENDAR