BEGIN:VCALENDAR
VERSION:2.0
PRODID:-//Prospects - ECPv5.14.1//NONSGML v1.0//EN
CALSCALE:GREGORIAN
METHOD:PUBLISH
X-WR-CALNAME:Prospects
X-ORIGINAL-URL:https://prospectsfoundation.org.uk
X-WR-CALDESC:Events for Prospects
BEGIN:VTIMEZONE
TZID:Europe/London
BEGIN:DAYLIGHT
TZOFFSETFROM:+0000
TZOFFSETTO:+0100
TZNAME:BST
DTSTART:20240331T010000
END:DAYLIGHT
BEGIN:STANDARD
TZOFFSETFROM:+0100
TZOFFSETTO:+0000
TZNAME:GMT
DTSTART:20241027T010000
END:STANDARD
END:VTIMEZONE
BEGIN:VEVENT
DTSTART;TZID=Europe/London:20241125T100000
DTEND;TZID=Europe/London:20241125T130000
DTSTAMP:20260423T233517
CREATED:20241031T133333Z
LAST-MODIFIED:20241031T133333Z
UID:13266-1732528800-1732539600@prospectsfoundation.org.uk
SUMMARY:NATIONAL TREE WEEK Tree Planting at Peel Park and the Coppice Local Nature Reserve
DESCRIPTION:Join our Community TreeACTION Officer Helen for a practical session planting hedgerow trees at Peel Park and the Coppice Local Nature Reserve in Accrington for NATIONAL TREE WEEK 2024! \n\nNo experience is necessary – just bring your enthusiasm!\nAll ages welcome. Children will need to be accompanied by an adult\nPlease wear suitable outdoor clothes and sturdy boots (wellies are advised)\n\nTo find out more or confirm your attendance\, please contact Helen at helen.earnshaw@prospectsfoundation.org.uk\, telephone 01254 230348\, or call into the Prospects office at 54 Broadway\, Accrington\, BB5 1EW. \nThe TreeACTION Project is a direct result of Hyndburn Borough Council’s Climate Emergency Declaration in September 2019 and is seen as one of the key projects where local people can help to reduce emissions within the borough.
URL:https://prospectsfoundation.org.uk/event/national-tree-week-tree-planting-at-peel-park-and-the-coppice-local-nature-reserve/
LOCATION:Peel Park and the Coppice Local Nature Reserve\, Main car park off Peel Park Avenue (next to the bowling green)\, Accrington\, Lancashire\, BB5 6HL\, United Kingdom
CATEGORIES:Conservation,Health and wellbeing,Peel Park and the Coppice LNR,Volunteering
ATTACH;FMTTYPE=image/png:https://prospectsfoundation.org.uk/wp-content/uploads/2024/01/Website-header-TfC-logo.png
ORGANIZER;CN="Helen%20Earnshaw%20-%20Community%20TreeACTION%20Officer":MAILTO:helen.earnshaw@prospectsfoundation.org.uk
END:VEVENT
BEGIN:VEVENT
DTSTART;TZID=Europe/London:20241125T100000
DTEND;TZID=Europe/London:20241125T130000
DTSTAMP:20260423T233517
CREATED:20241115T102311Z
LAST-MODIFIED:20241115T105956Z
UID:13375-1732528800-1732539600@prospectsfoundation.org.uk
SUMMARY:Hyndburn's Nature Reserve Volunteers session @Peel Park and the Coppice LNR
DESCRIPTION:Map showing the meeting point at Peel Park & the Coppice LNR. Click the image to be taken to the map.\nJoin us for our new Hyndburn’s Nature Reserves project! There will be weekly conservation volunteers sessions at Peel Park and \nthe Coppice Local Nature Reserve\, every Monday from 10am – 1pm. Come along to learn new skills\, meet people\, keep fit and help wildlife! \nTo express your interest or find out more\, email robert.gabryszak@prospectsfoundation.org.uk\, telephone 01254 230348 or call into the Prospects office at 54 Broadway\, Accrington \n 
URL:https://prospectsfoundation.org.uk/event/hyndburns-nature-reserve-volunteers-session-peel-park-and-the-coppice-lnr-2/
LOCATION:Peel Park and the Coppice Local Nature Reserve\, Main car park off Peel Park Avenue (next to the bowling green)\, Accrington\, Lancashire\, BB5 6HL\, United Kingdom
CATEGORIES:Conservation,Health and wellbeing,Peel Park and the Coppice LNR,Volunteering
ATTACH;FMTTYPE=image/png:https://prospectsfoundation.org.uk/wp-content/uploads/2024/11/PEEL-PARK-the-COPPICE-LNR.png
ORGANIZER;CN="Robert%20Gabryszak%20-%20LNR%20Project%20Officer":MAILTO:robert.gabryszak@prospectsfoundation.org.uk
END:VEVENT
END:VCALENDAR