BEGIN:VCALENDAR
VERSION:2.0
PRODID:-//Prospects - ECPv5.14.1//NONSGML v1.0//EN
CALSCALE:GREGORIAN
METHOD:PUBLISH
X-WR-CALNAME:Prospects
X-ORIGINAL-URL:https://prospectsfoundation.org.uk
X-WR-CALDESC:Events for Prospects
BEGIN:VTIMEZONE
TZID:Europe/London
BEGIN:DAYLIGHT
TZOFFSETFROM:+0000
TZOFFSETTO:+0100
TZNAME:BST
DTSTART:20240331T010000
END:DAYLIGHT
BEGIN:STANDARD
TZOFFSETFROM:+0100
TZOFFSETTO:+0000
TZNAME:GMT
DTSTART:20241027T010000
END:STANDARD
END:VTIMEZONE
BEGIN:VEVENT
DTSTART;TZID=Europe/London:20241121T100000
DTEND;TZID=Europe/London:20241121T150000
DTSTAMP:20260424T010635
CREATED:20241028T160249Z
LAST-MODIFIED:20241115T130125Z
UID:13026-1732183200-1732201200@prospectsfoundation.org.uk
SUMMARY:Rushton House Farm - Hyndburn's Woodlands
DESCRIPTION:Join Hyndburn’s Woodlands Officer Brandon for weekly practical conservation sessions. This week\, we will be at Rushton House Farm carrying out some hedgerow Maintenance. Tasks include using hand tools to clear back vegetation from the hedgerow\, freeing it up for Spring growth. \nTools\, gloves and PPE will be provided. Please wear sturdy boots\, long sleeves and full length trousers as we may be working around brambles and nettles. Waterproofs may be needed\, depending on the weather. \nWe will be meeting along Broadfield\, Oswaldtwistle\, BB5 3SA (Just before the Chick Inn Farm Shop on Google maps) . Staff will be in orange hi-vis. There is on-street parking available. \nTo find out more or confirm your attendance\, please contact Brandon at brandon.cherry@prospectsfoundation.org.uk or 07733 840842
URL:https://prospectsfoundation.org.uk/event/rushton-house-farm-hyndburns-woodlands-10/
LOCATION:Rushton House Farm\, Broadfield/Rough Hay Lane\, Oswaldtwistle\, BB5 3SF\, United Kingdom
CATEGORIES:Health and wellbeing,Volunteering,Woodlands
ATTACH;FMTTYPE=image/jpeg:https://prospectsfoundation.org.uk/wp-content/uploads/2024/10/IMG_20240319_121137-1.jpg
ORGANIZER;CN="Brandon%20Cherry":MAILTO:brandon.cherry@prospectsfoundation.org.uk
END:VEVENT
BEGIN:VEVENT
DTSTART;TZID=Europe/London:20241121T100000
DTEND;TZID=Europe/London:20241121T130000
DTSTAMP:20260424T010635
CREATED:20241118T153024Z
LAST-MODIFIED:20241118T153024Z
UID:13382-1732183200-1732194000@prospectsfoundation.org.uk
SUMMARY:Citizen Science Day: Water Quality Testing
DESCRIPTION:Join our Brookside Development Office Alice and the Ribble Rivers Trust for a citizen science event at Brookside. We will be collecting vital water quality data for the four lodges and lottice brook\, which will inform our management plan. \nNo experience is necessary and all training will be provided. \nWe will meet at the Stanhill Methodist Church at 10am before walking down to the site together. \nAll are welcome but under 18s must be supervised by an adult. Please contact Alice in advance if you require any additional support to attend this session-  alice.pooley@prospectsfoundation.org.uk \nPLEASE NOTE: PARKING ON NAB LANE IS STRICTLY PROHIBITED. PLEASE PARK ON THE STANHILL ROAD IF YOU DO NEED TO BRING A CAR.
URL:https://prospectsfoundation.org.uk/event/citizen-science-day-water-quality-testing/
LOCATION:Stanhill Methodist Church\, Nab Lane\, Oswaldtwistle\, Nab Lane\, Oswaldtwistle\, BB5 4PT
CATEGORIES:Canal,Conservation,Health and wellbeing,Outdoor Learning,Volunteering
ATTACH;FMTTYPE=image/png:https://prospectsfoundation.org.uk/wp-content/uploads/2024/11/WATER-QUALITY.png
ORGANIZER;CN="Alice%20Pooley":MAILTO:alice.pooley@prospectsfoundation.org.uk
END:VEVENT
END:VCALENDAR