BEGIN:VCALENDAR
VERSION:2.0
PRODID:-//Prospects - ECPv5.14.1//NONSGML v1.0//EN
CALSCALE:GREGORIAN
METHOD:PUBLISH
X-WR-CALNAME:Prospects
X-ORIGINAL-URL:https://prospectsfoundation.org.uk
X-WR-CALDESC:Events for Prospects
BEGIN:VTIMEZONE
TZID:Europe/London
BEGIN:DAYLIGHT
TZOFFSETFROM:+0000
TZOFFSETTO:+0100
TZNAME:BST
DTSTART:20240331T010000
END:DAYLIGHT
BEGIN:STANDARD
TZOFFSETFROM:+0100
TZOFFSETTO:+0000
TZNAME:GMT
DTSTART:20241027T010000
END:STANDARD
END:VTIMEZONE
BEGIN:VEVENT
DTSTART;TZID=Europe/London:20241120T120000
DTEND;TZID=Europe/London:20241120T150000
DTSTAMP:20260423T235452
CREATED:20241107T112952Z
LAST-MODIFIED:20241107T112952Z
UID:13358-1732104000-1732114800@prospectsfoundation.org.uk
SUMMARY:Community Tree Nursery -  Landscaping the Entrance with Alice
DESCRIPTION:Join our Brookside Development Office Alice for two sessions at the new Community Tree Nursery near Miller Fold. On Tuesday the 19th and Wednesday the 20th of October we will be landscaping the entrance to the site and carrying out general maintenance tasks. \nWe will meet at the bottom of Miller Fold Avenue (BBS ONY) at midday. Alice will be on site in high viz. \nIf you are driving\, please park at the top of the hill\, where the road is tarmac. There is no parking at the bottom of the hill and the road is unsurfaced. \nSturdy footwear and suitable work clothes are essential. \nTo confirm your attendance please contact Alice at alice.pooley@prospectsfoundation.org.uk \nPLEASE NOTE: Access to the nurseRy is steep and slippery.  A good level of physical fitness is required to attend this session and we can only accept volunteers ages 18 and over.
URL:https://prospectsfoundation.org.uk/event/community-tree-nursery-landscaping-the-entrance-with-alice-2/
LOCATION:Miller Fold Allotment\, Miller Fold Ave\, Accrington\, BB5 0NT\, United Kingdom
CATEGORIES:Conservation,Gardening,Health and wellbeing,Volunteering,Woodlands
ORGANIZER;CN="Alice%20Pooley":MAILTO:alice.pooley@prospectsfoundation.org.uk
END:VEVENT
BEGIN:VEVENT
DTSTART;TZID=Europe/London:20241120T183000
DTEND;TZID=Europe/London:20241120T210000
DTSTAMP:20260423T235452
CREATED:20241107T111500Z
LAST-MODIFIED:20241107T111500Z
UID:13350-1732127400-1732136400@prospectsfoundation.org.uk
SUMMARY:Wreath Making with Alice
DESCRIPTION:Join our Brookside Development Office Alice for a creative craft evening in the Stanhill Methodist Church. We will be creating festive wreaths from natural materials foraged from Brookside\, perfect to decorate your home this Christmas! \nNo experience is necessary and all materials will be provided. \nThis event is free to attend\, with an optional collection taking place on the night in aid of the Wildflower Meadow restoration work at Brookside. Each £1 raised will buy enough seeds to sow 1m of wildflower habitat for pollinators. \nAll are welcome but under 18s must be supervised by an adult. Please contact Alice in advance if you require any additional support to attend this session. \nTo book please contact Alice at alice.pooley@prospectsfoundation.org.uk \n  \nPLEASE NOTE: PARKING ON NAB LANE IS STRICTLY PROHIBITED. PLEASE PARK ON THE STANHILL ROAD IF YOU DO NEED TO BRING A CAR.
URL:https://prospectsfoundation.org.uk/event/wreath-making-with-alice/
LOCATION:Stanhill Methodist Church\, Nab Lane\, Oswaldtwistle\, Nab Lane\, Oswaldtwistle\, BB5 4PT
CATEGORIES:Conservation,Health and wellbeing,Nature Crafts,Traditional Crafts
ORGANIZER;CN="Alice%20Pooley":MAILTO:alice.pooley@prospectsfoundation.org.uk
END:VEVENT
END:VCALENDAR