BEGIN:VCALENDAR
VERSION:2.0
PRODID:-//Prospects - ECPv5.14.1//NONSGML v1.0//EN
CALSCALE:GREGORIAN
METHOD:PUBLISH
X-WR-CALNAME:Prospects
X-ORIGINAL-URL:https://prospectsfoundation.org.uk
X-WR-CALDESC:Events for Prospects
BEGIN:VTIMEZONE
TZID:Europe/London
BEGIN:DAYLIGHT
TZOFFSETFROM:+0000
TZOFFSETTO:+0100
TZNAME:BST
DTSTART:20240331T010000
END:DAYLIGHT
BEGIN:STANDARD
TZOFFSETFROM:+0100
TZOFFSETTO:+0000
TZNAME:GMT
DTSTART:20241027T010000
END:STANDARD
END:VTIMEZONE
BEGIN:VEVENT
DTSTART;TZID=Europe/London:20241119T100000
DTEND;TZID=Europe/London:20241119T150000
DTSTAMP:20260423T235635
CREATED:20241028T153701Z
LAST-MODIFIED:20241028T153701Z
UID:13015-1732010400-1732028400@prospectsfoundation.org.uk
SUMMARY:Whinney Hill - Hyndburn's Woodlands
DESCRIPTION:Join Hyndburn’s Woodlands Officer Brandon for weekly practical conservation sessions. This week\, we will be back at Whinney Hill woodland carrying out a site litter pick. \nTools\, gloves and PPE will be provided. Please wear sturdy boots\, long sleeves and full length trousers as we may be working around brambles and nettles. Waterproofs may be needed\, depending on the weather. \nWe will be meeting at the end of Thorneyholme Road\, BB5 5FW (Just next to the play area). Staff will be in orange hi-vis. There is on-street parking available. \nTo find out more or confirm your attendance\, please contact Brandon at brandon.cherry@prospectsfoundation.org.uk or 07733 840842
URL:https://prospectsfoundation.org.uk/event/whinney-hill-hyndburns-woodlands-42/
LOCATION:Whinney Hill Woodland – Thorneyholme Road\, Thorneyholme Road\, Accrington\, BB5 5BB\, United Kingdom
CATEGORIES:Health and wellbeing,Volunteering,Woodlands
ATTACH;FMTTYPE=image/jpeg:https://prospectsfoundation.org.uk/wp-content/uploads/2024/10/IMG_20240224_122536-1.jpg
ORGANIZER;CN="Brandon%20Cherry":MAILTO:brandon.cherry@prospectsfoundation.org.uk
END:VEVENT
BEGIN:VEVENT
DTSTART;TZID=Europe/London:20241119T100000
DTEND;TZID=Europe/London:20241119T110000
DTSTAMP:20260423T235635
CREATED:20241101T100420Z
LAST-MODIFIED:20241101T100420Z
UID:13283-1732010400-1732014000@prospectsfoundation.org.uk
SUMMARY:Miller Fold Community Allotment session
DESCRIPTION:Join Sonja to learn new gardening skills\, socialise and relax in nature while supporting our productive community allotment! \nActivities will include weeding\, planting and bed maintenance. Please wear weather appropriate clothing and robust footwear. \nNo experience needed. Snacks and brews will be provided. Everyone welcome. \nContact Sonja sonja.bottomer@prospectsfoundation.org.uk or phone 01254 230348 to find out more and get involved. \n 
URL:https://prospectsfoundation.org.uk/event/miller-fold-community-allotment-session-5/
LOCATION:Miller Fold Allotment\, Miller Fold Ave\, Accrington\, BB5 0NT\, United Kingdom
CATEGORIES:Conservation,Food Growing,Gardening,Nature Crafts,Volunteering
ATTACH;FMTTYPE=image/jpeg:https://prospectsfoundation.org.uk/wp-content/uploads/2024/10/IMG-20240917-WA0005.jpg
ORGANIZER;CN="Sonja%20Bottomer":MAILTO:sonja.bottomer@prospectsfoundation.org.uk
END:VEVENT
BEGIN:VEVENT
DTSTART;TZID=Europe/London:20241119T120000
DTEND;TZID=Europe/London:20241119T150000
DTSTAMP:20260423T235635
CREATED:20241107T112922Z
LAST-MODIFIED:20241107T112922Z
UID:13355-1732017600-1732028400@prospectsfoundation.org.uk
SUMMARY:Community Tree Nursery -  Landscaping the Entrance with Alice
DESCRIPTION:Join our Brookside Development Office Alice for two sessions at the new Community Tree Nursery near Miller Fold. On Tuesday the 19th and Wednesday the 20th of October we will be landscaping the entrance to the site and carrying out general maintenance tasks. \nWe will meet at the bottom of Miller Fold Avenue (BBS ONY) at midday. Alice will be on site in high viz. \nIf you are driving\, please park at the top of the hill\, where the road is tarmac. There is no parking at the bottom of the hill and the road is unsurfaced. \nSturdy footwear and suitable work clothes are essential. \nTo confirm your attendance please contact Alice at alice.pooley@prospectsfoundation.org.uk \nPLEASE NOTE: Access to the nurseRy is steep and slippery.  A good level of physical fitness is required to attend this session and we can only accept volunteers ages 18 and over.
URL:https://prospectsfoundation.org.uk/event/community-tree-nursery-landscaping-the-entrance-with-alice/
LOCATION:Miller Fold Allotment\, Miller Fold Ave\, Accrington\, BB5 0NT\, United Kingdom
CATEGORIES:Conservation,Gardening,Health and wellbeing,Volunteering,Woodlands
ORGANIZER;CN="Alice%20Pooley":MAILTO:alice.pooley@prospectsfoundation.org.uk
END:VEVENT
END:VCALENDAR